BEGIN:VCALENDAR
VERSION:2.0
PRODID:-//Escenario Tlaxcala - ECPv6.15.16//NONSGML v1.0//EN
CALSCALE:GREGORIAN
METHOD:PUBLISH
X-WR-CALNAME:Escenario Tlaxcala
X-ORIGINAL-URL:https://escenariotlx.com
X-WR-CALDESC:Eventos para Escenario Tlaxcala
REFRESH-INTERVAL;VALUE=DURATION:PT1H
X-Robots-Tag:noindex
X-PUBLISHED-TTL:PT1H
BEGIN:VTIMEZONE
TZID:America/New_York
BEGIN:DAYLIGHT
TZOFFSETFROM:-0500
TZOFFSETTO:-0400
TZNAME:EDT
DTSTART:20220313T070000
END:DAYLIGHT
BEGIN:STANDARD
TZOFFSETFROM:-0400
TZOFFSETTO:-0500
TZNAME:EST
DTSTART:20221106T060000
END:STANDARD
BEGIN:DAYLIGHT
TZOFFSETFROM:-0500
TZOFFSETTO:-0400
TZNAME:EDT
DTSTART:20230312T070000
END:DAYLIGHT
BEGIN:STANDARD
TZOFFSETFROM:-0400
TZOFFSETTO:-0500
TZNAME:EST
DTSTART:20231105T060000
END:STANDARD
BEGIN:DAYLIGHT
TZOFFSETFROM:-0500
TZOFFSETTO:-0400
TZNAME:EDT
DTSTART:20240310T070000
END:DAYLIGHT
BEGIN:STANDARD
TZOFFSETFROM:-0400
TZOFFSETTO:-0500
TZNAME:EST
DTSTART:20241103T060000
END:STANDARD
END:VTIMEZONE
BEGIN:VEVENT
DTSTART;TZID=America/New_York:20230403T090000
DTEND;TZID=America/New_York:20230414T150000
DTSTAMP:20260425T062500
CREATED:20230404T184751Z
LAST-MODIFIED:20230404T185705Z
UID:10000250-1680512400-1681484400@escenariotlx.com
SUMMARY:Terapias alternativas en el Instituto Municipal de la Mujer Apizaco
DESCRIPTION:El ayuntamiento de Apizaco te invita a las terapias alternativas en el Instituto Municipal de la Mujer Apizaco. Encontrarás acupuntura\, herbolaria\, homeopatía y quiropráctico. \nSerán de lunes a viernes de 9:00 a 15:00 horas en Kiosko del parque Cuauhtémoc en el municipios de Apizaco. \n \n¡No te pierdas de esta gran oportunidad! Cuota de recuperación: 50 pesos \n¿Cómo funcionan estas terapias alternativas?\nAcupuntura\nLa acupuntura se usa principalmente para aliviar las molestias asociadas con distintas enfermedades y trastornos\, entre ellos\, náuseas\, vómitos inducidos por quimioterapia y postoperatorios\, dolor dental\, fibromialgia\, dolores de cabeza\, dolores en el trabajo de parto\, dolor en la región lumbar\, dolor de cuello\, artrosis\, dolores menstruales o trastornos respiratorios. \nHerbolaria\nLa herbolaria es la aplicación de la botánica a la medicina; es decir\, al uso de hierbas medicinales en función de utilizar sus propiedades para sanar enfermedades que aquejan al ser humano y a otras especies\, en función de mejorar la salud. Los principios activos presentes en diferentes órganos son extraídos a partir de una sola planta con la finalidad de tratar diversas enfermedades. \nHomeopatía\nLa homeopatía\, o medicina homeopática\, se basa en la idea de que el cuerpo tiene la capacidad de sanarse a sí mismo. La medicina homeopática ve los síntomas de enfermedad como respuestas normales del cuerpo mientras intenta recuperar la salud. Va con la idea de «lo similar cura lo similar». Es decir\, si una sustancia causa un síntoma en una persona sana\, darle a la persona una cantidad muy pequeña de la misma sustancia podría curar la enfermedad. \nQuiropráctico\nLos quiroprácticos realizan ajustes de la columna vertebral u otras partes del cuerpo. El objetivo es corregir problemas de postura del cuerpo\, aliviar el dolor y asistir la capacidad natural del cuerpo de curarse a sí mismo. Muchas personas acuden a los quiroprácticos para tratar el dolor de espalda baja\, dolor de cuello y dolores de cabeza.
URL:https://escenariotlx.com/evento/terapias-alternativas-en-instituto-mujer/
LOCATION:Kiosko del parque Cuauhtémoc Apizaco\, Tlaxcala\, México
CATEGORIES:Salud
ATTACH;FMTTYPE=image/jpeg:https://escenariotlx.com/wp-content/uploads/2023/04/terapias-alternativas.jpg
END:VEVENT
BEGIN:VEVENT
DTSTART;VALUE=DATE:20230405
DTEND;VALUE=DATE:20230406
DTSTAMP:20260425T062500
CREATED:20230404T173020Z
LAST-MODIFIED:20230404T180525Z
UID:10000248-1680652800-1680739199@escenariotlx.com
SUMMARY:Senderismo "Huiloapan en luna llena"
DESCRIPTION:Oactli Tours te invita a la nueva experiencia de Huiloapan\, senderismo\, meditación en un escenario nuevo\, conjuntando las esencias de la luna y el río. Pon tu granito de arena en el taller ambiental. \n \n¡Esta semana santa en Tlaxcala no te pierdas de una experiencia en luna llena! \nUna dato:\nEl pueblo de San Tadeo Huiloapan está situado a 7.6 kilómetros de Panotla\, que es la localidad más poblada del municipio.
URL:https://escenariotlx.com/evento/senderismo-huiloapan-en-luna-llena-oactli/
LOCATION:Huiloapan
CATEGORIES:Ecología,Talleres
ATTACH;FMTTYPE=image/jpeg:https://escenariotlx.com/wp-content/uploads/2023/04/o.jpg
END:VEVENT
END:VCALENDAR