BEGIN:VCALENDAR
VERSION:2.0
PRODID:-//Escenario Tlaxcala - ECPv6.15.16//NONSGML v1.0//EN
CALSCALE:GREGORIAN
METHOD:PUBLISH
X-WR-CALNAME:Escenario Tlaxcala
X-ORIGINAL-URL:https://escenariotlx.com
X-WR-CALDESC:Eventos para Escenario Tlaxcala
REFRESH-INTERVAL;VALUE=DURATION:PT1H
X-Robots-Tag:noindex
X-PUBLISHED-TTL:PT1H
BEGIN:VTIMEZONE
TZID:America/New_York
BEGIN:DAYLIGHT
TZOFFSETFROM:-0500
TZOFFSETTO:-0400
TZNAME:EDT
DTSTART:20220313T070000
END:DAYLIGHT
BEGIN:STANDARD
TZOFFSETFROM:-0400
TZOFFSETTO:-0500
TZNAME:EST
DTSTART:20221106T060000
END:STANDARD
BEGIN:DAYLIGHT
TZOFFSETFROM:-0500
TZOFFSETTO:-0400
TZNAME:EDT
DTSTART:20230312T070000
END:DAYLIGHT
BEGIN:STANDARD
TZOFFSETFROM:-0400
TZOFFSETTO:-0500
TZNAME:EST
DTSTART:20231105T060000
END:STANDARD
BEGIN:DAYLIGHT
TZOFFSETFROM:-0500
TZOFFSETTO:-0400
TZNAME:EDT
DTSTART:20240310T070000
END:DAYLIGHT
BEGIN:STANDARD
TZOFFSETFROM:-0400
TZOFFSETTO:-0500
TZNAME:EST
DTSTART:20241103T060000
END:STANDARD
END:VTIMEZONE
BEGIN:VEVENT
DTSTART;TZID=America/New_York:20230410T090000
DTEND;TZID=America/New_York:20230423T170000
DTSTAMP:20260425T092051
CREATED:20230405T160422Z
LAST-MODIFIED:20230405T160422Z
UID:10000252-1681117200-1682269200@escenariotlx.com
SUMMARY:Esterilización para caninos y felinos en Tlaxco
DESCRIPTION:El ayuntamiento de Tlaxco invita a la campaña de esterilización para perros y gatos. \nVerifica las fechas según tu comunidad\, registrate y aparta tu lugar ya que se estarán realizando 50 esterilizaciones por dia\, a partir de las 9:00a.m. \nCheca aquí fechas y comunidades: \n \nSe un dueño responsable y ofréceles una oportunidad más a tus mascotas. Ellos merecen una mejor calidad de vida.
URL:https://escenariotlx.com/evento/esterilizacion-caninos-y-felinos-en-tlaxco/
LOCATION:Tlaxco\, Tlaxco\, Tlaxcala\, México
CATEGORIES:Ecología,Salud
ATTACH;FMTTYPE=image/jpeg:https://escenariotlx.com/wp-content/uploads/2023/04/esterilizacion.jpg
END:VEVENT
BEGIN:VEVENT
DTSTART;TZID=America/New_York:20230415T100000
DTEND;TZID=America/New_York:20230415T130000
DTSTAMP:20260425T092051
CREATED:20230413T015343Z
LAST-MODIFIED:20230413T015343Z
UID:10000259-1681552800-1681563600@escenariotlx.com
SUMMARY:Zacatelco\, patrimonios y memorias comunitarias
DESCRIPTION:La Secretaría de Cultura de Tlaxcala invita a «Zacatelco\, patrimonios y memorias comunitarias» en el Centro Cultural de Zacatelco. \nDurante las actividades habrá zanqueros\, malabares\, dance fire\, rock para niños\, títeres\, talleres sensoriales\, conversatorios\, conferencias\, cultura alimentaria y mucho más. \nLas actividades son totalmente gratuitas y dirigidas a toda la familia.El 15 de abril de 10:00 hrs. a 13:00 hrs. \n \n\nTe puede interesar este evento: JuventudesFEST: Concierto de SKA\, salto de skate y espectáculo de dinosaurios
URL:https://escenariotlx.com/evento/zacatelco-patrimonio-memorias-comunitarias/
LOCATION:Centro Cultural de Zacatelco
CATEGORIES:Cursos,Festivales,Foro,Talleres
ATTACH;FMTTYPE=image/jpeg:https://escenariotlx.com/wp-content/uploads/2023/04/zacatelco.jpg
END:VEVENT
BEGIN:VEVENT
DTSTART;TZID=America/New_York:20230415T130000
DTEND;TZID=America/New_York:20230415T180000
DTSTAMP:20260425T092051
CREATED:20230414T170850Z
LAST-MODIFIED:20230414T170850Z
UID:10000265-1681563600-1681581600@escenariotlx.com
SUMMARY:Punto de lectura Alquimagina; lectura\, narraciones y cuentos
DESCRIPTION:La Secretaría de Cultura de Tlaxcala invita a que asistas en familia en Alquimagina punto de lectura\, con narraciones\, cuentos y mucho más. \nSeleste Posadas y Renata Luna presentarán ¿Cómo leemos la diversidad? y será dirigido a niñas y niños a partir de los 6 años de edad. \nAcude el sábado 15 de Abril de 2023 al Palacio de Cultura Tlaxcala a las 13:00 horas. \nLa entrada es libre. \n \n\nTe puede interesar este evento: Zacatelco\, patrimonios y memorias comunitarias
URL:https://escenariotlx.com/evento/lectura-alquimagina-narraciones-cuentos/
LOCATION:Palacio de Cultura Tlaxcala
CATEGORIES:Libros
ATTACH;FMTTYPE=image/jpeg:https://escenariotlx.com/wp-content/uploads/2023/04/Alquimagina.jpg
END:VEVENT
END:VCALENDAR