BEGIN:VCALENDAR
VERSION:2.0
PRODID:-//Escenario Tlaxcala - ECPv6.15.16//NONSGML v1.0//EN
CALSCALE:GREGORIAN
METHOD:PUBLISH
X-WR-CALNAME:Escenario Tlaxcala
X-ORIGINAL-URL:https://escenariotlx.com
X-WR-CALDESC:Eventos para Escenario Tlaxcala
REFRESH-INTERVAL;VALUE=DURATION:PT1H
X-Robots-Tag:noindex
X-PUBLISHED-TTL:PT1H
BEGIN:VTIMEZONE
TZID:America/New_York
BEGIN:DAYLIGHT
TZOFFSETFROM:-0500
TZOFFSETTO:-0400
TZNAME:EDT
DTSTART:20220313T070000
END:DAYLIGHT
BEGIN:STANDARD
TZOFFSETFROM:-0400
TZOFFSETTO:-0500
TZNAME:EST
DTSTART:20221106T060000
END:STANDARD
BEGIN:DAYLIGHT
TZOFFSETFROM:-0500
TZOFFSETTO:-0400
TZNAME:EDT
DTSTART:20230312T070000
END:DAYLIGHT
BEGIN:STANDARD
TZOFFSETFROM:-0400
TZOFFSETTO:-0500
TZNAME:EST
DTSTART:20231105T060000
END:STANDARD
BEGIN:DAYLIGHT
TZOFFSETFROM:-0500
TZOFFSETTO:-0400
TZNAME:EDT
DTSTART:20240310T070000
END:DAYLIGHT
BEGIN:STANDARD
TZOFFSETFROM:-0400
TZOFFSETTO:-0500
TZNAME:EST
DTSTART:20241103T060000
END:STANDARD
END:VTIMEZONE
BEGIN:VEVENT
DTSTART;TZID=America/New_York:20230410T090000
DTEND;TZID=America/New_York:20230423T170000
DTSTAMP:20260425T092151
CREATED:20230405T160422Z
LAST-MODIFIED:20230405T160422Z
UID:10000252-1681117200-1682269200@escenariotlx.com
SUMMARY:Esterilización para caninos y felinos en Tlaxco
DESCRIPTION:El ayuntamiento de Tlaxco invita a la campaña de esterilización para perros y gatos. \nVerifica las fechas según tu comunidad\, registrate y aparta tu lugar ya que se estarán realizando 50 esterilizaciones por dia\, a partir de las 9:00a.m. \nCheca aquí fechas y comunidades: \n \nSe un dueño responsable y ofréceles una oportunidad más a tus mascotas. Ellos merecen una mejor calidad de vida.
URL:https://escenariotlx.com/evento/esterilizacion-caninos-y-felinos-en-tlaxco/
LOCATION:Tlaxco\, Tlaxco\, Tlaxcala\, México
CATEGORIES:Ecología,Salud
ATTACH;FMTTYPE=image/jpeg:https://escenariotlx.com/wp-content/uploads/2023/04/esterilizacion.jpg
END:VEVENT
BEGIN:VEVENT
DTSTART;TZID=America/New_York:20230417T090000
DTEND;TZID=America/New_York:20230424T170000
DTSTAMP:20260425T092151
CREATED:20230405T162916Z
LAST-MODIFIED:20230405T162916Z
UID:10000253-1681722000-1682355600@escenariotlx.com
SUMMARY:Esterilización para perros y gatos en Papalotla
DESCRIPTION:El ayuntamiento de Papalotla de Xicohténcatl\, a través de la Regiduría de Salud y en coordinación con Centro Veterinario Antirrábico\, dan a conocer el calendario para la campaña de esterilización de perros y gatos\, que se llevará a cabo en este Municipio y sus comunidades\, bajo el siguiente orden: \n• SAN MARCOS CONTLA. – 17 DE ABRIL\, PRESIDENCIA AUXILIAR\, a partir de las 09:00 hrs.\, hasta cumplir con 50 esterilizaciones.\n• PANZACOLA. – 18 DE ABRIL\, AUDITORIO\, a partir de las 09:00 hrs.\, hasta cumplir con 50 esterilizaciones.\n• SAN BUENAVENTURA. – 19 DE ABRIL\, PRESIDENCIA AUXILIAR\, a partir de las 09:00 hrs.\, hasta cumplir con 50 esterilizaciones.\n• PAPALOTLA. – 20\, 21 Y 24 DE ABRIL\, AUDITORIO MUNICIPAL\, a partir de las 09:00 hrs.\, hasta cumplir con 50 esterilizaciones por día.
URL:https://escenariotlx.com/evento/esterilizacion-perros-y-gatos-en-papalotla/
LOCATION:Papalotla de Xicohténcatl
CATEGORIES:Ecología,Salud
ATTACH;FMTTYPE=image/jpeg:https://escenariotlx.com/wp-content/uploads/2023/04/esterilizacion-1.jpg
END:VEVENT
BEGIN:VEVENT
DTSTART;TZID=America/New_York:20230422T090000
DTEND;TZID=America/New_York:20230422T120000
DTSTAMP:20260425T092151
CREATED:20230417T181339Z
LAST-MODIFIED:20230417T181532Z
UID:10000270-1682154000-1682164800@escenariotlx.com
SUMMARY:Inauguración de la estación “Tacos de Palabra”
DESCRIPTION:Este sábado no te puedes perder la inauguración de la estación “Tacos de Palabra” a las 9:00 hrs. en el Museo Miguel N. Lira. \nEste evento es parte de las actividades en marco de la celebración del Día del Libro📚\, en donde podrás disfrutar de lecturas en voz alta\, cuentacuentos\, actividades lúdicas para todas las edades a cargo de las mediadoras y mediadores del Programa Nacional de Salas de Lectura\, todas las actividades son completamente gratuitas. \n¡El Museo Miguel N. Lira te espera con los libros abiertos! \n \n\nTe puede interesar este evento: JuventudesFEST: Concierto de SKA\, salto de skate y espectáculo de dinosaurios
URL:https://escenariotlx.com/evento/inauguracion-la-estacion-tacos-de-palabra/
LOCATION:Museo Miguel N. Lira
CATEGORIES:Libros
ATTACH;FMTTYPE=image/png:https://escenariotlx.com/wp-content/uploads/2023/04/341092226_528153109394608_5993995276056679660_n.png
END:VEVENT
BEGIN:VEVENT
DTSTART;TZID=America/New_York:20230422T120000
DTEND;TZID=America/New_York:20230422T140000
DTSTAMP:20260425T092151
CREATED:20230417T174905Z
LAST-MODIFIED:20230417T174905Z
UID:10000269-1682164800-1682172000@escenariotlx.com
SUMMARY:Lectura en Voz Alta "Leo\, Luego Existo"
DESCRIPTION:María del Carmen Félix realizará la lectura en voz alta «Leo\, Luego Existo» el sábado 22 de Abril en la explanada del Museo Miguel N. Lira a las 12:00 hrs. \nEste evento es parte de las actividades en marco de la celebración del Día del Libro📚\, en donde podrás disfrutar de lecturas en voz alta\, cuentacuentos\, actividades lúdicas para todas las edades a cargo de las mediadoras y mediadores del Programa Nacional de Salas de Lectura\, todas las actividades son completamente gratuitas. \n¡El Museo Miguel N. Lira te espera con los libros abiertos! \n \n\nTe puede interesar este evento: Presentación del libro impreso & ebook “347 Postales”
URL:https://escenariotlx.com/evento/lectura-en-voz-alta-leo-luego-existo/
LOCATION:Museo Miguel N. Lira
CATEGORIES:Libros
ATTACH;FMTTYPE=image/png:https://escenariotlx.com/wp-content/uploads/2023/04/341098397_1656860238082852_1655275809279000791_n.png
END:VEVENT
BEGIN:VEVENT
DTSTART;TZID=America/New_York:20230422T130000
DTEND;TZID=America/New_York:20230422T190000
DTSTAMP:20260425T092151
CREATED:20230405T170934Z
LAST-MODIFIED:20230405T170934Z
UID:10000255-1682168400-1682190000@escenariotlx.com
SUMMARY:JuventudesFEST: Concierto de SKA\, salto de skate y espectáculo de dinosaurios
DESCRIPTION:El ayuntamiento de Tetlanohcan\, la dirección de Cultura y el Instituto Tlaxcalteca de la Juventud en coordinación con Conexión Juvenil Tlaxcala\, invitan a que este 22 de abril pases un buen rato en el JuventudesFEST\, donde nuestros amigos de Skapital Sound\, The Peores\, Artenea\, La Maria\, Crazy Saurios\, DoctorCaos y Caribe Punk van a tocar en el escenario dentro del Parque de la Juventud. \nAdemás habrá concurso al mejor Salto Skate y espectáculo de dinosaurios. \nIMPORTANTE: Para recibir tu boleto\, preséntate en las instalaciones del ITJ\, dentro del Parque de la Juventud\, con tu donación de útiles escolares.
URL:https://escenariotlx.com/evento/juventudesfest-concierto-ska-skate/
LOCATION:Parque de la Juventud
CATEGORIES:Conciertos,Concursos,Festivales
ATTACH;FMTTYPE=image/jpeg:https://escenariotlx.com/wp-content/uploads/2023/04/ska.jpg
END:VEVENT
BEGIN:VEVENT
DTSTART;TZID=America/New_York:20230422T160000
DTEND;TZID=America/New_York:20230422T180000
DTSTAMP:20260425T092151
CREATED:20230417T173411Z
LAST-MODIFIED:20230417T173411Z
UID:10000268-1682179200-1682186400@escenariotlx.com
SUMMARY:Presentación del libro impreso & ebook “347 Postales”
DESCRIPTION:En el Marco Del X Festival Literario 30700\, Soconusco Emergente Editorial invita a la presentación del libro impreso & ebook “347 Postales”\, de la autora Adriana Cuacenetl Solis. \nEl sábado 22 de abril a las 16:00hrs. en el museo Miguel N. Lira. \nComenta:\nAgustina Reyes Maldonado \nEste evento es parte de las actividades en marco de la celebración del Día del Libro📚\, en donde podrás disfrutar de lecturas en voz alta\, cuentacuentos\, actividades lúdicas para todas las edades a cargo de las mediadoras y mediadores del Programa Nacional de Salas de Lectura\, todas las actividades son completamente gratuitas. \n¡El Museo Miguel N. Lira te espera con los libros abiertos! \n \n\nTe puede interesar este evento: Festival del Maguey en Altzayanca
URL:https://escenariotlx.com/evento/presentacion-del-libro-347-postales/
LOCATION:Museo Miguel N. Lira
CATEGORIES:Libros
ATTACH;FMTTYPE=image/jpeg:https://escenariotlx.com/wp-content/uploads/2023/04/presentacion-de-de-libro.jpg
END:VEVENT
END:VCALENDAR