BEGIN:VCALENDAR
VERSION:2.0
PRODID:-//Escenario Tlaxcala - ECPv6.15.16//NONSGML v1.0//EN
CALSCALE:GREGORIAN
METHOD:PUBLISH
X-WR-CALNAME:Escenario Tlaxcala
X-ORIGINAL-URL:https://escenariotlx.com
X-WR-CALDESC:Eventos para Escenario Tlaxcala
REFRESH-INTERVAL;VALUE=DURATION:PT1H
X-Robots-Tag:noindex
X-PUBLISHED-TTL:PT1H
BEGIN:VTIMEZONE
TZID:America/New_York
BEGIN:DAYLIGHT
TZOFFSETFROM:-0500
TZOFFSETTO:-0400
TZNAME:EDT
DTSTART:20220313T070000
END:DAYLIGHT
BEGIN:STANDARD
TZOFFSETFROM:-0400
TZOFFSETTO:-0500
TZNAME:EST
DTSTART:20221106T060000
END:STANDARD
BEGIN:DAYLIGHT
TZOFFSETFROM:-0500
TZOFFSETTO:-0400
TZNAME:EDT
DTSTART:20230312T070000
END:DAYLIGHT
BEGIN:STANDARD
TZOFFSETFROM:-0400
TZOFFSETTO:-0500
TZNAME:EST
DTSTART:20231105T060000
END:STANDARD
BEGIN:DAYLIGHT
TZOFFSETFROM:-0500
TZOFFSETTO:-0400
TZNAME:EDT
DTSTART:20240310T070000
END:DAYLIGHT
BEGIN:STANDARD
TZOFFSETFROM:-0400
TZOFFSETTO:-0500
TZNAME:EST
DTSTART:20241103T060000
END:STANDARD
END:VTIMEZONE
BEGIN:VEVENT
DTSTART;TZID=America/New_York:20230428T160000
DTEND;TZID=America/New_York:20230504T200000
DTSTAMP:20260425T120745
CREATED:20230428T165816Z
LAST-MODIFIED:20230428T165920Z
UID:10000288-1682697600-1683230400@escenariotlx.com
SUMMARY:Proyección de la película “EO” del director Jerzy Skolimowski
DESCRIPTION:La Sala de Arte Miguel N. Lira presenta la película «EO». \n«𝘌𝘭 𝘭𝘦𝘨𝘦𝘯𝘥𝘢𝘳𝘪𝘰 𝘥𝘪𝘳𝘦𝘤𝘵𝘰𝘳 𝘑𝘦𝘳𝘻𝘺 𝘚𝘬𝘰𝘭𝘪𝘮𝘰𝘸𝘴𝘬𝘪 𝘥𝘪𝘳𝘪𝘨𝘦 𝘶𝘯𝘢 𝘥𝘦 𝘴𝘶𝘴 𝘱𝘦𝘭𝘪́𝘤𝘶𝘭𝘢𝘴 𝘮𝘢́𝘴 𝘭𝘪𝘣𝘳𝘦𝘴 𝘺 𝘷𝘪𝘴𝘶𝘢𝘭𝘮𝘦𝘯𝘵𝘦 𝘪𝘯𝘷𝘦𝘯𝘵𝘪𝘷𝘢𝘴\, 𝘴𝘪𝘨𝘶𝘪𝘦𝘯𝘥𝘰 𝘦𝘭 𝘷𝘪𝘢𝘫𝘦 𝘥𝘦 𝘶𝘯 𝘣𝘶𝘳𝘳𝘰 𝘨𝘳𝘪𝘴 𝘭𝘭𝘢𝘮𝘢𝘥𝘰 𝘌𝘰. 𝘛𝘳𝘢𝘴 𝘴𝘦𝘳 𝘦𝘹𝘱𝘶𝘭𝘴𝘢𝘥𝘰 𝘥𝘦𝘭 𝘤𝘪𝘳𝘤𝘰 𝘢𝘮𝘣𝘶𝘭𝘢𝘯𝘵𝘦\, 𝘌𝘰 𝘦𝘮𝘱𝘳𝘦𝘯𝘥𝘦 𝘶𝘯𝘢 𝘵𝘳𝘢𝘷𝘦𝘴𝘪́𝘢 𝘱𝘰𝘳 𝘭𝘢 𝘤𝘢𝘮𝘱𝘪𝘯̃𝘢 𝘱𝘰𝘭𝘢𝘤𝘢 𝘦 𝘪𝘵𝘢𝘭𝘪𝘢𝘯𝘢\, 𝘦𝘹𝘱𝘦𝘳𝘪𝘮𝘦𝘯𝘵𝘢𝘯𝘥𝘰 𝘤𝘳𝘶𝘦𝘭𝘥𝘢𝘥 𝘺 𝘣𝘰𝘯𝘥𝘢𝘥 𝘢 𝘱𝘢𝘳𝘵𝘦𝘴 𝘪𝘨𝘶𝘢𝘭𝘦𝘴. 𝘐𝘯𝘴𝘱𝘪𝘳𝘢𝘥𝘢 𝘭𝘪𝘣𝘳𝘦𝘮𝘦𝘯𝘵𝘦 𝘦𝘯 𝘈𝘭 𝘢𝘻𝘢𝘳\, 𝘉𝘢𝘭𝘵𝘢𝘴𝘢𝘳 (1966)\, 𝘥𝘦 𝘙𝘰𝘣𝘦𝘳𝘵 𝘉𝘳𝘦𝘴𝘴𝘰𝘯\, 𝘌𝘖 𝘴𝘪𝘵𝘶́𝘢 𝘢𝘭 𝘦𝘴𝘱𝘦𝘤𝘵𝘢𝘥𝘰𝘳 𝘦𝘯 𝘭𝘢 𝘱𝘦𝘳𝘴𝘱𝘦𝘤𝘵𝘪𝘷𝘢 𝘥𝘦 𝘴𝘶 𝘱𝘳𝘰𝘵𝘢𝘨𝘰𝘯𝘪𝘴𝘵𝘢 𝘤𝘶𝘢𝘥𝘳𝘶́𝘱𝘦𝘥𝘰 𝘮𝘪𝘦𝘯𝘵𝘳𝘢𝘴 𝘦𝘴 𝘵𝘦𝘴𝘵𝘪𝘨𝘰 𝘥𝘦 𝘭𝘰𝘴 𝘦𝘹𝘤𝘦𝘴𝘰𝘴 𝘺 𝘮𝘢𝘭𝘦𝘴 𝘥𝘦 𝘭𝘢 𝘴𝘰𝘤𝘪𝘦𝘥𝘢𝘥 𝘦𝘶𝘳𝘰𝘱𝘦𝘢 𝘢𝘤𝘵𝘶𝘢𝘭» \nDel 28 de Abril al 04 de Mayo \nHorario de funciones 4:00 y 6:00 pm \nEntrada General: $30.00 pesos \n¡Imperdible y muy emotiva cinta que tienen que vivir! \n \nInformación de la película \nDirector: Jerzy Skolimowski\nGuión: Ewa Piaskowska y Jerzy Skolimowski\nDirector de Fotografía: Mychał Dymek\nFotografía: Color\nMúsica original: Paweł Mykietyn\nEdición: Agnieszka Glińska\nCon: Sandra Drzymalska (Kasandra)\, Tomasz Organek (Ziom)\, Lorenzo Zurzolo (Vito)\, Mateusz Kościukiewicz (Mateo)\, Isabelle Huppert (la condesa)\nProductor: Ewa Piaskowska y Jerzy Skolimowski\nProductora: Skopia Film\, Alien Films\nDistribuidora: Cine Caníbal\nClasificación: B \n \n\nTe puede interesar este evento: Documental Yahuitl Wan Kostik en la Sala de Arte Miguel N. Lira 
URL:https://escenariotlx.com/evento/proyeccion-pelicula-eo-miguel-n-lira/
LOCATION:Sala de Arte Miguel N. Lira\, Interior del Jardín Botánico de Tizatlán\, Tlaxcala\, Tlaxcala\, 90105\, México
CATEGORIES:Cine
ATTACH;FMTTYPE=image/jpeg:https://escenariotlx.com/wp-content/uploads/2023/04/343940732_221711387157886_6307041227118849179_n-1.jpg
END:VEVENT
BEGIN:VEVENT
DTSTART;TZID=America/New_York:20230430T050000
DTEND;TZID=America/New_York:20230430T120000
DTSTAMP:20260425T120745
CREATED:20230404T192450Z
LAST-MODIFIED:20230404T192450Z
UID:10000251-1682830800-1682856000@escenariotlx.com
SUMMARY:Senderismo en la malinche
DESCRIPTION:El Ayuntamiento de San Pablo del Monte\, a través del Instituto de la Juventud\, te invita a participar en la actividad de senderismo en la malinche el próximo 30 de abril. \nInscríbete y vive una de las mejores experiencias de tu vida. Fecha límite de inscripción\, viernes 14 de abril. \n¡Cupo limitado! \nRequisitos: \n\nParticipar en otra actividad del IMJUVE (cursos\, rodadas nocturnas y taller)\nSer mayor de 18 años\n\nCuota de recuperación $90
URL:https://escenariotlx.com/evento/senderismo-en-la-malinche-san-pablo-monte/
LOCATION:San Pablo del Monte\, Tlaxcala
CATEGORIES:Ecología
ATTACH;FMTTYPE=image/jpeg:https://escenariotlx.com/wp-content/uploads/2023/04/san-pablo-del-monte.jpg
END:VEVENT
BEGIN:VEVENT
DTSTART;TZID=America/New_York:20230430T110000
DTEND;TZID=America/New_York:20230430T160000
DTSTAMP:20260425T120745
CREATED:20230424T193034Z
LAST-MODIFIED:20230424T193306Z
UID:10000278-1682852400-1682870400@escenariotlx.com
SUMMARY:Día de la niñez en Amaxac de Guerrero
DESCRIPTION:El Ayuntamiento de Guerrero tiene preparada una excelente cartelera para las reinas y reyes del hogar; nuestra niñez amaxaquense podrá disfrutar de:   \n\nEcotalleres en coordinación con la orgnización «Toktli».\nTendremos una «Fiesta de Espuma»\nNuestra programación de Domingueando en familia\, estará dedicada solo a nuestra niñez.\n¡Habrá sopresas y regalos!\n\nPara que los niños y niñas de Amaxac se sumen a la iniciativa Ecocanjea\, trae algunos de los siguientes residuos para participar en los  ecotalleres. \n\nColillas de cigarro\nTapitas de plástico\nEnvases de Tetrapak\nEnvases de Unisel\nBotellas de Pet\nBotellas de Vidrio\nAceite de Cocina\n\nEl evento se realizará el 30 de abril\, a partir de las 11 de la mañana en la explanada municipal. \n \n \n \n\nTe puede interesar este evento: Senderismo en la malinche
URL:https://escenariotlx.com/evento/ninez-amaxac-dia-del-nino-ayuntamiento/
LOCATION:Amaxac de Guerrero
CATEGORIES:Festivales,Música,Talleres
ATTACH;FMTTYPE=image/jpeg:https://escenariotlx.com/wp-content/uploads/2023/04/dia-de-la-ninez-en-amaxc.jpg
END:VEVENT
BEGIN:VEVENT
DTSTART;TZID=America/New_York:20230430T130000
DTEND;TZID=America/New_York:20230430T180000
DTSTAMP:20260425T120745
CREATED:20230429T032542Z
LAST-MODIFIED:20230429T032542Z
UID:10000289-1682859600-1682877600@escenariotlx.com
SUMMARY:Festeja el día del niño y de la niña en Tepetitla de Lardizábal
DESCRIPTION:El presidente municipal Dr. Alan Alvarado te invita a festejar el día del niño y de la niña en Tepetitla de Lardizábal. \nHabrá show de payasos\, juegos\, regalos y mucha diversión. \nEl evento será en la explanada de la presidencia municipal\, a partir de las 13:00 hrs. \n \n\nTe pude interesar este evento: Senderismo en la malinche
URL:https://escenariotlx.com/evento/festeja-dia-del-nino-y-nina-en-tepetitla/
LOCATION:Tepetitla de Lardizábal
CATEGORIES:Festivales
ATTACH;FMTTYPE=image/jpeg:https://escenariotlx.com/wp-content/uploads/2023/04/nino.jpg
ORGANIZER;CN="Ayuntamiento de Tepetitla de Lardiz%C3%A1bal":MAILTO:gobiernotepetitladelardizabal@gmail.com
END:VEVENT
END:VCALENDAR