BEGIN:VCALENDAR
VERSION:2.0
PRODID:-//Escenario Tlaxcala - ECPv6.15.16//NONSGML v1.0//EN
CALSCALE:GREGORIAN
METHOD:PUBLISH
X-WR-CALNAME:Escenario Tlaxcala
X-ORIGINAL-URL:https://escenariotlx.com
X-WR-CALDESC:Eventos para Escenario Tlaxcala
REFRESH-INTERVAL;VALUE=DURATION:PT1H
X-Robots-Tag:noindex
X-PUBLISHED-TTL:PT1H
BEGIN:VTIMEZONE
TZID:America/New_York
BEGIN:DAYLIGHT
TZOFFSETFROM:-0500
TZOFFSETTO:-0400
TZNAME:EDT
DTSTART:20220313T070000
END:DAYLIGHT
BEGIN:STANDARD
TZOFFSETFROM:-0400
TZOFFSETTO:-0500
TZNAME:EST
DTSTART:20221106T060000
END:STANDARD
BEGIN:DAYLIGHT
TZOFFSETFROM:-0500
TZOFFSETTO:-0400
TZNAME:EDT
DTSTART:20230312T070000
END:DAYLIGHT
BEGIN:STANDARD
TZOFFSETFROM:-0400
TZOFFSETTO:-0500
TZNAME:EST
DTSTART:20231105T060000
END:STANDARD
BEGIN:DAYLIGHT
TZOFFSETFROM:-0500
TZOFFSETTO:-0400
TZNAME:EDT
DTSTART:20240310T070000
END:DAYLIGHT
BEGIN:STANDARD
TZOFFSETFROM:-0400
TZOFFSETTO:-0500
TZNAME:EST
DTSTART:20241103T060000
END:STANDARD
END:VTIMEZONE
BEGIN:VEVENT
DTSTART;TZID=America/New_York:20230428T160000
DTEND;TZID=America/New_York:20230504T200000
DTSTAMP:20260424T061238
CREATED:20230428T165816Z
LAST-MODIFIED:20230428T165920Z
UID:10000288-1682697600-1683230400@escenariotlx.com
SUMMARY:Proyección de la película “EO” del director Jerzy Skolimowski
DESCRIPTION:La Sala de Arte Miguel N. Lira presenta la película «EO». \n«𝘌𝘭 𝘭𝘦𝘨𝘦𝘯𝘥𝘢𝘳𝘪𝘰 𝘥𝘪𝘳𝘦𝘤𝘵𝘰𝘳 𝘑𝘦𝘳𝘻𝘺 𝘚𝘬𝘰𝘭𝘪𝘮𝘰𝘸𝘴𝘬𝘪 𝘥𝘪𝘳𝘪𝘨𝘦 𝘶𝘯𝘢 𝘥𝘦 𝘴𝘶𝘴 𝘱𝘦𝘭𝘪́𝘤𝘶𝘭𝘢𝘴 𝘮𝘢́𝘴 𝘭𝘪𝘣𝘳𝘦𝘴 𝘺 𝘷𝘪𝘴𝘶𝘢𝘭𝘮𝘦𝘯𝘵𝘦 𝘪𝘯𝘷𝘦𝘯𝘵𝘪𝘷𝘢𝘴\, 𝘴𝘪𝘨𝘶𝘪𝘦𝘯𝘥𝘰 𝘦𝘭 𝘷𝘪𝘢𝘫𝘦 𝘥𝘦 𝘶𝘯 𝘣𝘶𝘳𝘳𝘰 𝘨𝘳𝘪𝘴 𝘭𝘭𝘢𝘮𝘢𝘥𝘰 𝘌𝘰. 𝘛𝘳𝘢𝘴 𝘴𝘦𝘳 𝘦𝘹𝘱𝘶𝘭𝘴𝘢𝘥𝘰 𝘥𝘦𝘭 𝘤𝘪𝘳𝘤𝘰 𝘢𝘮𝘣𝘶𝘭𝘢𝘯𝘵𝘦\, 𝘌𝘰 𝘦𝘮𝘱𝘳𝘦𝘯𝘥𝘦 𝘶𝘯𝘢 𝘵𝘳𝘢𝘷𝘦𝘴𝘪́𝘢 𝘱𝘰𝘳 𝘭𝘢 𝘤𝘢𝘮𝘱𝘪𝘯̃𝘢 𝘱𝘰𝘭𝘢𝘤𝘢 𝘦 𝘪𝘵𝘢𝘭𝘪𝘢𝘯𝘢\, 𝘦𝘹𝘱𝘦𝘳𝘪𝘮𝘦𝘯𝘵𝘢𝘯𝘥𝘰 𝘤𝘳𝘶𝘦𝘭𝘥𝘢𝘥 𝘺 𝘣𝘰𝘯𝘥𝘢𝘥 𝘢 𝘱𝘢𝘳𝘵𝘦𝘴 𝘪𝘨𝘶𝘢𝘭𝘦𝘴. 𝘐𝘯𝘴𝘱𝘪𝘳𝘢𝘥𝘢 𝘭𝘪𝘣𝘳𝘦𝘮𝘦𝘯𝘵𝘦 𝘦𝘯 𝘈𝘭 𝘢𝘻𝘢𝘳\, 𝘉𝘢𝘭𝘵𝘢𝘴𝘢𝘳 (1966)\, 𝘥𝘦 𝘙𝘰𝘣𝘦𝘳𝘵 𝘉𝘳𝘦𝘴𝘴𝘰𝘯\, 𝘌𝘖 𝘴𝘪𝘵𝘶́𝘢 𝘢𝘭 𝘦𝘴𝘱𝘦𝘤𝘵𝘢𝘥𝘰𝘳 𝘦𝘯 𝘭𝘢 𝘱𝘦𝘳𝘴𝘱𝘦𝘤𝘵𝘪𝘷𝘢 𝘥𝘦 𝘴𝘶 𝘱𝘳𝘰𝘵𝘢𝘨𝘰𝘯𝘪𝘴𝘵𝘢 𝘤𝘶𝘢𝘥𝘳𝘶́𝘱𝘦𝘥𝘰 𝘮𝘪𝘦𝘯𝘵𝘳𝘢𝘴 𝘦𝘴 𝘵𝘦𝘴𝘵𝘪𝘨𝘰 𝘥𝘦 𝘭𝘰𝘴 𝘦𝘹𝘤𝘦𝘴𝘰𝘴 𝘺 𝘮𝘢𝘭𝘦𝘴 𝘥𝘦 𝘭𝘢 𝘴𝘰𝘤𝘪𝘦𝘥𝘢𝘥 𝘦𝘶𝘳𝘰𝘱𝘦𝘢 𝘢𝘤𝘵𝘶𝘢𝘭» \nDel 28 de Abril al 04 de Mayo \nHorario de funciones 4:00 y 6:00 pm \nEntrada General: $30.00 pesos \n¡Imperdible y muy emotiva cinta que tienen que vivir! \n \nInformación de la película \nDirector: Jerzy Skolimowski\nGuión: Ewa Piaskowska y Jerzy Skolimowski\nDirector de Fotografía: Mychał Dymek\nFotografía: Color\nMúsica original: Paweł Mykietyn\nEdición: Agnieszka Glińska\nCon: Sandra Drzymalska (Kasandra)\, Tomasz Organek (Ziom)\, Lorenzo Zurzolo (Vito)\, Mateusz Kościukiewicz (Mateo)\, Isabelle Huppert (la condesa)\nProductor: Ewa Piaskowska y Jerzy Skolimowski\nProductora: Skopia Film\, Alien Films\nDistribuidora: Cine Caníbal\nClasificación: B \n \n\nTe puede interesar este evento: Documental Yahuitl Wan Kostik en la Sala de Arte Miguel N. Lira 
URL:https://escenariotlx.com/evento/proyeccion-pelicula-eo-miguel-n-lira/
LOCATION:Sala de Arte Miguel N. Lira\, Interior del Jardín Botánico de Tizatlán\, Tlaxcala\, Tlaxcala\, 90105\, México
CATEGORIES:Cine
ATTACH;FMTTYPE=image/jpeg:https://escenariotlx.com/wp-content/uploads/2023/04/343940732_221711387157886_6307041227118849179_n-1.jpg
END:VEVENT
BEGIN:VEVENT
DTSTART;TZID=America/New_York:20230503T133000
DTEND;TZID=America/New_York:20230503T153000
DTSTAMP:20260424T061238
CREATED:20230502T182326Z
LAST-MODIFIED:20230502T182346Z
UID:10000291-1683120600-1683127800@escenariotlx.com
SUMMARY:Taller “Imaginando la Laguna de Acuitlapilco”
DESCRIPTION:El Colegio de Tlaxcala invita a asistir al taller participativo en Laguna de Acuitlapilco\, que se llevará a cabo el: \n\nMiércoles 3 de mayo 1:30pm\nEscuela Primaria Vespertina Axayacatzin\, Acuitlapilco.\nSábado 6 de mayo 19:00 am\nRivera de Atlahapa\n\nSe platicará sobre:\n¿Qué historias y anécdotas recuerdas sobre la laguna? \n¿Conoces las acciones que se realizan para su preservación? \n¿Qué te gustaría que se hiciera por el cuerpo de agua? \nY más… \nTu participación es importante para este manto acuífero. \nPara más información llama al 2464040871 \n \n\nTe puede interesar este evento: Expo-venta Orquidea 2023 en Belén Atzitzimititlán
URL:https://escenariotlx.com/evento/taller-imaginando-la-laguna-acuitlapilco/
LOCATION:Santa Maria Acuitlapilco
CATEGORIES:Talleres
ATTACH;FMTTYPE=image/jpeg:https://escenariotlx.com/wp-content/uploads/2023/05/laguna.jpg
ORGANIZER;CN="Coltlax - El Colegio de Tlaxcala%2C A.C.":MAILTO:comunicacion_social@coltlax.edu.mx
END:VEVENT
BEGIN:VEVENT
DTSTART;TZID=America/New_York:20230503T190000
DTEND;TZID=America/New_York:20230503T210000
DTSTAMP:20260424T061238
CREATED:20230502T194629Z
LAST-MODIFIED:20230502T194629Z
UID:10000294-1683140400-1683147600@escenariotlx.com
SUMMARY:Presentación del documental “MADE IN HONDURAS”
DESCRIPTION:La casa de la cultura obrera de Tlaxcala invita a la presentación del documental “MADE IN HONDURAS”. \nEl miércoles 3 de mayo de 2023 a las 19:00 hrs. en la Calle Mariano Matamoros #170 Apizaco\, Tlaxcala. \nUn poco de información sobre el documental\n«MADE IN HONDURAS»\nCon la participación de OPUS Social Media\, sus creadores.\nEn el mundo hostil de la explotación\, al que diariamente se somete a miles de trabajadoras y trabajadores\, existen casos ejemplares de personas que caminan a contracorriente. Así ocurre en la industria maquiladora de Honduras\, donde las obreras encuentran cada vez más motivos para levantar la voz por el anhelo de un trabajo y una vida digna.\n«Made in Honduras» es el testimonio común de mujeres trabajadoras de la maquila que no sólo muestra la oscura realidad que gira en torno a estas fábricas\, sino organización el camino más certero para transformar la situación que les rodea. \n \n\nTe puede interesar este evento: Taller “Imaginando la Laguna de Acuitlapilco”
URL:https://escenariotlx.com/evento/documental-made-in-honduras/
LOCATION:Calle Mariano Matamoros #170\, Calle Mariano Matamoros #170 Apizaco\, Apizaco\, Tlaxcala\, México
CATEGORIES:Cine
ATTACH;FMTTYPE=image/jpeg:https://escenariotlx.com/wp-content/uploads/2023/05/documental.jpg
END:VEVENT
END:VCALENDAR