BEGIN:VCALENDAR
VERSION:2.0
PRODID:-//Escenario Tlaxcala - ECPv6.15.16//NONSGML v1.0//EN
CALSCALE:GREGORIAN
METHOD:PUBLISH
X-ORIGINAL-URL:https://escenariotlx.com
X-WR-CALDESC:Eventos para Escenario Tlaxcala
REFRESH-INTERVAL;VALUE=DURATION:PT1H
X-Robots-Tag:noindex
X-PUBLISHED-TTL:PT1H
BEGIN:VTIMEZONE
TZID:America/New_York
BEGIN:DAYLIGHT
TZOFFSETFROM:-0500
TZOFFSETTO:-0400
TZNAME:EDT
DTSTART:20220313T070000
END:DAYLIGHT
BEGIN:STANDARD
TZOFFSETFROM:-0400
TZOFFSETTO:-0500
TZNAME:EST
DTSTART:20221106T060000
END:STANDARD
BEGIN:DAYLIGHT
TZOFFSETFROM:-0500
TZOFFSETTO:-0400
TZNAME:EDT
DTSTART:20230312T070000
END:DAYLIGHT
BEGIN:STANDARD
TZOFFSETFROM:-0400
TZOFFSETTO:-0500
TZNAME:EST
DTSTART:20231105T060000
END:STANDARD
BEGIN:DAYLIGHT
TZOFFSETFROM:-0500
TZOFFSETTO:-0400
TZNAME:EDT
DTSTART:20240310T070000
END:DAYLIGHT
BEGIN:STANDARD
TZOFFSETFROM:-0400
TZOFFSETTO:-0500
TZNAME:EST
DTSTART:20241103T060000
END:STANDARD
END:VTIMEZONE
BEGIN:VEVENT
DTSTART;VALUE=DATE:20230506
DTEND;VALUE=DATE:20230511
DTSTAMP:20260422T015343
CREATED:20230506T004416Z
LAST-MODIFIED:20230506T004416Z
UID:10000299-1683331200-1683763199@escenariotlx.com
SUMMARY:Exposición "Epopeya de un futuro posible"
DESCRIPTION:La exposición «Epopeya de un futuro posible» es de Rodrigo Mazari y Víctor Rangel\, en colaboración con el Colectivo Somosierra. \nSe trata de una instalación\, un género artístico cuyo concepto se enfoca en la gran presencia del maguey en la cultura local y regional de Atlzayanca. El maguey llega al espacio museístico y lo veremos de otra manera. Aplausos para los artistas. \nEstará expuesta en la Galería del Agua ubicada en Atlzayanca\, Tlaxcala. Del 6 de mayo al 10 de junio. \nPodrás asistir a partir de las 12:00 hrs. y la entrada es libre. \nPara más información manda un mensaje al Whatsapp de la galería 👉 2461217169 \n \nAlgunas fotos de la exposición\n\n			\n				\n			\n			\n				\n			\n			\n				\n			\n			\n				\n			\n			\n				\n			\n		\n\n\nTe puede interesar este evento: Documental Yahuitl Wan Kostik en la Sala de Arte Miguel N. Lira
URL:https://escenariotlx.com/evento/exposicion-epopeya-de-un-futuro-posible/
LOCATION:Galería del agua\, 5 de mayo sur # 10 A\, Barrio San Antonio\, Altzayanca\, Altzayanca\, Tlaxcala\, México
CATEGORIES:Museos
ATTACH;FMTTYPE=image/jpeg:https://escenariotlx.com/wp-content/uploads/2023/05/epopeya.jpg
END:VEVENT
BEGIN:VEVENT
DTSTART;TZID=America/New_York:20230506T100000
DTEND;TZID=America/New_York:20230506T120000
DTSTAMP:20260422T015343
CREATED:20230502T183022Z
LAST-MODIFIED:20230502T183022Z
UID:10000292-1683367200-1683374400@escenariotlx.com
SUMMARY:2do. Taller “Imaginando la Laguna de Acuitlapilco”
DESCRIPTION:El Colegio de Tlaxcala invita a asistir al taller participativo en Laguna de Acuitlapilco\, que se llevará a cabo el: \n\nSábado 6 de mayo 19:00 am\nRivera de Atlahapa\n\nSe platicará sobre:\n¿Qué historias y anécdotas recuerdas sobre la laguna? \n¿Conoces las acciones que se realizan para su preservación? \n¿Qué te gustaría que se hiciera por el cuerpo de agua? \nY más… \nTu participación es importante para este manto acuífero. \nPara más información llama al 2464040871 \n \n\nTe puede interesar este evento: Documental Yahuitl Wan Kostik en la Sala de Arte Miguel N. Lira
URL:https://escenariotlx.com/evento/taller-imaginando-la-laguna-acuitlapilco-2/
LOCATION:Santa Maria Acuitlapilco
CATEGORIES:Talleres
ATTACH;FMTTYPE=image/jpeg:https://escenariotlx.com/wp-content/uploads/2023/05/laguna.jpg
ORGANIZER;CN="Coltlax - El Colegio de Tlaxcala%2C A.C.":MAILTO:comunicacion_social@coltlax.edu.mx
END:VEVENT
BEGIN:VEVENT
DTSTART;TZID=America/New_York:20230506T130000
DTEND;TZID=America/New_York:20230506T150000
DTSTAMP:20260422T015343
CREATED:20230505T172742Z
LAST-MODIFIED:20230505T172742Z
UID:10000297-1683378000-1683385200@escenariotlx.com
SUMMARY:Punto de lectura. Alquimagina. “La gratitud”
DESCRIPTION:“La gratitud” mediación de lectura con Renata Luna y Seleste Posadas en el Palacio de Cultura ubicado en la avenida Juárez\, Tlaxcala de Xicohténcatl. \nEstá actividad está dirigida a niñas y niños a partir de 6 años. \nSe realizará este sábado 6 de mayo a las 13 hrs. \n¡ENTRADA LIBRE! \nConsulta más actividades como esta en alasyraices.gob.mx y mexicoescultura.com \n \n\nTe puede interesar este evento: Expo-venta Orquidea 2023 en Belén Atzitzimititlán
URL:https://escenariotlx.com/evento/punto-de-lectura-alquimagina-la-gratitud/
LOCATION:Secretaría de Cultura\, Av. Juárez no. 62\, Centro\, Tlaxcala
CATEGORIES:Libros
ATTACH;FMTTYPE=image/jpeg:https://escenariotlx.com/wp-content/uploads/2023/05/gratitud.jpg
END:VEVENT
END:VCALENDAR