BEGIN:VCALENDAR
VERSION:2.0
PRODID:-//Escenario Tlaxcala - ECPv6.15.16//NONSGML v1.0//EN
CALSCALE:GREGORIAN
METHOD:PUBLISH
X-WR-CALNAME:Escenario Tlaxcala
X-ORIGINAL-URL:https://escenariotlx.com
X-WR-CALDESC:Eventos para Escenario Tlaxcala
REFRESH-INTERVAL;VALUE=DURATION:PT1H
X-Robots-Tag:noindex
X-PUBLISHED-TTL:PT1H
BEGIN:VTIMEZONE
TZID:America/New_York
BEGIN:DAYLIGHT
TZOFFSETFROM:-0500
TZOFFSETTO:-0400
TZNAME:EDT
DTSTART:20220313T070000
END:DAYLIGHT
BEGIN:STANDARD
TZOFFSETFROM:-0400
TZOFFSETTO:-0500
TZNAME:EST
DTSTART:20221106T060000
END:STANDARD
BEGIN:DAYLIGHT
TZOFFSETFROM:-0500
TZOFFSETTO:-0400
TZNAME:EDT
DTSTART:20230312T070000
END:DAYLIGHT
BEGIN:STANDARD
TZOFFSETFROM:-0400
TZOFFSETTO:-0500
TZNAME:EST
DTSTART:20231105T060000
END:STANDARD
BEGIN:DAYLIGHT
TZOFFSETFROM:-0500
TZOFFSETTO:-0400
TZNAME:EDT
DTSTART:20240310T070000
END:DAYLIGHT
BEGIN:STANDARD
TZOFFSETFROM:-0400
TZOFFSETTO:-0500
TZNAME:EST
DTSTART:20241103T060000
END:STANDARD
END:VTIMEZONE
BEGIN:VEVENT
DTSTART;VALUE=DATE:20230506
DTEND;VALUE=DATE:20230511
DTSTAMP:20260421T125432
CREATED:20230506T004416Z
LAST-MODIFIED:20230506T004416Z
UID:10000299-1683331200-1683763199@escenariotlx.com
SUMMARY:Exposición "Epopeya de un futuro posible"
DESCRIPTION:La exposición «Epopeya de un futuro posible» es de Rodrigo Mazari y Víctor Rangel\, en colaboración con el Colectivo Somosierra. \nSe trata de una instalación\, un género artístico cuyo concepto se enfoca en la gran presencia del maguey en la cultura local y regional de Atlzayanca. El maguey llega al espacio museístico y lo veremos de otra manera. Aplausos para los artistas. \nEstará expuesta en la Galería del Agua ubicada en Atlzayanca\, Tlaxcala. Del 6 de mayo al 10 de junio. \nPodrás asistir a partir de las 12:00 hrs. y la entrada es libre. \nPara más información manda un mensaje al Whatsapp de la galería 👉 2461217169 \n \nAlgunas fotos de la exposición\n\n			\n				\n			\n			\n				\n			\n			\n				\n			\n			\n				\n			\n			\n				\n			\n		\n\n\nTe puede interesar este evento: Documental Yahuitl Wan Kostik en la Sala de Arte Miguel N. Lira
URL:https://escenariotlx.com/evento/exposicion-epopeya-de-un-futuro-posible/
LOCATION:Galería del agua\, 5 de mayo sur # 10 A\, Barrio San Antonio\, Altzayanca\, Altzayanca\, Tlaxcala\, México
CATEGORIES:Museos
ATTACH;FMTTYPE=image/jpeg:https://escenariotlx.com/wp-content/uploads/2023/05/epopeya.jpg
END:VEVENT
BEGIN:VEVENT
DTSTART;VALUE=DATE:20230507
DTEND;VALUE=DATE:20230512
DTSTAMP:20260421T125432
CREATED:20230426T160938Z
LAST-MODIFIED:20230426T160938Z
UID:10000286-1683417600-1683849599@escenariotlx.com
SUMMARY:Expo-venta Orquidea 2023 en Belén Atzitzimititlán
DESCRIPTION:Del 7 al 11 de mayo no te puedes perder la Expo-venta Orquidea 2023 en Belén Atzitzimititlán\, en el evento podrás conocer la flor más icónica de mayo y que se produce en el estado. \nPara más información entra a https://www.tlaxcalasiexiste.com.mx/ o llama al 800-509-6557. \n \nOraganiza la Secretaría de Turismo de Tlaxcala \nConoce más de la orquidea\nLas orquídeas forman probablemente la familia de plantas más extensa\, con más de 25\,000 especies identificadas hasta el momento por los científicos. Aunque la variación en tamaño\, color y textura es enorme\, sus flores presentan una estructura básica: tres sépalos y tres pétalos\, pero uno de ellos es diferente a los otros dos y se le llama labelo. \nLas diferencias entre ellas son tan grandes que difícilmente podríamos pensar que son “parientas”\, orquídeas en forma de estrellas de mar\, orquídeas con barbas\, con pelos\, orquídeas brillosas\, otras fabricadas casi de cera\, orquídeas rojas\, orquídeas moradas\, blancas\, moteadas\, amarillas\, rosa pálido\, verdes; orquídeas que simulan abejas o mariposas o delicados pensamientos\, orquídeas araña\, orquídeas aromáticas\, apestosas o sin olor; unas diminutas otras gigantescas; zapatillas de dama\, formas de tulipán\, cara de mandarín\, nudo\, erizo\, etcétera\, un festejo de formas\, colores y tamaños. \nLas orquídeas se han podido establecer en casi todos los ambientes de la tierra gracias a sus adaptaciones para soportar muy distintas condiciones. A muchas personas les sorprende saber que estas plantas son algunas de las que hacen un uso más eficiente de los nutrientes y el agua en ambientes en los que estos dos factores son limitantes. \nMéxico es un país de enorme riqueza\, tanto natural como cultural\, estando entre los siete primeros países por su variedad de seres vivos. Cuenta con unas 1\,400 especies de orquídeas\, creciendo en casi todos los tipos de vegetación\, sin embargo\, la mayor parte se encuentran por debajo de los 2\,000 metros sobre el nivel del mar\, en las serranías del centro y sur del país\, en diversos tipos de bosques tropicales y templados. \nLas orquídeas habitan casi todos los rincones del planeta: las hay en todos los climas y en todos los continentes.En México\, alrededor de 300 son endémicas\, es decir que no se encuentran en ningún otro lugar del mundo. Esto convierte a las orquídeas mexicanas en un patrimonio de enorme importancia y a nosotros\, los pobladores del país\, en sus primeros guardianes\, responsables directos de su supervivencia o de su desaparición. \nLa sorprendente coloración y la belleza de las orquídeas siempre las han hecho altamente apreciadas e insensiblemente colectadas. Es uno de los grupos de plantas más amenazados en todo el mundo. Cuando empezó su colecta no era inusual que un árbol entero fuera derribado para arrancar todas las orquídeas adheridas a sus ramas más altas. \n\nTe puede inetersar: En carreteras de Tlaxcala seguro la has visto; lee 7 datos de esta flor
URL:https://escenariotlx.com/evento/expo-orquidea-2023-belen-atzitzimititlan/
LOCATION:Belén Atzitzimititlán\, Municipio de Apetatitlán de Antonio Carvajal\, Tlaxcala\, México
CATEGORIES:Ecología,Exposición
ATTACH;FMTTYPE=image/jpeg:https://escenariotlx.com/wp-content/uploads/2023/04/orquidea.jpg
END:VEVENT
BEGIN:VEVENT
DTSTART;TZID=America/New_York:20230508T170000
DTEND;TZID=America/New_York:20230508T190000
DTSTAMP:20260421T125432
CREATED:20230428T162959Z
LAST-MODIFIED:20230428T162959Z
UID:10000287-1683565200-1683572400@escenariotlx.com
SUMMARY:Documental Yahuitl Wan Kostik en la Sala de Arte Miguel N. Lira
DESCRIPTION:La Sala de Arte Miguel N. Lira presenta el documental “Yahuitl Wan Kostik. Tiñendo Telares”. \n«𝘌𝘴 𝘶𝘯 𝘥𝘰𝘤𝘶𝘮𝘦𝘯𝘵𝘢𝘭 𝘲𝘶𝘦 𝘮𝘶𝘦𝘴𝘵𝘳𝘢 𝘦𝘭 𝘵𝘳𝘢𝘣𝘢𝘫𝘰 𝘪𝘯𝘤𝘢𝘯𝘴𝘢𝘣𝘭𝘦 𝘥𝘦 𝘭𝘰𝘴 𝘢𝘳𝘵𝘦𝘴𝘢𝘯𝘰𝘴 𝘵𝘦𝘹𝘵𝘪𝘭𝘦𝘴 𝘦𝘯 𝘭𝘢 𝘤𝘰𝘮𝘶𝘯𝘪𝘥𝘢𝘥 𝘥𝘦 𝘊𝘰𝘯𝘵𝘭𝘢 𝘥𝘦 𝘑𝘶𝘢𝘯 𝘊𝘶𝘢𝘮𝘢𝘵𝘻𝘪\, 𝘶𝘯 𝘱𝘶𝘦𝘣𝘭𝘰 𝘥𝘦𝘭 𝘦𝘴𝘵𝘢𝘥𝘰 𝘥𝘦 𝘛𝘭𝘢𝘹𝘤𝘢𝘭𝘢 𝘥𝘰𝘯𝘥𝘦 𝘦𝘹𝘪𝘴𝘵𝘦 𝘶𝘯𝘢 𝘵𝘳𝘢𝘥𝘪𝘤𝘪𝘰́𝘯 𝘺 𝘶𝘯 𝘢𝘮𝘰𝘳 𝘢𝘳𝘳𝘢𝘪𝘨𝘢𝘥𝘰 𝘱𝘰𝘳 𝘭𝘢𝘴 𝘵𝘦́𝘤𝘯𝘪𝘤𝘢𝘴 𝘢𝘯𝘤𝘦𝘴𝘵𝘳𝘢𝘭𝘦𝘴 𝘱𝘢𝘳𝘢 𝘱𝘳𝘰𝘥𝘶𝘤𝘪𝘳 𝘩𝘦𝘳𝘮𝘰𝘴𝘢𝘴 𝘱𝘪𝘦𝘻𝘢𝘴 𝘰𝘳𝘪𝘨𝘪𝘯𝘢𝘥𝘢𝘴 𝘢 𝘣𝘢𝘴𝘦 𝘥𝘦 𝘭𝘢𝘯𝘢𝘴 𝘵𝘦𝘯̃𝘪𝘥𝘢𝘴 𝘰𝘳𝘨𝘢́𝘯𝘪𝘤𝘢𝘮𝘦𝘯𝘵𝘦 𝘤𝘰𝘯 𝘵𝘪𝘯𝘵𝘦𝘴 𝘦𝘹𝘵𝘳𝘢𝘪́𝘥𝘰𝘴 𝘥𝘦 𝘮𝘢𝘯𝘦𝘳𝘢 𝘳𝘦𝘴𝘱𝘦𝘵𝘶𝘰𝘴𝘢 𝘥𝘦 𝘭𝘢 𝘯𝘢𝘵𝘶𝘳𝘢𝘭𝘦𝘻𝘢 𝘺 𝘵𝘦𝘫𝘪𝘥𝘢𝘴 𝘢𝘳𝘵𝘦𝘴𝘢𝘯𝘢𝘭𝘮𝘦𝘯𝘵𝘦 𝘶𝘵𝘪𝘭𝘪𝘻𝘢𝘯𝘥𝘰 𝘵𝘦𝘭𝘢𝘳𝘦𝘴 𝘥𝘦 𝘱𝘦𝘥𝘢𝘭 𝘺 𝘥𝘦 𝘤𝘪𝘯𝘵𝘶𝘳𝘢». \nÚnica función 8 de mayo de 2023 a las 17:00 hrs. \n¡Disfruta de este magnífico estreno! \n \n\nTe puede interesar este evento: Show de los Wapayasos en Apizaco
URL:https://escenariotlx.com/evento/documental-yahuitl-sala-miguel-n-lira/
LOCATION:Sala de Arte Miguel N. Lira\, Interior del Jardín Botánico de Tizatlán\, Tlaxcala\, Tlaxcala\, 90105\, México
CATEGORIES:Cine
ATTACH;FMTTYPE=image/jpeg:https://escenariotlx.com/wp-content/uploads/2023/04/documental.jpg
END:VEVENT
END:VCALENDAR