BEGIN:VCALENDAR
VERSION:2.0
PRODID:-//Escenario Tlaxcala - ECPv6.15.16//NONSGML v1.0//EN
CALSCALE:GREGORIAN
METHOD:PUBLISH
X-ORIGINAL-URL:https://escenariotlx.com
X-WR-CALDESC:Eventos para Escenario Tlaxcala
REFRESH-INTERVAL;VALUE=DURATION:PT1H
X-Robots-Tag:noindex
X-PUBLISHED-TTL:PT1H
BEGIN:VTIMEZONE
TZID:America/New_York
BEGIN:DAYLIGHT
TZOFFSETFROM:-0500
TZOFFSETTO:-0400
TZNAME:EDT
DTSTART:20220313T070000
END:DAYLIGHT
BEGIN:STANDARD
TZOFFSETFROM:-0400
TZOFFSETTO:-0500
TZNAME:EST
DTSTART:20221106T060000
END:STANDARD
BEGIN:DAYLIGHT
TZOFFSETFROM:-0500
TZOFFSETTO:-0400
TZNAME:EDT
DTSTART:20230312T070000
END:DAYLIGHT
BEGIN:STANDARD
TZOFFSETFROM:-0400
TZOFFSETTO:-0500
TZNAME:EST
DTSTART:20231105T060000
END:STANDARD
BEGIN:DAYLIGHT
TZOFFSETFROM:-0500
TZOFFSETTO:-0400
TZNAME:EDT
DTSTART:20240310T070000
END:DAYLIGHT
BEGIN:STANDARD
TZOFFSETFROM:-0400
TZOFFSETTO:-0500
TZNAME:EST
DTSTART:20241103T060000
END:STANDARD
END:VTIMEZONE
BEGIN:VEVENT
DTSTART;VALUE=DATE:20230512
DTEND;VALUE=DATE:20230514
DTSTAMP:20260421T065258
CREATED:20230502T192007Z
LAST-MODIFIED:20230502T192007Z
UID:10000293-1683849600-1684022399@escenariotlx.com
SUMMARY:5to. Festival de la cerveza Spring Beer Fest
DESCRIPTION:La Asociación de Cerveceros (ACERTLAX) te invitan al el 5to Festival de la cerveza Spring Beer Fest el 12 y 13 de mayo en “Los contenedores” ubicados en la comunidad de la Candelaria Teotlalpan. \nSi eres amante de la buena cerveza artesanal\, este festival de origen 100% tlaxcalteca te interesa. \nMucha cerveza artesanal y el mejor ambiente… ¡Entrada libre! \nMás información en la pagina de facebook Spring Fest Tlaxcala \n \nTalento local en el Festival ⤵\n\nZambi\nArtenea\nTributo a “The Door’s”\nTributo a Carlos Santana\nConcierto de cierre de «Odisseo» sábado 13 de Mayo.\n\nUbicación \nLos Contenedores Tlaxcala \n \nCerveceras en el Festival \n\n                \n\n                \n                    \n                        \n                           \n\n                            \n                                1 de 18\n                                \n                                    \n                                    \n                                \n                            \n                        \n\n                        \n                            \n                                \n                    \n                        \n                            \n                                \n                            \n                            \n                        \n                    \n                    \n                        \n                            \n                                \n                            \n                            \n                        \n                    \n                    \n                        \n                            \n                                \n                            \n                            \n                        \n                    \n                    \n                        \n                            \n                                \n                            \n                            \n                        \n                    \n                    \n                        \n                            \n                                \n                            \n                            \n                        \n                    \n                    \n                        \n                            \n                                \n                            \n                            \n                        \n                    \n                    \n                        \n                            \n                                \n                            \n                            \n                        \n                    \n                    \n                        \n                            \n                                \n                            \n                            \n                        \n                    \n                    \n                        \n                            \n                                \n                            \n                            \n                        \n                    \n                    \n                        \n                            \n                                \n                            \n                            \n                        \n                    \n                    \n                        \n                            \n                                \n                            \n                            \n                        \n                    \n                    \n                        \n                            \n                                \n                            \n                            \n                        \n                    \n                    \n                        \n                            \n                                \n                            \n                            \n                        \n                    \n                    \n                        \n                            \n                                \n                            \n                            \n                        \n                    \n                    \n                        \n                            \n                                \n                            \n                            \n                        \n                    \n                    \n                        \n                            \n                                \n                            \n                            \n                        \n                    \n                    \n                        \n                            \n                                \n                            \n                            \n                        \n                    \n                    \n                        \n                            \n                                \n                            \n                            \n                        \n                    \n                            \n                        \n\n                        \n                            \n                                \n                    \n                        \n                    \n                    \n                        \n                    \n                    \n                        \n                    \n                    \n                        \n                    \n                    \n                        \n                    \n                    \n                        \n                    \n                    \n                        \n                    \n                    \n                        \n                    \n                    \n                        \n                    \n                    \n                        \n                    \n                    \n                        \n                    \n                    \n                        \n                    \n                    \n                        \n                    \n                    \n                        \n                    \n                    \n                        \n                    \n                    \n                        \n                    \n                    \n                        \n                    \n                    \n                        \n                    \n                            \n                        \n\n                    \n\n                \n                \n\nTe puede ineteresar este evento: Show de los Wapayasos en Apizaco
URL:https://escenariotlx.com/evento/5to-festival-cerveza-spring-beer-fest/
LOCATION:Café-Bar «Los Contenedores»\, Leonarda Gómez Blanco\, No. 72\, El Bosque\, La Candelaria Teotlalpan\, Tlaxcala\, México
CATEGORIES:Conciertos,Festivales,Gastronomía
ATTACH;FMTTYPE=image/jpeg:https://escenariotlx.com/wp-content/uploads/2023/05/festival-de-cerveza.jpg
END:VEVENT
BEGIN:VEVENT
DTSTART;TZID=America/New_York:20230513T130000
DTEND;TZID=America/New_York:20230513T170000
DTSTAMP:20260421T065258
CREATED:20230509T002648Z
LAST-MODIFIED:20230509T002648Z
UID:10000301-1683982800-1683997200@escenariotlx.com
SUMMARY:Presentación de Títeres Trotamundos con la obra “Volar Volar”
DESCRIPTION:La Secretaría de Cultura de Tlaxcala y el Museo Nacional del Títere (MUNATI) presentan Títeres Trotamundos desde Sonora. Con la obra “Volar Volar” de Lormiga Títeres. \nEl sábado 13 de Mayo con funciones a las 13:00 y 15:00 hrs. en el Teatro MUNATI. \nInformes y boletos en la página de Facebook del Museo Nacional del Títere\, llama a 247 472 10 33 o manda un mensaje de WhatsApp al 246 103 35 00. \n \n\nTe puede interesar este evento: Presentación del libro «Jódete Cáncer» de Sandra Monroy
URL:https://escenariotlx.com/evento/titeres-obra-presentacion-huamantala/
LOCATION:Teatro del Museo Nacional del Títere\, Parque Juárez 15\, Huamantla\, Huamantla\, Tlaxcala\, México
CATEGORIES:Museos,Teatro
ATTACH;FMTTYPE=image/jpeg:https://escenariotlx.com/wp-content/uploads/2023/05/volar.jpg
END:VEVENT
BEGIN:VEVENT
DTSTART;TZID=America/New_York:20230513T170000
DTEND;TZID=America/New_York:20230513T190000
DTSTAMP:20260421T065258
CREATED:20230424T200630Z
LAST-MODIFIED:20230424T200630Z
UID:10000280-1683997200-1684004400@escenariotlx.com
SUMMARY:Show de los Wapayasos en Apizaco
DESCRIPTION:El Ayuntamiento de Apizaco invita a festejar a todas las mamás como se lo merecen\, con el gran Show de los Wapayasos y muchas\, muchas sorpresas más. \nEl sábado 13 de Mayo a las 17:00 hrs en el Auditorio Emilio Sánchez Piedras. \nEl evento es totalmente gratuito. \n \n\nTe puede interesar este evento:Recital de Piano de la maestra Cintia Escamilla
URL:https://escenariotlx.com/evento/show-de-los-wapayasos-en-apizaco/
LOCATION:Auditorio Emilio Sánchez Piedras\, Apizaco\, Blvrd. 16 de Septiembre\, Apizaco\, Tlaxcala\, 90338\, México
CATEGORIES:Conciertos
ATTACH;FMTTYPE=image/jpeg:https://escenariotlx.com/wp-content/uploads/2023/04/madres.jpg
END:VEVENT
END:VCALENDAR