BEGIN:VCALENDAR
VERSION:2.0
PRODID:-//Escenario Tlaxcala - ECPv6.15.16//NONSGML v1.0//EN
CALSCALE:GREGORIAN
METHOD:PUBLISH
X-WR-CALNAME:Escenario Tlaxcala
X-ORIGINAL-URL:https://escenariotlx.com
X-WR-CALDESC:Eventos para Escenario Tlaxcala
REFRESH-INTERVAL;VALUE=DURATION:PT1H
X-Robots-Tag:noindex
X-PUBLISHED-TTL:PT1H
BEGIN:VTIMEZONE
TZID:America/New_York
BEGIN:DAYLIGHT
TZOFFSETFROM:-0500
TZOFFSETTO:-0400
TZNAME:EDT
DTSTART:20220313T070000
END:DAYLIGHT
BEGIN:STANDARD
TZOFFSETFROM:-0400
TZOFFSETTO:-0500
TZNAME:EST
DTSTART:20221106T060000
END:STANDARD
BEGIN:DAYLIGHT
TZOFFSETFROM:-0500
TZOFFSETTO:-0400
TZNAME:EDT
DTSTART:20230312T070000
END:DAYLIGHT
BEGIN:STANDARD
TZOFFSETFROM:-0400
TZOFFSETTO:-0500
TZNAME:EST
DTSTART:20231105T060000
END:STANDARD
BEGIN:DAYLIGHT
TZOFFSETFROM:-0500
TZOFFSETTO:-0400
TZNAME:EDT
DTSTART:20240310T070000
END:DAYLIGHT
BEGIN:STANDARD
TZOFFSETFROM:-0400
TZOFFSETTO:-0500
TZNAME:EST
DTSTART:20241103T060000
END:STANDARD
END:VTIMEZONE
BEGIN:VEVENT
DTSTART;TZID=America/New_York:20230514T160000
DTEND;TZID=America/New_York:20230514T180000
DTSTAMP:20260423T174749
CREATED:20230509T163645Z
LAST-MODIFIED:20230509T165037Z
UID:10000304-1684080000-1684087200@escenariotlx.com
SUMMARY:El festival de música "Raíz México" traé Rock en Náhuatl en Teolocholco
DESCRIPTION:El Festival de Música «Raíz México» continúa su recorrido por Tlaxcala con propuestas artísticas diversas. \nLos conciertos son totalmente gratuitos. \nEl 14 de Mayo en Teolocholco habrá Rock en Náhuatl con “Rockercoatl\, Xochitlajtoli\, conociendo la palabra florid”. \nPodrás disfrutar del concierto en la plaza principal de Teolocholco a las 16:00 hrs. \nInvitan Gobierno del Estado de Tlaxcala y Secretaría de Cultura de Tlaxcala \n \n\nTe puede interesar este evento: Danza Flamenca titulada «Mujer\, Sororidad y Danza»
URL:https://escenariotlx.com/evento/raiz-mexico-rock-en-nahuatl-en-teolocholco/
LOCATION:Plaza principal de Teolocholco\, Teolocholco\, Tlaxcala\, México
CATEGORIES:Conciertos,Festivales
ATTACH;FMTTYPE=image/jpeg:https://escenariotlx.com/wp-content/uploads/2023/05/Rock-en-Nahuatl.jpg
END:VEVENT
BEGIN:VEVENT
DTSTART;TZID=America/New_York:20230514T180000
DTEND;TZID=America/New_York:20230514T200000
DTSTAMP:20260423T174749
CREATED:20230509T164935Z
LAST-MODIFIED:20230509T164935Z
UID:10000305-1684087200-1684094400@escenariotlx.com
SUMMARY:Festival de música “Raíz México” Hip hop experimental con Neo Sampleo
DESCRIPTION:El Festival Música «Raíz México» continúa su recorrido por Tlaxcala con propuestas artísticas diversas. \nLos conciertos son totalmente gratuitos. \nEl 14 de Mayo en Teolocholco habrá Hip hop experimental con Neo Sampleo. \nPodrás disfrutar del concierto en la plaza principal de Teolocholco a las 18:00 hrs. \nInvitan Gobierno del Estado de Tlaxcala y Secretaría de Cultura de Tlaxcala. \n \n\nTe puede interesar este evento: Presentación del libro «Jódete Cáncer» de Sandra Monroy
URL:https://escenariotlx.com/evento/festival-musica-hip-hop-experimental/
LOCATION:Plaza principal de Teolocholco\, Teolocholco\, Tlaxcala\, México
CATEGORIES:Conciertos,Festivales
ATTACH;FMTTYPE=image/jpeg:https://escenariotlx.com/wp-content/uploads/2023/05/hiphop-alternativo.jpg
END:VEVENT
END:VCALENDAR