BEGIN:VCALENDAR
VERSION:2.0
PRODID:-//Escenario Tlaxcala - ECPv6.15.16//NONSGML v1.0//EN
CALSCALE:GREGORIAN
METHOD:PUBLISH
X-ORIGINAL-URL:https://escenariotlx.com
X-WR-CALDESC:Eventos para Escenario Tlaxcala
REFRESH-INTERVAL;VALUE=DURATION:PT1H
X-Robots-Tag:noindex
X-PUBLISHED-TTL:PT1H
BEGIN:VTIMEZONE
TZID:America/New_York
BEGIN:DAYLIGHT
TZOFFSETFROM:-0500
TZOFFSETTO:-0400
TZNAME:EDT
DTSTART:20220313T070000
END:DAYLIGHT
BEGIN:STANDARD
TZOFFSETFROM:-0400
TZOFFSETTO:-0500
TZNAME:EST
DTSTART:20221106T060000
END:STANDARD
BEGIN:DAYLIGHT
TZOFFSETFROM:-0500
TZOFFSETTO:-0400
TZNAME:EDT
DTSTART:20230312T070000
END:DAYLIGHT
BEGIN:STANDARD
TZOFFSETFROM:-0400
TZOFFSETTO:-0500
TZNAME:EST
DTSTART:20231105T060000
END:STANDARD
BEGIN:DAYLIGHT
TZOFFSETFROM:-0500
TZOFFSETTO:-0400
TZNAME:EDT
DTSTART:20240310T070000
END:DAYLIGHT
BEGIN:STANDARD
TZOFFSETFROM:-0400
TZOFFSETTO:-0500
TZNAME:EST
DTSTART:20241103T060000
END:STANDARD
END:VTIMEZONE
BEGIN:VEVENT
DTSTART;VALUE=DATE:20230520
DTEND;VALUE=DATE:20230521
DTSTAMP:20260422T094458
CREATED:20230519T175334Z
LAST-MODIFIED:20230519T175334Z
UID:10000326-1684540800-1684627199@escenariotlx.com
SUMMARY:Tequio a favor de la Laguna de Acuitlapilco
DESCRIPTION:El trabajo no ha parado y seguimos firmes/segures/acuerpades entre diferentes organizaciones y asociaciones. \nHacen este llamado para poder acuerpar y ofrendar nuestro día acompañando a los compañeros de Santa Isabel Xiloxoxtla en el TEQUIO este SABÁDO a las 8:00 am. \nSe necesitan manos\, guantes\, costales\, palas… también se aceptan donaciones en especie o económica para quienes estamos en esta importante labor por la restauración de nuestra Laguna de Acuitlapilco. \nInvitación abierta a todo público. \n¡TE NECESITAMOS! \n \nInvitan vecinos organizados de Xiloxoxtla y: \n\nMarteros Tlaxcala\nPatos Verdes Al Rescate A.C.\nMujeres Cannabicas Tlaxcala\nMujeres Organizadas de Tlaxcala\nColectivo Cyber Pink\nSalvemos la Vida Tlaxcala\nLibélula Viajera\nYaocalli Centro de Estudios y Acción Social\n\nDefinición de Tequio:\nEn México se conoce como tequio a la faena o trabajo colectivo que toda persona debe a su comunidad indígena\, y que se hace en beneficio de la propia comunidad\, razón por la que no es un trabajo remunerado. \n\nTe puede interesar este evento: Taller gratuito «De Viaje» para niñ@s 6 a 12 años
URL:https://escenariotlx.com/evento/tequio-a-favor-de-laguna-de-acuitlapilco/
LOCATION:Laguna de  Acuitlapilco
CATEGORIES:Activismo,Ecología
ATTACH;FMTTYPE=image/jpeg:https://escenariotlx.com/wp-content/uploads/2023/05/tequio.jpg
END:VEVENT
BEGIN:VEVENT
DTSTART;TZID=America/New_York:20230520T100000
DTEND;TZID=America/New_York:20230520T133000
DTSTAMP:20260422T094458
CREATED:20230516T164200Z
LAST-MODIFIED:20230516T164517Z
UID:10000315-1684576800-1684589400@escenariotlx.com
SUMMARY:Danza vivencial y autocuidado “Caminos Somáticos” en Huamantla
DESCRIPTION:La Secretaría de Cultura de Tlaxcala te Invita al taller de Danza vivencial y autocuidado “Caminos somáticos” impartido por Aranzazu García. \nEl sábado 20 de Mayo en Rubi Raqs\, danza oriental en la avenida Mares #13\, Nuevos Horizontes en Huamantla\, Tlaxcala. \nDe 10:00 a 13:30 hrs. \nLa entrada es totalmente libre. \nInformes y registro adanceproject@gmail.com \n⚠️Este proyecto es apoyado por el Sistema de Apoyos a la Creación y Proyectos Culturales (SAPC) a través del Programa de Estímulos la Creación y Desarrollo Artístico (PECDAT). \n\nTe puede interesar este evento: Conferencia: Duelo en neonatos
URL:https://escenariotlx.com/evento/vivencial-autocuidado-caminos-somaticos/
LOCATION:Rubi Raqs\, avenida Mares #13\, Nuevos Horizontes\, Huamantla\, Tlaxcala\, México
CATEGORIES:Danza
ATTACH;FMTTYPE=image/jpeg:https://escenariotlx.com/wp-content/uploads/2023/05/somaticos-huamantla.jpg
END:VEVENT
BEGIN:VEVENT
DTSTART;TZID=America/New_York:20230520T120000
DTEND;TZID=America/New_York:20230520T140000
DTSTAMP:20260422T094458
CREATED:20230516T173825Z
LAST-MODIFIED:20230516T175147Z
UID:10000318-1684584000-1684591200@escenariotlx.com
SUMMARY:"No vamos a llamar al Coco" artes escénicas para bebés
DESCRIPTION:Este sábado 20 de Mayo en la Casa de Música Santa Cruz Tlaxcala lleva a tu bebé a «No vamos a llamar al Coco» una puesta en escena para bebés. \nEsta producción es dirigida por Ángeles Muñoz\, Con Iris Ruiz\, Alejandra Naranjo y Oswaldo Zamora. \nA las 12:00 horas. \n¡Cupo Limitado! \nInvita Secretaría de Cultura Tlaxcala \n \n⚠️Este proyecto es apoyado por el Sistema de Apoyos a la Creación y Proyectos Culturales (SAPC) a través del Programa de Estímulos la Creación y Desarrollo Artístico (PECDAT) \n\nTe puede interesar este evento: Danza vivencial y autocuidado “Caminos somáticos” en Chiautempan
URL:https://escenariotlx.com/evento/no-vamos-a-llamar-al-coco-artes-para-bebes/
LOCATION:Casa de Música Santa Cruz Tlaxcala\, Calle Ignacio Zaragoza #10\, colonia Centro\, Santa Cruz Tlaxcala\, Tlaxcala\, México
CATEGORIES:Teatro
ATTACH;FMTTYPE=image/jpeg:https://escenariotlx.com/wp-content/uploads/2023/05/coco.jpg
END:VEVENT
BEGIN:VEVENT
DTSTART;TZID=America/New_York:20230520T130000
DTEND;TZID=America/New_York:20230520T150000
DTSTAMP:20260422T094458
CREATED:20230519T161702Z
LAST-MODIFIED:20230519T161702Z
UID:10000324-1684587600-1684594800@escenariotlx.com
SUMMARY:Cuentos viajeros: Narraciones\, lecturas libres\, talleres\, charlas y juegos
DESCRIPTION:En Alquimagina las y los participantes disfrutarán de actividades en torno a la lectura: narraciones\, lecturas libres\, talleres\, charlas y juegos\, la Sede de la Secretaría de Cultura en Tlaxcala te espera este próximo sábado. \nCuentos viajeros presentado por Alejandra Guadarrama el 20 de Mayo a las 13:00 horas.\nLas actividades son dedicadas a niñas y niños a partir de los 6 años. \n¡No te lo pierdas! \nEntrada libre. \nOrganiza Alas y Raíces MX \n \n\nTe puede interesar este evento: Presentación del libro «Jódete Cáncer» de Sandra Monroy
URL:https://escenariotlx.com/evento/cuentos-viajeros-narracion-lectura-charla/
LOCATION:Secretaría de Cultura\, Av. Juárez no. 62\, Centro\, Tlaxcala
CATEGORIES:Libros,Talleres
ATTACH;FMTTYPE=image/jpeg:https://escenariotlx.com/wp-content/uploads/2023/05/alquimia.jpg
END:VEVENT
END:VCALENDAR