BEGIN:VCALENDAR
VERSION:2.0
PRODID:-//Escenario Tlaxcala - ECPv6.15.16//NONSGML v1.0//EN
CALSCALE:GREGORIAN
METHOD:PUBLISH
X-WR-CALNAME:Escenario Tlaxcala
X-ORIGINAL-URL:https://escenariotlx.com
X-WR-CALDESC:Eventos para Escenario Tlaxcala
REFRESH-INTERVAL;VALUE=DURATION:PT1H
X-Robots-Tag:noindex
X-PUBLISHED-TTL:PT1H
BEGIN:VTIMEZONE
TZID:America/New_York
BEGIN:DAYLIGHT
TZOFFSETFROM:-0500
TZOFFSETTO:-0400
TZNAME:EDT
DTSTART:20220313T070000
END:DAYLIGHT
BEGIN:STANDARD
TZOFFSETFROM:-0400
TZOFFSETTO:-0500
TZNAME:EST
DTSTART:20221106T060000
END:STANDARD
BEGIN:DAYLIGHT
TZOFFSETFROM:-0500
TZOFFSETTO:-0400
TZNAME:EDT
DTSTART:20230312T070000
END:DAYLIGHT
BEGIN:STANDARD
TZOFFSETFROM:-0400
TZOFFSETTO:-0500
TZNAME:EST
DTSTART:20231105T060000
END:STANDARD
BEGIN:DAYLIGHT
TZOFFSETFROM:-0500
TZOFFSETTO:-0400
TZNAME:EDT
DTSTART:20240310T070000
END:DAYLIGHT
BEGIN:STANDARD
TZOFFSETFROM:-0400
TZOFFSETTO:-0500
TZNAME:EST
DTSTART:20241103T060000
END:STANDARD
END:VTIMEZONE
BEGIN:VEVENT
DTSTART;TZID=America/New_York:20230521T100000
DTEND;TZID=America/New_York:20230521T133000
DTSTAMP:20260425T073552
CREATED:20230516T170032Z
LAST-MODIFIED:20230516T170032Z
UID:10000316-1684663200-1684675800@escenariotlx.com
SUMMARY:Danza vivencial y autocuidado “Caminos somáticos” en Chiautempan
DESCRIPTION:La Secretaría de Cultura de Tlaxcala te Invita al taller de Danza vivencial y autocuidado “Caminos somáticos” impartido por Aranzazu García. \nEl domingo 21 de Mayo en el Estudio de baile «Petite ballet»\, ubicado en la plaza Bicentenario #123\, Local #13\, Carretera Santa Ana – Tlaxcala. \nDe 10:00 a 13:30 hrs. \nLa entrada es totalmente libre. \nInformes y registro adanceproject@gmail.com \n \n⚠️Este proyecto es apoyado por el Sistema de Apoyos a la Creación y Proyectos Culturales (SAPC) a través del Programa de Estímulos la Creación y Desarrollo Artístico (PECDAT). \n\nTe puede interesar este evento: Seminario “Gestión turística sustentable y la conservación del hábitat de la luciérnaga en Nanacamilpa”
URL:https://escenariotlx.com/evento/danza-utocuidado-somaticos-en-chiautempan/
LOCATION:Estudio de baile «Petite ballet\, Plaza Bicentenario #123\, Local #13\, Carretera Santa Ana - Tlaxcala\, Chiautempan\, Tlaxcala\, México
CATEGORIES:Danza
ATTACH;FMTTYPE=image/jpeg:https://escenariotlx.com/wp-content/uploads/2023/05/somaticos-chiautempan.jpg
END:VEVENT
END:VCALENDAR