BEGIN:VCALENDAR
VERSION:2.0
PRODID:-//Escenario Tlaxcala - ECPv6.15.16//NONSGML v1.0//EN
CALSCALE:GREGORIAN
METHOD:PUBLISH
X-WR-CALNAME:Escenario Tlaxcala
X-ORIGINAL-URL:https://escenariotlx.com
X-WR-CALDESC:Eventos para Escenario Tlaxcala
REFRESH-INTERVAL;VALUE=DURATION:PT1H
X-Robots-Tag:noindex
X-PUBLISHED-TTL:PT1H
BEGIN:VTIMEZONE
TZID:America/New_York
BEGIN:DAYLIGHT
TZOFFSETFROM:-0500
TZOFFSETTO:-0400
TZNAME:EDT
DTSTART:20220313T070000
END:DAYLIGHT
BEGIN:STANDARD
TZOFFSETFROM:-0400
TZOFFSETTO:-0500
TZNAME:EST
DTSTART:20221106T060000
END:STANDARD
BEGIN:DAYLIGHT
TZOFFSETFROM:-0500
TZOFFSETTO:-0400
TZNAME:EDT
DTSTART:20230312T070000
END:DAYLIGHT
BEGIN:STANDARD
TZOFFSETFROM:-0400
TZOFFSETTO:-0500
TZNAME:EST
DTSTART:20231105T060000
END:STANDARD
BEGIN:DAYLIGHT
TZOFFSETFROM:-0500
TZOFFSETTO:-0400
TZNAME:EDT
DTSTART:20240310T070000
END:DAYLIGHT
BEGIN:STANDARD
TZOFFSETFROM:-0400
TZOFFSETTO:-0500
TZNAME:EST
DTSTART:20241103T060000
END:STANDARD
END:VTIMEZONE
BEGIN:VEVENT
DTSTART;TZID=America/New_York:20230522T170000
DTEND;TZID=America/New_York:20230522T190000
DTSTAMP:20260424T061249
CREATED:20230503T175744Z
LAST-MODIFIED:20230503T175744Z
UID:10000296-1684774800-1684782000@escenariotlx.com
SUMMARY:Presentación del libro "Jódete Cáncer" de Sandra Monroy
DESCRIPTION:Este mes el Museo Miguel N. Lira Oficial les invita a la presentación del libro «Jódete Cáncer» de Sandra Monroy activista contra el cáncer de mama quien nos cuenta su experiencia con esta enfermedad. \nEl lunes 22 de Mayo a las 17:00 horas en el Auditorio del Museo Miguel N. Lira. \nOrganizan Sinergia México y Museo Miguel N. Lira Oficial \n \n\nTe interesa este evento: Participa en el Campeonato Nacional Dodgeball Apizaco 2023
URL:https://escenariotlx.com/evento/presentacion-del-libro-jodete-cancer/
LOCATION:Museo Miguel N. Lira
CATEGORIES:Libros
ATTACH;FMTTYPE=image/jpeg:https://escenariotlx.com/wp-content/uploads/2023/05/jodete-cancer.jpg
END:VEVENT
BEGIN:VEVENT
DTSTART;TZID=America/New_York:20230522T170000
DTEND;TZID=America/New_York:20230524T190000
DTSTAMP:20260424T061249
CREATED:20230516T172014Z
LAST-MODIFIED:20230516T172235Z
UID:10000317-1684774800-1684954800@escenariotlx.com
SUMMARY:Taller gratuito "De Viaje" para niñ@s 6 a 12 años
DESCRIPTION:La Secretaría de Cultura de Tlaxcala invita a niños y niñas de 6 a 12 años a disfrutar el taller gratuito «De Viaje». Teatro de titeres y objetos con Blanca Lander. \nEl lunes 22 de mayo\, martes 23 de mayo y miércoles 24 de mayo en el Centro Cultural Papalotla ubicado en Calle Progreso No. 2\, Barrio Potrero\, Papalotla de Xicohténcatl\, Tlaxcala. \nLa entrada es libre y las inscripciones están abiertas. \nOrganizan Alas y Raíces MX y México es Cultura \n \n\nTe puede interesar este evento: Gran estreno del concierto de piano con el vals “Tierra Tlaxcalteca”
URL:https://escenariotlx.com/evento/taller-gratuito-viaje-titeres-6-12-anos/
LOCATION:Centro Cultural de Papalotla\, Calle Progreso No. 2\, Barrio Potrero\, Papalotla de Xicohténcatl\, Tlaxcala\, 90790\, México
CATEGORIES:Talleres,Teatro
ATTACH;FMTTYPE=image/jpeg:https://escenariotlx.com/wp-content/uploads/2023/05/de-viaje.jpg
END:VEVENT
END:VCALENDAR