BEGIN:VCALENDAR
VERSION:2.0
PRODID:-//Escenario Tlaxcala - ECPv6.15.16//NONSGML v1.0//EN
CALSCALE:GREGORIAN
METHOD:PUBLISH
X-WR-CALNAME:Escenario Tlaxcala
X-ORIGINAL-URL:https://escenariotlx.com
X-WR-CALDESC:Eventos para Escenario Tlaxcala
REFRESH-INTERVAL;VALUE=DURATION:PT1H
X-Robots-Tag:noindex
X-PUBLISHED-TTL:PT1H
BEGIN:VTIMEZONE
TZID:America/New_York
BEGIN:DAYLIGHT
TZOFFSETFROM:-0500
TZOFFSETTO:-0400
TZNAME:EDT
DTSTART:20220313T070000
END:DAYLIGHT
BEGIN:STANDARD
TZOFFSETFROM:-0400
TZOFFSETTO:-0500
TZNAME:EST
DTSTART:20221106T060000
END:STANDARD
BEGIN:DAYLIGHT
TZOFFSETFROM:-0500
TZOFFSETTO:-0400
TZNAME:EDT
DTSTART:20230312T070000
END:DAYLIGHT
BEGIN:STANDARD
TZOFFSETFROM:-0400
TZOFFSETTO:-0500
TZNAME:EST
DTSTART:20231105T060000
END:STANDARD
BEGIN:DAYLIGHT
TZOFFSETFROM:-0500
TZOFFSETTO:-0400
TZNAME:EDT
DTSTART:20240310T070000
END:DAYLIGHT
BEGIN:STANDARD
TZOFFSETFROM:-0400
TZOFFSETTO:-0500
TZNAME:EST
DTSTART:20241103T060000
END:STANDARD
END:VTIMEZONE
BEGIN:VEVENT
DTSTART;TZID=America/New_York:20230525T120000
DTEND;TZID=America/New_York:20230525T140000
DTSTAMP:20260425T073834
CREATED:20230518T161802Z
LAST-MODIFIED:20230518T161802Z
UID:10000322-1685016000-1685023200@escenariotlx.com
SUMMARY:Lectura de fragmentos de “A Lupita le gustaba planchar”
DESCRIPTION:En marco del Día Naranja y dentro de las actividades del programa “Leo Luego Existo” la actriz Diana Golden nos acompañará leyendo fragmentos de “A Lupita le gustaba planchar” de Laura Esquivel. \nEl 25 de Mayo a las 12:00 hrs. en el Teatro al Aire Libre ubicado en Tenancingo 10 Oriente\, Sección Cuarta. \nEl acceso es totalmente libre. \nEl Museo Miguel N. Lira y la Secretaría de Cultura de Tlaxcala te esperan. \n \nUn poco sobre la actriz que hará la lectura\n \nDiana Goldenberg Jiménez\, mejor conocida como Diana Golden\, es una actriz colombiana radicada en México. \nEntre las telenovelas que ha actuado se encuentran Simplemente María\, Madres egoístas\, La pícara soñadora\, Mujeres engañadas\, Amar sin límites\, La fea más bella\, La madrastra\, Las vías del amor y María Mercedes. \nEn 2003 tuvo el gusto de estrenar la primera obra de su autoría\, Un muerto y 4 arrimados. \nEn 2009-2010 participó en la telenovela Hasta que el dinero nos separe junto a Pedro Fernández e Itati Cantoral como Isabel Duarte «La generala». \nEn 2012\, participó en la telenovela Amores verdaderos junto a Erika Buenfil y Eduardo Yáñez\, y al lado de los protagonistas juveniles Eiza González y Sebastian Rulli como Gilda Levya. \n\nTe puede interesar este evento: Presentación de la gaceta-fanzine «Hartaté de arte con ARTodeARTE
URL:https://escenariotlx.com/evento/lectura-fragmentos-lupita-gustaba-planchar/
LOCATION:Teatro al Aire Libre\, Tenancingo\, 10 Oriente\, Sección Cuarta.\, Tenancingo\, Tlaxcala\, México
CATEGORIES:Libros
ATTACH;FMTTYPE=image/jpeg:https://escenariotlx.com/wp-content/uploads/2023/05/lectura.jpg
END:VEVENT
BEGIN:VEVENT
DTSTART;TZID=America/New_York:20230525T170000
DTEND;TZID=America/New_York:20230525T190000
DTSTAMP:20260425T073834
CREATED:20230509T004120Z
LAST-MODIFIED:20230509T004120Z
UID:10000302-1685034000-1685041200@escenariotlx.com
SUMMARY:Gran estreno del concierto de piano con el vals “Tierra Tlaxcalteca”
DESCRIPTION:La Secretaría de Cultura de Tlaxcala te invita al gran estreno del concierto de Piano a cargo del pianista y compositor Jose Roberto Gómez Vázquez. \nAcompañado de la Orquesta Sinfónica Jose Pablo Moncayo y dirigido por Rosa María Vazquez Lopez. \nEl Jueves 25 de Mayo a las 17:00 hrs. en el Teatro Xicohténcatl. \nLa entrada es totalmente libre y pueden asistir personas partir de los 6 años de edad. \n \n\nTe puede interesar este evento: Participa en el Campeonato Nacional Dodgeball Apizaco 2023
URL:https://escenariotlx.com/evento/gran-estreno-concierto-piano/
LOCATION:Teatro Xicohténcatl
CATEGORIES:Conciertos
ATTACH;FMTTYPE=image/jpeg:https://escenariotlx.com/wp-content/uploads/2023/05/piano.jpg
END:VEVENT
BEGIN:VEVENT
DTSTART;TZID=America/New_York:20230525T170000
DTEND;TZID=America/New_York:20230525T200000
DTSTAMP:20260425T073834
CREATED:20230522T235309Z
LAST-MODIFIED:20230522T235309Z
UID:10000331-1685034000-1685044800@escenariotlx.com
SUMMARY:Inauguración de la exposición “LUCHA Y FRATERNIDAD\, el Triunfo de la Rebeldía”
DESCRIPTION:La Secretaria de Cultura Federal\, el Instituto Nacional de Bellas Artes y Literatura\, el Gobierno del Estado y la Secretaría de Cultura Tlaxcala te invitan a la Inauguración de la exposición “LUCHA Y FRATERNIDAD\, el Triunfo de la Rebeldía de Federico Silva” de Federico Silva. \nEl jueves 25 de Mayo a las 17:00 hrs. en el Museo de Arte de Tlaxcala (MAT). \n \n\nTe puede interesar este evento: Concierto de Jazz fusión “TLAXCALI\, la música del maíz”
URL:https://escenariotlx.com/evento/inauguracion-lucha-fraternidad-triunfo/
LOCATION:Museo del Arte\, Plaza de la Constitución #21\, Tlaxcala\, Tlaxcala\, México
CATEGORIES:Exposición,Museos
ATTACH;FMTTYPE=image/jpeg:https://escenariotlx.com/wp-content/uploads/2023/05/federico.jpg
END:VEVENT
END:VCALENDAR