BEGIN:VCALENDAR
VERSION:2.0
PRODID:-//Escenario Tlaxcala - ECPv6.15.16//NONSGML v1.0//EN
CALSCALE:GREGORIAN
METHOD:PUBLISH
X-ORIGINAL-URL:https://escenariotlx.com
X-WR-CALDESC:Eventos para Escenario Tlaxcala
REFRESH-INTERVAL;VALUE=DURATION:PT1H
X-Robots-Tag:noindex
X-PUBLISHED-TTL:PT1H
BEGIN:VTIMEZONE
TZID:America/New_York
BEGIN:DAYLIGHT
TZOFFSETFROM:-0500
TZOFFSETTO:-0400
TZNAME:EDT
DTSTART:20220313T070000
END:DAYLIGHT
BEGIN:STANDARD
TZOFFSETFROM:-0400
TZOFFSETTO:-0500
TZNAME:EST
DTSTART:20221106T060000
END:STANDARD
BEGIN:DAYLIGHT
TZOFFSETFROM:-0500
TZOFFSETTO:-0400
TZNAME:EDT
DTSTART:20230312T070000
END:DAYLIGHT
BEGIN:STANDARD
TZOFFSETFROM:-0400
TZOFFSETTO:-0500
TZNAME:EST
DTSTART:20231105T060000
END:STANDARD
BEGIN:DAYLIGHT
TZOFFSETFROM:-0500
TZOFFSETTO:-0400
TZNAME:EDT
DTSTART:20240310T070000
END:DAYLIGHT
BEGIN:STANDARD
TZOFFSETFROM:-0400
TZOFFSETTO:-0500
TZNAME:EST
DTSTART:20241103T060000
END:STANDARD
END:VTIMEZONE
BEGIN:VEVENT
DTSTART;TZID=America/New_York:20230530T170000
DTEND;TZID=America/New_York:20230530T190000
DTSTAMP:20260424T040104
CREATED:20230519T170822Z
LAST-MODIFIED:20230519T170822Z
UID:10000325-1685466000-1685473200@escenariotlx.com
SUMMARY:Concierto Grados ad Parnassum en el Teatro Xicohténcatl
DESCRIPTION:La academia de Piano de la Escuela de Música del Estado de Tlaxcala y la Maestra Viktoria Belinskaia presenta a sus alumnos de diferentes niveles con el repértorio de distintas épocas y autores así como los emsambles de cámara con concierto de Piano y Voz\, Trio de Cello\, Piano y Voz. \nEste martes 30 Mayo a las 17:00 hrs. en el Teatro Xicohténcatl. \nLa entrada es completamente libre. \nInvita Escuela de Música del Estado de Tlaxcala \n \n\nTe puede interesar este evento: Presentación de la gaceta-fanzine «Hartaté de arte con ARTodeARTE
URL:https://escenariotlx.com/evento/concierto-grados-ad-parnassum-piano/
LOCATION:Teatro Xicohténcatl
CATEGORIES:Conciertos
ATTACH;FMTTYPE=image/jpeg:https://escenariotlx.com/wp-content/uploads/2023/05/concierto-1.jpg
ORGANIZER;CN="Escuela de M%C3%BAsica del Estado de Tlaxcala":MAILTO:emetlax@gmail.com
END:VEVENT
BEGIN:VEVENT
DTSTART;TZID=America/New_York:20230530T170000
DTEND;TZID=America/New_York:20230530T190000
DTSTAMP:20260424T040104
CREATED:20230525T202013Z
LAST-MODIFIED:20230525T202013Z
UID:10000335-1685466000-1685473200@escenariotlx.com
SUMMARY:Presentación del coro de la Escuela Secundaria Técnica No. 4
DESCRIPTION:El Museo Miguel N. Lira les invitamos a la presentación del Coro de la Escuela Secundaria Técnica No. 4 José Agustín Arrieta\, dentro del programa “El Coro en tu Escuela”\, dirigido por el Maestro Israel Netzahual. \nEl 30 de Mayo a las 17:00 hrs. en el patio posterior del museo. \nAcceso Libre. \n \n\nTe puede ineteresar este evento: Taller de introducción a la filosofía política por Emiliano Muñoz
URL:https://escenariotlx.com/evento/presentacion-coro-secundaria-tecnica-no-4/
LOCATION:Museo Miguel N. Lira
CATEGORIES:Conciertos,Música
ATTACH;FMTTYPE=image/jpeg:https://escenariotlx.com/wp-content/uploads/2023/05/coro-en-tu-escuela.jpg
END:VEVENT
END:VCALENDAR