BEGIN:VCALENDAR
VERSION:2.0
PRODID:-//Escenario Tlaxcala - ECPv6.15.16//NONSGML v1.0//EN
CALSCALE:GREGORIAN
METHOD:PUBLISH
X-WR-CALNAME:Escenario Tlaxcala
X-ORIGINAL-URL:https://escenariotlx.com
X-WR-CALDESC:Eventos para Escenario Tlaxcala
REFRESH-INTERVAL;VALUE=DURATION:PT1H
X-Robots-Tag:noindex
X-PUBLISHED-TTL:PT1H
BEGIN:VTIMEZONE
TZID:America/New_York
BEGIN:DAYLIGHT
TZOFFSETFROM:-0500
TZOFFSETTO:-0400
TZNAME:EDT
DTSTART:20220313T070000
END:DAYLIGHT
BEGIN:STANDARD
TZOFFSETFROM:-0400
TZOFFSETTO:-0500
TZNAME:EST
DTSTART:20221106T060000
END:STANDARD
BEGIN:DAYLIGHT
TZOFFSETFROM:-0500
TZOFFSETTO:-0400
TZNAME:EDT
DTSTART:20230312T070000
END:DAYLIGHT
BEGIN:STANDARD
TZOFFSETFROM:-0400
TZOFFSETTO:-0500
TZNAME:EST
DTSTART:20231105T060000
END:STANDARD
BEGIN:DAYLIGHT
TZOFFSETFROM:-0500
TZOFFSETTO:-0400
TZNAME:EDT
DTSTART:20240310T070000
END:DAYLIGHT
BEGIN:STANDARD
TZOFFSETFROM:-0400
TZOFFSETTO:-0500
TZNAME:EST
DTSTART:20241103T060000
END:STANDARD
END:VTIMEZONE
BEGIN:VEVENT
DTSTART;TZID=America/New_York:20230601T110000
DTEND;TZID=America/New_York:20230630T180000
DTSTAMP:20260420T185946
CREATED:20230609T191307Z
LAST-MODIFIED:20230609T191307Z
UID:10000362-1685617200-1688148000@escenariotlx.com
SUMMARY:Jardín Sonoro de La Colmena: Centro de Tecnologías Creativas
DESCRIPTION:Asiste al Jardín Sonoro de La Colmena: Centro de Tecnologías Creativas. \nEste junio tendrán el ciclo Bosque Sonoro\, un conjunto de 9 piezas de heterofonía\, improvisación sonora y música experimental que vienen del Centro de Cultura Digital. \nEl 11 de junio a las 18:00 hrs. en el Caracol de Palacio de Cultura Tlaxcala. \n\n			\n				\n			\n			\n				\n			\n		\n\n\nTe puede interesar este evento: “MAGNÁNIMA” espectáculo teatral a cargo de Laura Padilla
URL:https://escenariotlx.com/evento/jardin-sonoro-la-colmena-bosques/
LOCATION:Palacio de Cultura en Tlaxcala\, Avenida Benito Juárez N.62\, Tlaxcala de Xicohténcatl\, Tlaxcala\, 90000\, México
CATEGORIES:Activismo,Conciertos
ATTACH;FMTTYPE=image/jpeg:https://escenariotlx.com/wp-content/uploads/2023/06/jardin-sonoro.jpg
END:VEVENT
BEGIN:VEVENT
DTSTART;TZID=America/New_York:20230601T140000
DTEND;TZID=America/New_York:20230703T160000
DTSTAMP:20260420T185946
CREATED:20230525T173259Z
LAST-MODIFIED:20230525T173259Z
UID:10000333-1685628000-1688400000@escenariotlx.com
SUMMARY:Taller de introducción a la filosofía política por Emiliano Muñoz
DESCRIPTION:Participa en el taller de introducción a la filosofía política\, facilitado por Emiliano Muñoz. \nTemario:\n1. Interpretación a Maquiavelo con su obra El príncipe.\n2. Interpretación de Thomas Hobbes con su obra El Leviatán.\n3. Interpretación de John Locke con su obra Segundo Tratado sobre el Gobierno Civil. \nSe llevará a cabo en el Museo Miguel N. Lira\, ubicado en Avenida Independencia número 7; Tlaxcala\, Centro. \nLos días 1\, 2 y 3 de Junio de las 14:00 a las 16:00 hrs. \nLas inscripciones para el taller están abiertas. \nInformes e Inscripciones por messenger y al teléfono 2461175209 o en las oficinas del Museo de lunes a viernes de 10:00 a 16:00 hrs. \n¡Pasa la voz! \n \n\nTe puede interesar: Foro «La educación ambiental es ¡Acción! Hablemos de lo que estamos haciendo en Tlaxcala y en México».
URL:https://escenariotlx.com/evento/taller-introduccion-filosofia-politica/
LOCATION:Museo Miguel N. Lira
CATEGORIES:Talleres
ATTACH;FMTTYPE=image/jpeg:https://escenariotlx.com/wp-content/uploads/2023/05/filosofia-politica.jpg
END:VEVENT
BEGIN:VEVENT
DTSTART;VALUE=DATE:20230605
DTEND;VALUE=DATE:20230610
DTSTAMP:20260420T185946
CREATED:20230530T192749Z
LAST-MODIFIED:20230530T192749Z
UID:10000341-1685923200-1686355199@escenariotlx.com
SUMMARY:III Coloquio Internacional sobre Medio Ambiente y Sustentabilidad
DESCRIPTION:El Colegio de Tlaxcala\, A.C. te invitan del 5 al 9 de junio al III Coloquio Internacional sobre Medio Ambiente y Sustentabilidad\, donde se contará con la participación de investigadores conocidos a nivel nacional e internacional sobre el estudio de esta temática. \n \nSigan la transmisión de cada ponencia por nuestro canal de YouTube: https://youtube.com/@elcolegiodetlaxcala4620 \n \n\nTe puede interesar este evento: Pasarela tlaxcalteca “Arte del Jaspe” en Fibras Naturales
URL:https://escenariotlx.com/evento/coloquio-medio-ambiente-sustentabilidad/
LOCATION:YouTube
CATEGORIES:Conversatorio
ATTACH;FMTTYPE=image/jpeg:https://escenariotlx.com/wp-content/uploads/2023/05/coloquio.jpg
ORGANIZER;CN="Coltlax - El Colegio de Tlaxcala%2C A.C.":MAILTO:comunicacion_social@coltlax.edu.mx
END:VEVENT
BEGIN:VEVENT
DTSTART;TZID=America/New_York:20230609T160000
DTEND;TZID=America/New_York:20230615T200000
DTSTAMP:20260420T185946
CREATED:20230609T194854Z
LAST-MODIFIED:20230609T194854Z
UID:10000363-1686326400-1686859200@escenariotlx.com
SUMMARY:Sundown: Secretos en Acapulco en la Sala de Arte Miguel N. Lira
DESCRIPTION:La Sala de Arte Miguel N. Lira presenta Sundown: Secretos en Acapulco. \n«𝘓𝘰𝘴 𝘉𝘦𝘯𝘯𝘦𝘵𝘵\, 𝘶𝘯𝘢 𝘢𝘥𝘪𝘯𝘦𝘳𝘢𝘥𝘢 𝘧𝘢𝘮𝘪𝘭𝘪𝘢 𝘣𝘳𝘪𝘵𝘢́𝘯𝘪𝘤𝘢 𝘤𝘰𝘮𝘱𝘶𝘦𝘴𝘵𝘢 𝘱𝘰𝘳 𝘈𝘭𝘪𝘤𝘦\, 𝘕𝘦𝘪𝘭 𝘺 𝘭𝘰𝘴 𝘫𝘰́𝘷𝘦𝘯𝘦𝘴 𝘈𝘭𝘦𝘹𝘢 𝘺 𝘊𝘰𝘭𝘪𝘯\, 𝘥𝘪𝘴𝘧𝘳𝘶𝘵𝘢𝘯 𝘥𝘦 𝘶𝘯𝘢𝘴 𝘳𝘦𝘭𝘢𝘫𝘢𝘥𝘢𝘴 𝘷𝘢𝘤𝘢𝘤𝘪𝘰𝘯𝘦𝘴 𝘦𝘯 𝘈𝘤𝘢𝘱𝘶𝘭𝘤𝘰 𝘩𝘢𝘴𝘵𝘢 𝘲𝘶𝘦 𝘶𝘯𝘢 𝘦𝘮𝘦𝘳𝘨𝘦𝘯𝘤𝘪𝘢 𝘧𝘢𝘵𝘢𝘭 𝘪𝘯𝘵𝘦𝘳𝘳𝘶𝘮𝘱𝘦 𝘴𝘶 𝘷𝘪𝘢𝘫𝘦. 𝘊𝘶𝘢𝘯𝘥𝘰 𝘶𝘯 𝘮𝘪𝘦𝘮𝘣𝘳𝘰 𝘥𝘦 𝘭𝘢 𝘧𝘢𝘮𝘪𝘭𝘪𝘢 𝘢𝘭𝘵𝘦𝘳𝘢 𝘦𝘭 𝘰𝘳𝘥𝘦𝘯 𝘺 𝘭𝘢 𝘢𝘳𝘮𝘰𝘯𝘪́𝘢\, 𝘴𝘶𝘳𝘨𝘦𝘯 𝘪𝘯𝘦𝘴𝘱𝘦𝘳𝘢𝘥𝘢𝘴 𝘵𝘦𝘯𝘴𝘪𝘰𝘯𝘦𝘴 𝘺 𝘥𝘪𝘧𝘦𝘳𝘦𝘯𝘤𝘪𝘢𝘴 𝘲𝘶𝘦 𝘭𝘭𝘦𝘨𝘢𝘳𝘢́𝘯 𝘢 𝘭𝘪́𝘮𝘪𝘵𝘦𝘴 𝘪𝘯𝘴𝘰𝘴𝘱𝘦𝘤𝘩𝘢𝘥𝘰𝘴.» \nFecha: del 09 al 15 de Junio / Horario: 4:00 y 6:00 pm / Entrada General: $30.00 pesos \nMás información en: www.coracyt.gob.mx/cine \n \nUn poco sobre Sundown: Secretos en Acapulco.\n\nMéxico-Francia-Suecia\, 2022\nDuración: 83 minutos\nClasificación: B15\nFecha: Del 09 al 15 de Junio\nHorario: 4:00 y 6:00 pm\nEntrada General: $30.00\n\nDirector: Michel Franco\nGuión: Michel Franco\nDir. de Fotografía: Yves Cape\nFotografía: Color\nEdición: Óscar Figueroa Jara y Michel Franco\nCon: Tim Roth (Neil Bennett)\, Charlotte Gainsbourg (Alice Bennett)\, Iazua Larios (Berenice)\, Henry Goodman (Richard)\, Albertine Kotting McMillan (Alexa Bennett)\, Samuel Bottomley (Colin Bennett)\nProductor: Michel Franco\, Cristina Velasco y L. Eréndira Núñez Larios\, Jonas Kellagher\, Caroline Ljungberg\, entre más\nProductora: Teorema\, Common Ground Pictures\, Film i Väst\, Luxbox\nDistribuidora: Videocine \n\nTe puede interesar este evento: Semana Cultural Tlaxcala Diversa 2023
URL:https://escenariotlx.com/evento/sundown-secretos-en-acapulco-miguel-n-lira/
LOCATION:Sala de Arte Miguel N. Lira\, Interior del Jardín Botánico de Tizatlán\, Tlaxcala\, Tlaxcala\, 90105\, México
CATEGORIES:Cine
ATTACH;FMTTYPE=image/jpeg:https://escenariotlx.com/wp-content/uploads/2023/06/351717987_633070215519500_2825739044878149162_n.jpg
END:VEVENT
BEGIN:VEVENT
DTSTART;TZID=America/New_York:20230609T163000
DTEND;TZID=America/New_York:20230609T183000
DTSTAMP:20260420T185946
CREATED:20230607T202008Z
LAST-MODIFIED:20230607T202008Z
UID:10000358-1686328200-1686335400@escenariotlx.com
SUMMARY:Concierto de la Escuela de Música “Toltecayotl”
DESCRIPTION:La Escuela de Música del Estado de Tlaxcala y el H. Ayuntamiento de Terrenate te invitan al concierto de la Escuela de Música “Toltecayotl”. \nEl 9 de junio a las 14:30 horas en la sala “Estanislao Mejía” ubicada en el Centro de las Artes. \nEntrada libre. \n \n\nTe puede interesar este evento: Variedades Movilisticas en el Museo Nacional del Títere
URL:https://escenariotlx.com/evento/concierto-escuela-de-musica-toltecayotl/
LOCATION:Centro de las Artes Tlaxcala
CATEGORIES:Conciertos,Música
ATTACH;FMTTYPE=image/jpeg:https://escenariotlx.com/wp-content/uploads/2023/06/tolteca.jpg
ORGANIZER;CN="Escuela de M%C3%BAsica del Estado de Tlaxcala":MAILTO:emetlax@gmail.com
END:VEVENT
BEGIN:VEVENT
DTSTART;TZID=America/New_York:20230609T170000
DTEND;TZID=America/New_York:20230609T190000
DTSTAMP:20260420T185946
CREATED:20230605T173234Z
LAST-MODIFIED:20230605T173234Z
UID:10000350-1686330000-1686337200@escenariotlx.com
SUMMARY:“Un Lugar Seguro”\, presentación en el Museo Miguel N. Lira
DESCRIPTION:Este viernes el Museo Miguel N. Lira contará con la presencia de Olivia Teroba\, quien presentará su libro “Un Lugar Seguro”\, presenta Mónica Vargas. \nEl acceso es libre. \n9 de junio a las 17:00 hrs. en el Auditorio del Museo Miguel N. Lira. \nUn poco sobre “Un Lugar Seguro”\nEn «Un lugar seguro»\, Olivia Teroba expone\, en doce ensayos breves\, la importancia de la escritura como un método de resistencia frente a los modos de supresión y como un intento de encontrar un espacio físico\, espiritual y metafórico que permita\, ante todo\, ser. Teroba realiza un recorrido a través de la memoria y de lo cotidiano para hablar de lo incómodo\, del miedo\, del dolor\, de la ausencia\, del anhelo\, la ternura y la amistad. Estos ensayos también denuncian la violencia\, hablan de la recuperación de los lazos familiares\, la carga cultural de la traición\, el miedo a repetir patrones de violencia. \n \n\nTe puede ineteresar este evento: Pasarela tlaxcalteca “Arte del Jaspe” en Fibras Naturales
URL:https://escenariotlx.com/evento/un-lugar-seguro-presentacion-libro/
LOCATION:Museo Miguel N. Lira
CATEGORIES:Libros,Museos
ATTACH;FMTTYPE=image/jpeg:https://escenariotlx.com/wp-content/uploads/2023/06/un-lugar-seguro.jpg
END:VEVENT
END:VCALENDAR