BEGIN:VCALENDAR
VERSION:2.0
PRODID:-//Escenario Tlaxcala - ECPv6.15.16//NONSGML v1.0//EN
CALSCALE:GREGORIAN
METHOD:PUBLISH
X-WR-CALNAME:Escenario Tlaxcala
X-ORIGINAL-URL:https://escenariotlx.com
X-WR-CALDESC:Eventos para Escenario Tlaxcala
REFRESH-INTERVAL;VALUE=DURATION:PT1H
X-Robots-Tag:noindex
X-PUBLISHED-TTL:PT1H
BEGIN:VTIMEZONE
TZID:America/New_York
BEGIN:DAYLIGHT
TZOFFSETFROM:-0500
TZOFFSETTO:-0400
TZNAME:EDT
DTSTART:20220313T070000
END:DAYLIGHT
BEGIN:STANDARD
TZOFFSETFROM:-0400
TZOFFSETTO:-0500
TZNAME:EST
DTSTART:20221106T060000
END:STANDARD
BEGIN:DAYLIGHT
TZOFFSETFROM:-0500
TZOFFSETTO:-0400
TZNAME:EDT
DTSTART:20230312T070000
END:DAYLIGHT
BEGIN:STANDARD
TZOFFSETFROM:-0400
TZOFFSETTO:-0500
TZNAME:EST
DTSTART:20231105T060000
END:STANDARD
BEGIN:DAYLIGHT
TZOFFSETFROM:-0500
TZOFFSETTO:-0400
TZNAME:EDT
DTSTART:20240310T070000
END:DAYLIGHT
BEGIN:STANDARD
TZOFFSETFROM:-0400
TZOFFSETTO:-0500
TZNAME:EST
DTSTART:20241103T060000
END:STANDARD
END:VTIMEZONE
BEGIN:VEVENT
DTSTART;TZID=America/New_York:20230601T110000
DTEND;TZID=America/New_York:20230630T180000
DTSTAMP:20260424T040304
CREATED:20230609T191307Z
LAST-MODIFIED:20230609T191307Z
UID:10000362-1685617200-1688148000@escenariotlx.com
SUMMARY:Jardín Sonoro de La Colmena: Centro de Tecnologías Creativas
DESCRIPTION:Asiste al Jardín Sonoro de La Colmena: Centro de Tecnologías Creativas. \nEste junio tendrán el ciclo Bosque Sonoro\, un conjunto de 9 piezas de heterofonía\, improvisación sonora y música experimental que vienen del Centro de Cultura Digital. \nEl 11 de junio a las 18:00 hrs. en el Caracol de Palacio de Cultura Tlaxcala. \n\n			\n				\n			\n			\n				\n			\n		\n\n\nTe puede interesar este evento: “MAGNÁNIMA” espectáculo teatral a cargo de Laura Padilla
URL:https://escenariotlx.com/evento/jardin-sonoro-la-colmena-bosques/
LOCATION:Palacio de Cultura en Tlaxcala\, Avenida Benito Juárez N.62\, Tlaxcala de Xicohténcatl\, Tlaxcala\, 90000\, México
CATEGORIES:Activismo,Conciertos
ATTACH;FMTTYPE=image/jpeg:https://escenariotlx.com/wp-content/uploads/2023/06/jardin-sonoro.jpg
END:VEVENT
BEGIN:VEVENT
DTSTART;TZID=America/New_York:20230601T140000
DTEND;TZID=America/New_York:20230703T160000
DTSTAMP:20260424T040304
CREATED:20230525T173259Z
LAST-MODIFIED:20230525T173259Z
UID:10000333-1685628000-1688400000@escenariotlx.com
SUMMARY:Taller de introducción a la filosofía política por Emiliano Muñoz
DESCRIPTION:Participa en el taller de introducción a la filosofía política\, facilitado por Emiliano Muñoz. \nTemario:\n1. Interpretación a Maquiavelo con su obra El príncipe.\n2. Interpretación de Thomas Hobbes con su obra El Leviatán.\n3. Interpretación de John Locke con su obra Segundo Tratado sobre el Gobierno Civil. \nSe llevará a cabo en el Museo Miguel N. Lira\, ubicado en Avenida Independencia número 7; Tlaxcala\, Centro. \nLos días 1\, 2 y 3 de Junio de las 14:00 a las 16:00 hrs. \nLas inscripciones para el taller están abiertas. \nInformes e Inscripciones por messenger y al teléfono 2461175209 o en las oficinas del Museo de lunes a viernes de 10:00 a 16:00 hrs. \n¡Pasa la voz! \n \n\nTe puede interesar: Foro «La educación ambiental es ¡Acción! Hablemos de lo que estamos haciendo en Tlaxcala y en México».
URL:https://escenariotlx.com/evento/taller-introduccion-filosofia-politica/
LOCATION:Museo Miguel N. Lira
CATEGORIES:Talleres
ATTACH;FMTTYPE=image/jpeg:https://escenariotlx.com/wp-content/uploads/2023/05/filosofia-politica.jpg
END:VEVENT
BEGIN:VEVENT
DTSTART;TZID=America/New_York:20230617T100000
DTEND;TZID=America/New_York:20230715T130000
DTSTAMP:20260424T040304
CREATED:20230613T184538Z
LAST-MODIFIED:20230613T184649Z
UID:10000368-1686996000-1689426000@escenariotlx.com
SUMMARY:Memoria y comunidad a la orilla del río
DESCRIPTION:La Colmena: Centro de Tecnologías Creativas te invita a “Memoria y comunidad a la orilla del río” es una propuesta que busca trabajar con la identidad de las comunidades que han forjado su cultura a partir de la influencia del río que los atraviesa. \nEjercicios de recuperación y difusión a partir de las memorias de la comunidad a la orilla del río Atoyac. \nComparte: Daniela Bom y Armando Ze De \nDel sábado 17 de junio al 15 de julio en el teatro al aire libre\, cabecera municipal de Tepetitla. \nInformes e inscripciones en colmena@cultura.gob.mx \n \n\nTe puede interesar este evento: Conferencia ¿Que somos? Psicología y género
URL:https://escenariotlx.com/evento/memoria-y-comunidad-a-la-orilla-del-rio/
LOCATION:Tepetitla de Lardizábal
CATEGORIES:Activismo,Música
ATTACH;FMTTYPE=image/jpeg:https://escenariotlx.com/wp-content/uploads/2023/06/memiria.jpg
END:VEVENT
BEGIN:VEVENT
DTSTART;TZID=America/New_York:20230623T200000
DTEND;TZID=America/New_York:20230627T220000
DTSTAMP:20260424T040304
CREATED:20230622T170551Z
LAST-MODIFIED:20230622T170551Z
UID:10000386-1687550400-1687903200@escenariotlx.com
SUMMARY:Ciclo de cine con temática LGBT+ en la Sala Miguel N. Lira
DESCRIPTION:La Secretaría de Cultura Tlaxcala continúa con las actividades de la semana Tlaxcala Diversa 2023. \nA partir de este viernes 23 de junio y hasta el martes 27 se proyectará un ciclo de cine en la Sala de Arte Miguel N. Lira con temática LGBT+\, todas las funciones son a las 20:00 hrs. \nCon películas de Polonia\, Rumanía\, Francia\, Estados Unidos y por supuesto México. \nLa entrada es libre. \n \nLas películas del ciclo de cine\nEl ciclo comienza el viernes 23 con la película «Querida Nancy» \n\nPaís: México\nDirector: Olivia Peregrino\nAño: 2021\nDuración 68 Min.\n\n \nEl sábado 24 estará la película «No Odiarás» \n\nPaís: Polonia\nDirector: Mauro Mancini\nAño: 2020\nDuración: 96 Min.\n\n \nPara el domingo 25 estará «Campo De Amapolas» \n\nPaís: Rumania\nDirector: Câmp De Maci\nAño: 2020\nDuración: 81 Min.\n\n \nComienza con la semana con «Un Ciudadano Honesto» \n\nPaís: Rumania\nDirector: Ezrah Mudag\nAño: 2022\nDuración: 83 Min.\n\n \nEl ciclo cierra con «Dos Estaciones» \n\nPaís:México – Francia – Estados Unidos\nDirector: Juan Pablo González\nAño: 2022\nDuración: 99 Min.\n\n \n\nTe puedo interesar este evento: Punto de lectura “Alquimagina Entrevistamos a una científica”
URL:https://escenariotlx.com/evento/ciclo-cine-lgbt-sala-miguel-n-lira/
LOCATION:Sala de Arte Miguel N. Lira\, Interior del Jardín Botánico de Tizatlán\, Tlaxcala\, Tlaxcala\, 90105\, México
CATEGORIES:Activismo,Cine
ATTACH;FMTTYPE=image/jpeg:https://escenariotlx.com/wp-content/uploads/2023/06/ciclo-de-cine.jpg
END:VEVENT
BEGIN:VEVENT
DTSTART;TZID=America/New_York:20230624T100000
DTEND;TZID=America/New_York:20230624T150000
DTSTAMP:20260424T040304
CREATED:20230616T191036Z
LAST-MODIFIED:20230616T191036Z
UID:10000374-1687600800-1687618800@escenariotlx.com
SUMMARY:Laboratorio "Sabatróniko" de La Colmena: Centro de Tecnologías Creativas
DESCRIPTION:Este Sabatróniko se va a poner bueno. En esta ocasión La Colmena: Centro de Tecnologías Creativas tendrá una nueva actividad llamada” Reto Pepenador”\, en ella podrás quedarte con hasta dos dispositivos electrónicos o eléctricos que logres reparar. \nAdemás tendremos talleres\, exposiciones\, charlas\, mesas de reparación y donación\, centro de acopio y nuestro directorio de reparadores. \nEl sábado 24 de junio de 11:00 a las 15:00 horas en el Palacio de Cultura Tlaxcala. \n¡No te lo pierdas! \n \n¿Qué es el Laboratorio Sabatróniko?\nEs una comunidad de reparación\, intercambio y reciclaje tecnológico para la\nemancipación creativa. En el evento habrá: \nTALLERES\n• Disecciona tu juguete\n• Trapillo \nEXPOSICIONES\n• Chatarra Grand Prix\n• Exposición efímera \nCOMUNIDADES\n• Reto pepenador\n• Mesas de reparación\n• Reto del desapego tecnológico\n• Centro de acopio\n• Directorio de reparadores \nAgenda 2023\n• Comparte: Lic. Karla Leylany Reyes Amaro \n\nTe puede interesar: Lavadora de aguas residuales\, pieza que crítica los problemas con el agua
URL:https://escenariotlx.com/evento/laboratorio-sabatroniko-la-colemna/
LOCATION:Palacio de Cultura en Tlaxcala\, Avenida Benito Juárez N.62\, Tlaxcala de Xicohténcatl\, Tlaxcala\, 90000\, México
CATEGORIES:Activismo,Exposición,Talleres
ATTACH;FMTTYPE=image/jpeg:https://escenariotlx.com/wp-content/uploads/2023/06/sabatroniko.jpg
END:VEVENT
BEGIN:VEVENT
DTSTART;TZID=America/New_York:20230624T130000
DTEND;TZID=America/New_York:20230624T150000
DTSTAMP:20260424T040304
CREATED:20230622T161225Z
LAST-MODIFIED:20230622T161225Z
UID:10000385-1687611600-1687618800@escenariotlx.com
SUMMARY:Punto de lectura “Alquimagina Entrevistamos a una científica”
DESCRIPTION:En el punto de lectura Alquimagina Entrevistamos a una científica podrás disfrutar de actividades en torno a la lectura: narraciones\, lecturas libres\, talleres\, charlas y juegos. \nLa Secretaría te invita a la presentación de Renata Luna y Seleste Posadas el sábado 24 de Junio 2023 a las 13:00 horas en el Palacio de Cultura Tlaxcala\, Sede de la Secretaría de Cultura en Tlaxcala ubicada en la Avenida Juárez #62\, Colonia Centro\, Tlaxcala. \nLas actividades son para niñas y niños a partir de los 6 años. \nEntrada libre. \n \nLibros de Alas y Raíces \n\nTe puede interesar este evento: Presentación “La Comida Tradicional Tlaxcalteca” en Ixtenco
URL:https://escenariotlx.com/evento/punto-lectura-alquimagina-entrevista/
LOCATION:Palacio de Cultura en Tlaxcala\, Avenida Benito Juárez N.62\, Tlaxcala de Xicohténcatl\, Tlaxcala\, 90000\, México
CATEGORIES:Libros
ATTACH;FMTTYPE=image/jpeg:https://escenariotlx.com/wp-content/uploads/2023/06/cientifica.jpg
END:VEVENT
BEGIN:VEVENT
DTSTART;TZID=America/New_York:20230624T130000
DTEND;TZID=America/New_York:20230625T150000
DTSTAMP:20260424T040304
CREATED:20230622T193037Z
LAST-MODIFIED:20230622T193037Z
UID:10000389-1687611600-1687705200@escenariotlx.com
SUMMARY:Función de títeres “Revista Musical”
DESCRIPTION:El Museo Nacional del Títere te invita a la gran función de títeres de marionetas de huamantla “Revista Musical”. \nLas funciones serán los días 24 y 25 de junio a las 13:00\, 14:00 y 15:00 hrs en el Teatro del Museo Nacional del Títere. \n \n\nTe puede interesar este evento: Presentación del libro “Maximiliano y Tlaxcala el II Imperio”
URL:https://escenariotlx.com/evento/funcion-de-titeres-revista-musical-munati/
LOCATION:Teatro del Museo Nacional del Títere\, Parque Juárez 15\, Huamantla\, Huamantla\, Tlaxcala\, México
CATEGORIES:Teatro
ATTACH;FMTTYPE=image/jpeg:https://escenariotlx.com/wp-content/uploads/2023/06/revista.jpg
END:VEVENT
BEGIN:VEVENT
DTSTART;TZID=America/New_York:20230624T160000
DTEND;TZID=America/New_York:20230624T180000
DTSTAMP:20260424T040304
CREATED:20230622T174215Z
LAST-MODIFIED:20230622T174215Z
UID:10000387-1687622400-1687629600@escenariotlx.com
SUMMARY:Representación escénica “FENÓMENO “ compañía In Tensión Teatro
DESCRIPTION:La Secretaría de Cultura de Tlaxcala te invita a la obra “ FENÓMENO – Nunca pude recordar el camino de regreso a casa”. \nDramaturgia y dirección de Hugo Alfredo Hinojosa y elenco Larick Huerta. \nEl 24 de junio a las 16:00 hrs. en Palacio de Cultura de Tlaxcala ubicado en la Avenida Juárez 62\, Centro\, Tlaxcala. \nEntrada Libre. \nUn poco sobre la representación escénica\nDuración: 45 minutos Público: +12 Género: Drama \nSinopsis \nUn hombre sin nombre\, pero llamado por todos: fenómeno\, se encuentra con la muerte\, en la fosa de su propio sepulcro\, haciendo el recuento de la pesadilla que fue su existencia. Un niño/hombre obligado a pertenecer al crimen organizado. Vidas que se entrelazan. Desaparición forzada. Víctimas y victimarios. Este ser sin nombre es una pieza más del ajedrez sociopolítico y criminal de la cruda realidad mexicana. \n \n\nTe puede interesar este evento: Taller “De la palabra al guión” de La Colmena
URL:https://escenariotlx.com/evento/representacion-escenica-fenomeno/
LOCATION:Palacio de Cultura en Tlaxcala\, Avenida Benito Juárez N.62\, Tlaxcala de Xicohténcatl\, Tlaxcala\, 90000\, México
CATEGORIES:Teatro
ATTACH;FMTTYPE=image/jpeg:https://escenariotlx.com/wp-content/uploads/2023/06/Fenomeno.jpg
END:VEVENT
END:VCALENDAR