BEGIN:VCALENDAR
VERSION:2.0
PRODID:-//Escenario Tlaxcala - ECPv6.15.16//NONSGML v1.0//EN
CALSCALE:GREGORIAN
METHOD:PUBLISH
X-WR-CALNAME:Escenario Tlaxcala
X-ORIGINAL-URL:https://escenariotlx.com
X-WR-CALDESC:Eventos para Escenario Tlaxcala
REFRESH-INTERVAL;VALUE=DURATION:PT1H
X-Robots-Tag:noindex
X-PUBLISHED-TTL:PT1H
BEGIN:VTIMEZONE
TZID:America/New_York
BEGIN:DAYLIGHT
TZOFFSETFROM:-0500
TZOFFSETTO:-0400
TZNAME:EDT
DTSTART:20220313T070000
END:DAYLIGHT
BEGIN:STANDARD
TZOFFSETFROM:-0400
TZOFFSETTO:-0500
TZNAME:EST
DTSTART:20221106T060000
END:STANDARD
BEGIN:DAYLIGHT
TZOFFSETFROM:-0500
TZOFFSETTO:-0400
TZNAME:EDT
DTSTART:20230312T070000
END:DAYLIGHT
BEGIN:STANDARD
TZOFFSETFROM:-0400
TZOFFSETTO:-0500
TZNAME:EST
DTSTART:20231105T060000
END:STANDARD
BEGIN:DAYLIGHT
TZOFFSETFROM:-0500
TZOFFSETTO:-0400
TZNAME:EDT
DTSTART:20240310T070000
END:DAYLIGHT
BEGIN:STANDARD
TZOFFSETFROM:-0400
TZOFFSETTO:-0500
TZNAME:EST
DTSTART:20241103T060000
END:STANDARD
END:VTIMEZONE
BEGIN:VEVENT
DTSTART;VALUE=DATE:20230701
DTEND;VALUE=DATE:20230730
DTSTAMP:20260425T121529
CREATED:20230704T210324Z
LAST-MODIFIED:20230704T210355Z
UID:10000393-1688169600-1690675199@escenariotlx.com
SUMMARY:Ciclo de conciertos en la Casa de Música de Tlaxcala
DESCRIPTION:La Casa de Música del Estado de Tlaxcala te invita a su ciclo de conciertos en el mes de Julio\, aquí te dejamos la programación. \nLa entrada es libre a todos los conciertos. \nInvita la Secretaría del Estado se Tlaxcala \nAgenda todos los conciertos\n \nViernes 07 Julio – 17:00 Hrs.\nOrquesta Sinfónica Infantil de Tlaxcala\nSanta Isabel Xiloxoxtla\, Explanada Concierto de Fiesta Patronal \nSábado 8 Julio – 10:00 Hrs.\nOrquesta Sinfónica Infantil de Apizaco\nSala de Conciertos de la Casa de Música de Apizaco \nMartes 11 Julio – 17:00 Hrs\nOrquesta Sinfónica Infantil de Apizaco\nTeatro Ignacio Carcía Téllez\, Imss Concierto \nSábado 15 Julio – 17:00 Hrs.\nOrquesta Sinfónica Infantil de Apizaco\nIglesia del Carmen Apizaco\nConcierto de Fiesta Patronal \nLunes 17 Julio – 17:00 Hrs\nOrquesta Sinfónica Infantil de Tlaxcala\nAuditorio de Casa de Música de Tlaxcala\nEnsambles Sinfónicos y Coro \nMartes 18 Julio – 17.00 Hrs\nTalleres de Tlaxcala\nSalón No. 1 de Casa de Música de Tlaxcala\nConcierto de Piano \nViernes 21 Julio – 17:00 Hrs.\nOrquesta Sinfónica Infantil y Talleres de Santa Cruz Tlaxcala\nSala de Conciertos de la Casa de Música de Santa Cruz Tlaxcala\nConcierto De Clausura Ciclo Escolar \nMartes 25 Julio- 17:00 Hrs.\nTalleres de Tlaxcala\nAuditorio de Casa de Música de Tlaxcala\nConcierto de Clausura Ciclo Escolar \nMiércoles 26 Julio – 17:00 Hrs\nOrquesta Sinfônica Infantil de Tlaxcala\nAuditorio De Casa De Música De Tlaxcala\nConcierto De Clausura Ciclo Escolar \nViernes 28 Julio – 17:00 Hrs\nOrquesta Sinfónica Infantil De Huamantla\nCasa Amarilla Del Centro Cultural Huamantla\nConcierto De Clausura Ciclo Escolar \nSábado 29 Julio – 14:00 Hrs\nOrquesta Sinfónica Infantil De Huamantla\nConvento De Misioneras De Huamantla\nConcierto Aniversario Religioso De La Madre Eloisa Torralba Aquino \n\nTe puede interesar este evento: «MÍA»\, espectáculo teatral actriz y títere
URL:https://escenariotlx.com/evento/ciclo-conciertos-casa-musica-de-tlaxcala/
LOCATION:Casa de Música Santa Cruz Tlaxcala\, Calle Ignacio Zaragoza #10\, colonia Centro\, Santa Cruz Tlaxcala\, Tlaxcala\, México
CATEGORIES:Conciertos
ATTACH;FMTTYPE=image/jpeg:https://escenariotlx.com/wp-content/uploads/2023/07/casa.jpg
END:VEVENT
BEGIN:VEVENT
DTSTART;TZID=America/New_York:20230706T110000
DTEND;TZID=America/New_York:20230824T180000
DTSTAMP:20260425T121529
CREATED:20230705T183937Z
LAST-MODIFIED:20230705T183937Z
UID:10000397-1688641200-1692900000@escenariotlx.com
SUMMARY:Inauguración de la exposición “Iconografía de los números”
DESCRIPTION:La Colmena: Centro de Tecnologías Creativas te recomienda asistir a la inauguramos la expo “Iconografía de los números. De la abstracción matemática a la inconmensurabilidad visual”. \nLa apertura será el 6 de julio y estará al 24 de agosto en un horario de las 11:00 a las 18:00 hrs. en el Palacio de Cultura ubicado en la avenida Juárez 62\, Centro\, Tlaxcala. \nLa inauguración será a las 18:00 horas. \nLa muestra es de 18 piezas que expanden la posibilidad de los números a formas visualmente abstractas del maestro Luis Carlos Velázquez. \n¡Entrada libre! \nMás información en: colmena@cultura.gob.mx \n \n \n\nTe puede interesar este evento: Concierto de Música de Cámara de ”Danza Non Danza”
URL:https://escenariotlx.com/evento/inauguracion-exposicion-iconografia/
LOCATION:Palacio de Cultura en Tlaxcala\, Avenida Benito Juárez N.62\, Tlaxcala de Xicohténcatl\, Tlaxcala\, 90000\, México
CATEGORIES:Exposición
ATTACH;FMTTYPE=image/jpeg:https://escenariotlx.com/wp-content/uploads/2023/07/Inconografia.jpg
END:VEVENT
BEGIN:VEVENT
DTSTART;TZID=America/New_York:20230710T160000
DTEND;TZID=America/New_York:20230728T180000
DTSTAMP:20260425T121529
CREATED:20230705T192112Z
LAST-MODIFIED:20230705T192112Z
UID:10000398-1689004800-1690567200@escenariotlx.com
SUMMARY:Taller “Documental huehuero” de La Colmena
DESCRIPTION:¿Te interesa narrar historias de las personas que han hecho posible el carnaval? No te pierdas el taller Documental huehuero\, un espacio que busca crear memorias que conforman la identidad del carnaval en la comunidad. \nEl taller será impartido por Melisa Ortega Pérez y podrás hacer edición y producción básica de video con celular para narrar la memoria del carnaval tlaxcalteca desde sus comunidades. \nLa modalidad será presencial los Lunes\, Miércoles y Viernes en el Palacio de Cultura ubicado en la Avenida Juárez #62\, Tlaxcala\, Centro. \nLos resultados formarán parte del proyecto Huehuepedia. \nInvita La Colmena: Centro de Tecnologías Creativas \n \n \n\nTe puede interesar este evento: “Zumbidero” primer bailongo de La Colmena
URL:https://escenariotlx.com/evento/taller-documental-huehuero-la-colmena/
LOCATION:Palacio de Cultura en Tlaxcala\, Avenida Benito Juárez N.62\, Tlaxcala de Xicohténcatl\, Tlaxcala\, 90000\, México
CATEGORIES:Cursos
ATTACH;FMTTYPE=image/jpeg:https://escenariotlx.com/wp-content/uploads/2023/07/documental.jpg
END:VEVENT
BEGIN:VEVENT
DTSTART;TZID=America/New_York:20230727T160000
DTEND;TZID=America/New_York:20230907T180000
DTSTAMP:20260425T121529
CREATED:20230711T164448Z
LAST-MODIFIED:20230711T164631Z
UID:10000407-1690473600-1694109600@escenariotlx.com
SUMMARY:Taller de Verano Feminista
DESCRIPTION:La Red de Acompañantas de Tlaxcala\, te invita al Taller de Verano Feminista el cual tiene como objetivo “Construir un espacio colectivo de reflexión y análisis de conceptos teóricos normalizados desde el sistema capitalista\, heteronormativo\, patriarcal y occidentalizada que perpetúan y normalizan las condiciones de desigualdad de género”. \nEl taller está dirigido a mujeres mayores de 15 años activistas\, estudiantes\, servidoras públicas\, docentes\, sociedad civil e interesadas en implementar herramientas de autocuidado colectivo feminista. \nLas sesiones se desarrollarán de manera dinámica vivencial en el centro de Tlaxcala (se compartirá la información una vez se realice el registro)\, los días jueves del 27 de julio al 07 de septiembre 2023 en un horario de 16:00-18:00 horas. \nImparten mujeres profesionales especializadas en Derechos Sexuales y Reproductivos\, Acompañamiento de aborto\, Psicología\, Biotecnología\, Derecho y Trabajo Social. \nInformación y registro en el siguiente formulario ➡ https://forms.gle/kLR4ekVNiRMSKKgz8 \nDespués escríbeles a la página de Facebook: Red de Acompañantas de Tlaxcala \nCuota de recuperación: $1\,200.00 \nIncluye: \n\nCoffe break\nKit feminista\n\n¡Habrá un descuento del 50% a las primeras cinco estudiantes! \n \nTemario del taller de Verano Feminista\n\nMenstruación consciente\nDel amor romántico al amor compañero\nHerramientas para el Autocuidado colectivo feminista\nDerechos Sexuales y Reproductivos\nDespenalización social del aborto\nEstereotipos de belleza\nSexualidad placentera\nMarco jurídico del aborto\n\n \n\nTe puede interesar este evento: 1era. edición de «Noches de la Memoria 2023»
URL:https://escenariotlx.com/evento/taller-de-verano-feminista-autocuidado/
LOCATION:Tlaxcala
ATTACH;FMTTYPE=image/jpeg:https://escenariotlx.com/wp-content/uploads/2023/07/feminista.jpg
END:VEVENT
BEGIN:VEVENT
DTSTART;TZID=America/New_York:20230728T080000
DTEND;TZID=America/New_York:20230809T170000
DTSTAMP:20260425T121529
CREATED:20230724T190556Z
LAST-MODIFIED:20230724T192535Z
UID:10000413-1690531200-1691600400@escenariotlx.com
SUMMARY:73 Muestra Internacional de Cine en la Sala de Arte Miguel N. Lira
DESCRIPTION:La Secretaría de Cultura en conjunto con la Cineteca Nacional\, y la Coordinación de Radio\, Cine y Televisión te invitan a la 73 Muestra Internacional de Cine que se realizará del 28 de julio al 9 de agosto de 2023 en la Sala de Arte Miguel N. Lira\, ubicada en el Jardín Botánico de Tizatlán. \nLa entrada general tiene un costo de $35.00. \nTe invitamos a conocer la programación a continuación. \nViernes 28 de julio – 16:00 y 18:30 hrs.  \nDos Estaciones \nDir. Juan Pablo González \nMéxico – Francia – Estados Unidos\, 2022. \n99 min. |B \nSábado 29 de julio – 16:00\, 18:30 y 20:30 hrs.  \nLa ultima función de cine \nDir. Pan Nalin \nIndia – Francia – Estados Unidos\, 2021. \n110 min. |A \nDomingo 30 de julio – 16:00\, 18:30 y 20:30 hrs.  \nAraña Sagrada \nDir. Ali Abbasi \nDinamarca – Alemania – Suecia – Francia – Estados Unidos\, 2022. \n117 min. |C \nLunes 31 de julio – 16:00 y 18:30 hrs.  \nEl amor según Dalva \nDir. Emmanuelle Nicot \nFrancia – Belgica\, 2022. \n117 min. |C \nMartes 01 de agosto – 16:00 y 18:30 hrs.  \nUn ciudadano honesto \nDir. Idan Haguel \nIsrael\, 2022. \n82 min. |B15 \nMiércoles 02 de agosto – 16:00 y 18:30 hrs.  \nSobre las nubes \nDir. María Aparicio \nArgentina\, 2022. \n143 min. |A \nJueves 03 de agosto – 16:00 y 18:30 hrs.  \nSparta \nDir. Ulrich Seidl \nAustria – Alemania – Francia\, 2022. \n101 min. |C \nViernes 04 de agosto – 16:00 y 18:30 hrs.  \nLaila en Haifa \nDir. Amos Gitai \nFrancia – Israel\, 2020. \n99 min. |B15 \nSabado 05 de agosto – 16:00 y 18:30 hrs.  \nKlondike \nDir. Maryna Er Gorbach \nUcrania – Turquía\, 2022. \n100 min. |B15 \nDomingo 06 de agosto – 16:00 y 18:30 hrs.  \nUna película sobre la vida \nDir. Dovile Sarutyte \nLituania – Estados Unidos\, 2021. \n100 min. |B \nLunes 07 de agosto – 16:00 y 18:30 hrs.  \nVicenta B \nDir. Carlos Lechuga \nCuba – Francia – Estados Unidos – Colombia – Noruega\, 2022. \n77 min. |B \nMartes 08 de agosto – 16:00 y 18:30 hrs.\nGodland \nDir. Hlynur Pálmason \nDinamarca – Islandia – Francia – Suecia\, 2022. \n143 min. |B \nMiércoles 09 de agosto – 16:00 y 18:30 hrs.\nLa doble vida de Verónica \nDir. Krzysztof Kieślowski \nFrancia – Polonia – Noruega\, 1991. \n96 min. |B \n \n\nConoce a la comunidad con membresía Escenario Tlaxcala que nos permite seguir haciendo periodismo independiente dando clic aquí.
URL:https://escenariotlx.com/evento/73-muestra-internacional-de-cine-en-la-sala-de-arte-miguel-n-lira/
LOCATION:Sala de Arte Miguel N. Lira\, Interior del Jardín Botánico de Tizatlán\, Tlaxcala\, Tlaxcala\, 90105\, México
ATTACH;FMTTYPE=image/jpeg:https://escenariotlx.com/wp-content/uploads/2023/07/WhatsApp-Image-2023-07-24-at-13.10.11-1.jpeg
END:VEVENT
BEGIN:VEVENT
DTSTART;TZID=America/New_York:20230728T150000
DTEND;TZID=America/New_York:20230728T183000
DTSTAMP:20260425T121529
CREATED:20230714T164654Z
LAST-MODIFIED:20230714T164654Z
UID:10000411-1690556400-1690569000@escenariotlx.com
SUMMARY:Festival "Jóvenes con 3: alegría\, esperanza y amor"
DESCRIPTION:El Centro Fray Julián Garcés Derechos Humanos y Desarrollo Local A.C. te espera el próximo 28 de julio\, en el marco del Día mundial contra la trata de personas\, llevaremos a cabo el Festival «Jóvenes con 3: alegría\, esperanza y amor». \nSe contará con la participación de Andros\, Prania Esponda\, Wird Pipol\, e «Imprudentes teatro». \nHora: 3:00 a 6:30 pm. \nLugar: Auditorio de la Iglesia de Teolocholco. \nDirección: Calle 20 de Noviembre\, Segunda Sección\, Teolocholco\, Tlax. \n \n\nTe puede interesar este evento: 1era. edición de «Noches de la Memoria 2023»
URL:https://escenariotlx.com/evento/festival-jovenes-alegria-esperanza-y-amor/
LOCATION:Tlaxcala
CATEGORIES:Festivales
ATTACH;FMTTYPE=image/jpeg:https://escenariotlx.com/wp-content/uploads/2023/07/jovenes.jpg
END:VEVENT
BEGIN:VEVENT
DTSTART;TZID=America/New_York:20230728T180000
DTEND;TZID=America/New_York:20230728T200000
DTSTAMP:20260425T121529
CREATED:20230707T171302Z
LAST-MODIFIED:20230707T171302Z
UID:10000402-1690567200-1690574400@escenariotlx.com
SUMMARY:1era. edición de "Noches de la Memoria 2023"
DESCRIPTION:El Museo de la Memoria Tlaxcala te espera en la 1era. edición de «Noches de la Memoria 2023» con el concierto en violín “Mi música huasteca” de Santiago Zoan Vázquez Fernández. \nSantiago es alumno del maestro Homero Gallardo Mora de la cátedra de violín TLAUI-CEFOM. \nSerá el 28 de julio 2023 a las 18:00 hrs. \nEntrada libre. \n \n\nTe puede interesar este evento: Curso de verano “Taller de títeres”
URL:https://escenariotlx.com/evento/1era-edicion-de-noches-de-la-memoria-2023/
LOCATION:Museo de la Memoria
CATEGORIES:Conciertos
ATTACH;FMTTYPE=image/jpeg:https://escenariotlx.com/wp-content/uploads/2023/07/noches.jpg
END:VEVENT
END:VCALENDAR