BEGIN:VCALENDAR
VERSION:2.0
PRODID:-//Escenario Tlaxcala - ECPv6.15.16//NONSGML v1.0//EN
CALSCALE:GREGORIAN
METHOD:PUBLISH
X-ORIGINAL-URL:https://escenariotlx.com
X-WR-CALDESC:Eventos para Escenario Tlaxcala
REFRESH-INTERVAL;VALUE=DURATION:PT1H
X-Robots-Tag:noindex
X-PUBLISHED-TTL:PT1H
BEGIN:VTIMEZONE
TZID:America/New_York
BEGIN:DAYLIGHT
TZOFFSETFROM:-0500
TZOFFSETTO:-0400
TZNAME:EDT
DTSTART:20220313T070000
END:DAYLIGHT
BEGIN:STANDARD
TZOFFSETFROM:-0400
TZOFFSETTO:-0500
TZNAME:EST
DTSTART:20221106T060000
END:STANDARD
BEGIN:DAYLIGHT
TZOFFSETFROM:-0500
TZOFFSETTO:-0400
TZNAME:EDT
DTSTART:20230312T070000
END:DAYLIGHT
BEGIN:STANDARD
TZOFFSETFROM:-0400
TZOFFSETTO:-0500
TZNAME:EST
DTSTART:20231105T060000
END:STANDARD
BEGIN:DAYLIGHT
TZOFFSETFROM:-0500
TZOFFSETTO:-0400
TZNAME:EDT
DTSTART:20240310T070000
END:DAYLIGHT
BEGIN:STANDARD
TZOFFSETFROM:-0400
TZOFFSETTO:-0500
TZNAME:EST
DTSTART:20241103T060000
END:STANDARD
END:VTIMEZONE
BEGIN:VEVENT
DTSTART;TZID=America/New_York:20230816T160000
DTEND;TZID=America/New_York:20231115T190000
DTSTAMP:20260424T040034
CREATED:20230814T191945Z
LAST-MODIFIED:20230814T192019Z
UID:10000431-1692201600-1700074800@escenariotlx.com
SUMMARY:Taller de recuperación de la lengua Yuhmú
DESCRIPTION:Como parte de la promoción y divulgación del patrimonio cultural\, material e inmaterial de Tlaxcala la Secretaría de Cultura de Tlaxcala al taller «Aprendamos Yumhú\, Pepenando palabras» recuperación de la lengua. \nEn el Centro Cultural de Ixtenco\, calle 11 Sur número 3 Barrio San Antonio Segundo\, Ixtenco Tlaxcala. Los días miércoles y jueves del 16 de agosto al 15 de noviembre en un horario de 16:00 hrs a 19:00\, la modalidad es presencial para público a partir de los 9 años en adelante. \nTaller totalmente gratuito. \nMayores informes: 247 138 2134
URL:https://escenariotlx.com/evento/taller-de-recuperacion-de-la-lengua-yuhmu/
LOCATION:Centro Cultural de Ixtenco
ATTACH;FMTTYPE=image/jpeg:https://escenariotlx.com/wp-content/uploads/2023/08/WhatsApp-Image-2023-08-14-at-13.18.00.jpeg
END:VEVENT
BEGIN:VEVENT
DTSTART;TZID=America/New_York:20230923T100000
DTEND;TZID=America/New_York:20230923T160000
DTSTAMP:20260424T040034
CREATED:20230913T185128Z
LAST-MODIFIED:20230913T185149Z
UID:10000461-1695463200-1695484800@escenariotlx.com
SUMMARY:Encuentro textil en Tlaxcala\, mujeres y telares
DESCRIPTION:No te pierdas la Segunda edición del Encuentro Textil en Tlaxcala\, mujeres y telares en el marco de la conmemoración del día internacional de la mujer indígena.\n\n\nHabrá conferencias\, talleres\, conversatorios y más…\n\n\nEl sábado 23 y domingo 24 de septiembre en la Pinacoteca del Estado «Desiderio H. Xochitiotzin»\nEntrada libre
URL:https://escenariotlx.com/evento/encuentro-textil-en-tlaxcala-mujeres-y-telares/
LOCATION:Pinacoteca del Estado\, Av. Guerrero #15\, Tlaxcala\, Tlaxcala\, México
ATTACH;FMTTYPE=image/jpeg:https://escenariotlx.com/wp-content/uploads/2023/09/WhatsApp-Image-2023-09-13-at-12.50.03.jpeg
END:VEVENT
BEGIN:VEVENT
DTSTART;TZID=America/New_York:20230923T130000
DTEND;TZID=America/New_York:20230923T130000
DTSTAMP:20260424T040034
CREATED:20230918T171536Z
LAST-MODIFIED:20230918T171536Z
UID:10000465-1695474000-1695474000@escenariotlx.com
SUMMARY:Punto de Lectura #Alquimagina "¿Soy tuyo?"
DESCRIPTION:La Secretaría de Cultura te invita al Punto de Lectura #Alquimagina «¿Soy tuyo?» con narraciones\, cuentos y mucho más… \nLa mediación de la lectura estará a cargo de Angelita Flores y Alan Aguilar. \nEsta actividad es dirigida a niñas y niños a partir de los 6 años de edad.\nAnotalo para las infancias de la casa el día sábado 23 de septiembre de 2023 a las 13:00 horas en Palacio de Cultura Tlaxcala Av. Juárez No. 62\, Colonia Centro\, Tlaxcala. \nActividad de entrada libre.
URL:https://escenariotlx.com/evento/punto-de-lectura-alquimagina-soy-tuyo/
LOCATION:Secretaría de Cultura\, Av. Juárez no. 62\, Centro\, Tlaxcala
ATTACH;FMTTYPE=image/jpeg:https://escenariotlx.com/wp-content/uploads/2023/09/378396934_704762648359486_4790500868495131604_n.jpg
END:VEVENT
END:VCALENDAR