BEGIN:VCALENDAR
VERSION:2.0
PRODID:-//Escenario Tlaxcala - ECPv6.15.16//NONSGML v1.0//EN
CALSCALE:GREGORIAN
METHOD:PUBLISH
X-WR-CALNAME:Escenario Tlaxcala
X-ORIGINAL-URL:https://escenariotlx.com
X-WR-CALDESC:Eventos para Escenario Tlaxcala
REFRESH-INTERVAL;VALUE=DURATION:PT1H
X-Robots-Tag:noindex
X-PUBLISHED-TTL:PT1H
BEGIN:VTIMEZONE
TZID:America/New_York
BEGIN:DAYLIGHT
TZOFFSETFROM:-0500
TZOFFSETTO:-0400
TZNAME:EDT
DTSTART:20230312T070000
END:DAYLIGHT
BEGIN:STANDARD
TZOFFSETFROM:-0400
TZOFFSETTO:-0500
TZNAME:EST
DTSTART:20231105T060000
END:STANDARD
BEGIN:DAYLIGHT
TZOFFSETFROM:-0500
TZOFFSETTO:-0400
TZNAME:EDT
DTSTART:20240310T070000
END:DAYLIGHT
BEGIN:STANDARD
TZOFFSETFROM:-0400
TZOFFSETTO:-0500
TZNAME:EST
DTSTART:20241103T060000
END:STANDARD
BEGIN:DAYLIGHT
TZOFFSETFROM:-0500
TZOFFSETTO:-0400
TZNAME:EDT
DTSTART:20250309T070000
END:DAYLIGHT
BEGIN:STANDARD
TZOFFSETFROM:-0400
TZOFFSETTO:-0500
TZNAME:EST
DTSTART:20251102T060000
END:STANDARD
END:VTIMEZONE
BEGIN:VEVENT
DTSTART;TZID=America/New_York:20240808T170000
DTEND;TZID=America/New_York:20240813T170000
DTSTAMP:20260424T125336
CREATED:20240807T213747Z
LAST-MODIFIED:20240807T213747Z
UID:10000484-1723136400-1723568400@escenariotlx.com
SUMMARY:Encuentro de Orquestas Sinfónicas Infantiles y Juveniles Yucatán - Huamantla
DESCRIPTION:Te invitamos al Encuentro de Orquestas Sinfónicas Infantiles y Juveniles Yucatán – Huamantla\, evento que se llevara acabo en el municipio de Huamantla.\n\n\nLunes 12 de Agosto | 17 hrs\nCancha 13 frente al parque de Huamantla.\n\nMartes 13 de Agosto | 17:30 hrs\nBasilica de Nuestra Señora de la Caridad\n\n\nDel 8 al 13 de agosto 2024\n\n\nEntrada Libre
URL:https://escenariotlx.com/evento/orquestas-sinfonicas-yucatan-huamantla/
LOCATION:Tlaxcala
CATEGORIES:Conciertos,Concursos,Festivales,Música
ATTACH;FMTTYPE=image/jpeg:https://escenariotlx.com/wp-content/uploads/2024/08/Orquesta.jpeg
END:VEVENT
BEGIN:VEVENT
DTSTART;TZID=America/New_York:20240809T100000
DTEND;TZID=America/New_York:20240909T170000
DTSTAMP:20260424T125336
CREATED:20240807T212721Z
LAST-MODIFIED:20240807T212721Z
UID:10000483-1723197600-1725901200@escenariotlx.com
SUMMARY:El arte visto desde la felicidad
DESCRIPTION:Descubre la belleza y el optimismo a través del arte en nuestra nueva exposición.\n¡La entrada es completamente GRATUITA!\n\n\n\nDel 9 de agosto al 9 de septiembre\n\nEspacio Cultural de la Coordinación de Comunicación\nAv. Juárez N°16\, Col. Centro\, Tlaxcala.\n\n\nNo te pierdas esta oportunidad de sumergirte en un mundo de color y alegría.\n¡Te esperamos!
URL:https://escenariotlx.com/evento/el-arte-visto-desde-la-felicidad/
LOCATION:Tlaxcala
CATEGORIES:Exposición,Museos
ATTACH;FMTTYPE=image/jpeg:https://escenariotlx.com/wp-content/uploads/2024/08/Galeria-de-arte.jpeg
END:VEVENT
BEGIN:VEVENT
DTSTART;TZID=America/New_York:20240813T080000
DTEND;TZID=America/New_York:20240813T170000
DTSTAMP:20260424T125336
CREATED:20240813T051017Z
LAST-MODIFIED:20240813T051017Z
UID:10000487-1723536000-1723568400@escenariotlx.com
SUMMARY:Los Terribles Blues de Guayaquil presentación editorial
DESCRIPTION:Asiste a la presentación editorial de “Los Terribles Blues de Guayaquil” del escritor guerrerense Said Vladimir Ramírez.\n\n\nEste evento promete ser una ocasión especial para adentrarnos en la narrativa profunda y cautivadora de Ramírez\, quien ha sabido capturar con maestría la esencia de Guayaquil en su más reciente libro.\n\n\nJueves 22 de agosto | 17 hrs\n\nMuseo Miguel N. Lira\nAv Independencia N 6 Col Centro Tlaxcala
URL:https://escenariotlx.com/evento/los-terribles-blues-de-guayaquil-editorial/
LOCATION:Tlaxcala
CATEGORIES:Conversatorio,Exposición,Foro,Libros,Museos
ATTACH;FMTTYPE=image/jpeg:https://escenariotlx.com/wp-content/uploads/2024/08/Terribles-blue.jpeg
END:VEVENT
END:VCALENDAR