BEGIN:VCALENDAR
VERSION:2.0
PRODID:-//Escenario Tlaxcala - ECPv6.15.16//NONSGML v1.0//EN
CALSCALE:GREGORIAN
METHOD:PUBLISH
X-WR-CALNAME:Escenario Tlaxcala
X-ORIGINAL-URL:https://escenariotlx.com
X-WR-CALDESC:Eventos para Escenario Tlaxcala
REFRESH-INTERVAL;VALUE=DURATION:PT1H
X-Robots-Tag:noindex
X-PUBLISHED-TTL:PT1H
BEGIN:VTIMEZONE
TZID:America/New_York
BEGIN:DAYLIGHT
TZOFFSETFROM:-0500
TZOFFSETTO:-0400
TZNAME:EDT
DTSTART:20230312T070000
END:DAYLIGHT
BEGIN:STANDARD
TZOFFSETFROM:-0400
TZOFFSETTO:-0500
TZNAME:EST
DTSTART:20231105T060000
END:STANDARD
BEGIN:DAYLIGHT
TZOFFSETFROM:-0500
TZOFFSETTO:-0400
TZNAME:EDT
DTSTART:20240310T070000
END:DAYLIGHT
BEGIN:STANDARD
TZOFFSETFROM:-0400
TZOFFSETTO:-0500
TZNAME:EST
DTSTART:20241103T060000
END:STANDARD
BEGIN:DAYLIGHT
TZOFFSETFROM:-0500
TZOFFSETTO:-0400
TZNAME:EDT
DTSTART:20250309T070000
END:DAYLIGHT
BEGIN:STANDARD
TZOFFSETFROM:-0400
TZOFFSETTO:-0500
TZNAME:EST
DTSTART:20251102T060000
END:STANDARD
END:VTIMEZONE
BEGIN:VEVENT
DTSTART;TZID=America/New_York:20240809T100000
DTEND;TZID=America/New_York:20240909T170000
DTSTAMP:20260419T194700
CREATED:20240807T212721Z
LAST-MODIFIED:20240807T212721Z
UID:10000483-1723197600-1725901200@escenariotlx.com
SUMMARY:El arte visto desde la felicidad
DESCRIPTION:Descubre la belleza y el optimismo a través del arte en nuestra nueva exposición.\n¡La entrada es completamente GRATUITA!\n\n\n\nDel 9 de agosto al 9 de septiembre\n\nEspacio Cultural de la Coordinación de Comunicación\nAv. Juárez N°16\, Col. Centro\, Tlaxcala.\n\n\nNo te pierdas esta oportunidad de sumergirte en un mundo de color y alegría.\n¡Te esperamos!
URL:https://escenariotlx.com/evento/el-arte-visto-desde-la-felicidad/
CATEGORIES:Exposición,Museos
ATTACH;FMTTYPE=image/jpeg:https://escenariotlx.com/wp-content/uploads/2024/08/Galeria-de-arte.jpeg
END:VEVENT
BEGIN:VEVENT
DTSTART;TZID=America/New_York:20240819T100000
DTEND;TZID=America/New_York:20240823T130000
DTSTAMP:20260419T194700
CREATED:20240805T215747Z
LAST-MODIFIED:20240806T194308Z
UID:10000475-1724061600-1724418000@escenariotlx.com
SUMMARY:Taller de Psicoballet "Escuchando con el Cuerpo"
DESCRIPTION:En conjunto con Vinculación Cultural de la Secretaría de Cultura\, el Centro de las Artes Tlaxcala presenta e invita a toda la población con alguna discapacidad a las:\n\n\n\nActividades de Integración Artistica para Personas Con Discapacidad: Taller de Psicoballet «Escuchando con el Cuerpo»\n\nDirigido a: Personas con Sindrome de Down\, Debiles Visuales y con discapacidad auditiva\,\n\n\ncon la finalidad de realizar actividades de acercamiento entre padres e hijos mediante la danza.\n\n\n\n\nImparte: Mtra.Madai Xihucuauhtzin\n\n\nDel 19 al 23 de Agosto de 2024.\nde las 10:00 hrs. a la 13:00 hrs.\n\n\nSedes:\nHuamantla – Lunes 19 de Agosto\nTlaxco – Martes 20 de Agosto\nChiautempan – Miercoles 21 de Agosto\nCalpulalpan – Jueves 22 de Agosto\nSan Pablo del Monte – Viernes 23 de Agosto\n\n\nTALLER GRAUITO – CUPO LIMITADO\n\n\n\nInformes: Fernando Solana 1\, Primera Seccción\, San Luis Apizaquito\, Apizaco\, Tlaxcala\, 90401. o al Tel. 2414188960 Ext. 164\nCorreo: talleres.formacion.ceart@gmail.com
URL:https://escenariotlx.com/evento/taller-de-psicoballet-escuchando-con-el-cuerpo/
CATEGORIES:Cursos
ATTACH;FMTTYPE=image/jpeg:https://escenariotlx.com/wp-content/uploads/2024/08/DISCAPACIDAD.jpg
END:VEVENT
BEGIN:VEVENT
DTSTART;TZID=America/New_York:20240819T100000
DTEND;TZID=America/New_York:20240823T130000
DTSTAMP:20260419T194700
CREATED:20240819T203003Z
LAST-MODIFIED:20240819T203003Z
UID:10000490-1724061600-1724418000@escenariotlx.com
SUMMARY:Taller de psicoballet para personas con discapacidad
DESCRIPTION:Forma parte de los proyectos en los parques inclusivos de la Secretaría de Bienestar\, en el marco del programa de Apoyo a Instituciones Estatales de Cultura (AIEC)\, para promover la inclusión social\n\nEl gobierno del estado\, a través de las secretarías de Cultura y de Bienestar\, invita a la comunidad a participar en las actividades de integración artística dirigidas a personas con discapacidad\, con el objetivo de promover la inclusión y el desarrollo personal a través del arte. \nEn esta ocasión\, se ofrecerá el taller de psicoballet «Escuchando con el cuerpo»\, un espacio diseñado especialmente para personas con discapacidad auditiva\, visual y con síndrome de Down. \nEste taller se llevará a cabo los días\, 19\, 20\, 21\, 22 y 23 de agosto\, en los parques inclusivos inaugurados por la Secretaría de Bienestar en los municipios de Huamantla\, Tlaxco\, Chiautempan\, Calpulalpan\, y San Pablo del Monte\, respectivamente. \nSus sesiones serán en un horario de 10:00 a 13:00 horas. La entrada será completamente libre\, pero el cupo está limitado a 12 personas por sede\, cada una con su respectivo tutor o tutora. \nLa Maestra Madaí Xihucuautzin\, quien dirige este taller\, comentó que su experiencia trabajando con personas sordas se ha enriquecido con la incorporación de participantes con síndrome de Down. Para ella\, la danza es fundamental\, porque puede contribuir a la sociedad\, integrando el arte con un enfoque social. \nOpinó que\, a menudo\, el arte se percibe como un lujo\, pero insistió en la importancia de que su accesibilidad para todos\, trabajando con grupos multidisciplinarios\, y diversos estilos de danza\, que permiten una expresión corporal inclusiva. \nDurante el taller\, se explorará el arte desde los sentimientos\, fomentando un proceso de sanación y bienestar emocional. La danza se utilizará como una herramienta de sanación y terapia\, promoviendo el bienestar integral de los asistentes. \nEsta iniciativa surge como parte de los proyectos en los parques inclusivos impulsados por el gobierno del estado\, que encabeza la mandataria Lorena Cuellar Cisneros\, bajo el marco del programa de Apoyo a Instituciones Estatales de Cultura (AIEC). \nEstos apoyos se otorgan desde la Secretaría de Cultura Federal con el propósito de que las Instituciones estatales de cultura desarrollen proyectos en el marco de la política cultural\, contribuyendo a la descentralización de la oferta cultural en México. \nEste enfoque no solo busca beneficiar a las personas con discapacidad\, sino también ofrecer herramientas a los padres y tutores para afrontar los retos que supone la educación de un hijo con necesidades especiales. \nEl taller incluye una sensibilización\, tanto para los participantes como para sus tutores\, trabajando en conjunto para generar conocimiento a través del movimiento corporal. Se recomienda contar con una tela de 1.5 metros o una sábana de tamaño individual. \nPara participar\, es necesario que los interesados se inscriban previamente\, comunicándose al Centro de las Artes\, al teléfono 241 418 8960\, o a través de las redes sociales del Centro de las Artes o de la Secretaría de Cultura de Tlaxcala.
URL:https://escenariotlx.com/evento/taller-psicoballet-personas-discapacidad/
CATEGORIES:Cursos,Salud
ATTACH;FMTTYPE=image/jpeg:https://escenariotlx.com/wp-content/uploads/2024/08/psicoballet.jpeg
END:VEVENT
BEGIN:VEVENT
DTSTART;TZID=America/New_York:20240821T150000
DTEND;TZID=America/New_York:20240821T180000
DTSTAMP:20260419T194700
CREATED:20240819T200259Z
LAST-MODIFIED:20240819T200259Z
UID:10000489-1724252400-1724263200@escenariotlx.com
SUMMARY:Taller de monstruos de juguete y juegos de mesa
DESCRIPTION:En agosto habrá un nuevo Miércoles Lúdico con un taller de monstruos de juguete y juegos de mesa\n\n28 de agosto de 2024 | 15:00 a 18:00 hrs \nLa Colmena: Centro de Tecnologías Creativas Grace Quintanilla\, institución de la Secretaría de Cultura de Gobierno de México\, realizará una edición más del Miércoles Lúdico para el mes de agosto\, donde habrá un nuevo taller dedicado a la creación de monstruos o abominaciones hechas con juguetes viejos o reciclados\, así como un espacio para juegos de rol que tienen como finalidad explorar la prehistoria y el universo conocido. \nEn este sentido\, el taller Frankens-Toys será un espacio dirigido a niñas\, niños y jóvenes\, donde podrán hacer volar su imaginación y creatividad desarmando sus juguetes viejos o rotos para hacer una versión retorcida y divertida de los mismos\, creando abominaciones como el monstruo de Frankenstein a partir de las piezas desarmadas. \n \nEste taller tiene como objetivo darle una nueva oportunidad de uso a los objetos abandonados\, como los juguetes que cayeron en el olvido por estar rotos o descompuestos\, y crear a partir de ellos una versión diferente que pueda darle un nuevo sentido al objeto. \nAdemás\, se busca que las y los asistentes puedan apropiarse de sus juguetes a partir de esta reinterpretación. Es decir\, al ser creados de forma genérica\, los juguetes tienen características que no siempre se identifican con quienes los utilizan\, y el hecho de reinterpretarlos les otorga un valor más cercano y de pertenencia. \nPor otro lado\, también habrá un espacio para aprender un juego de rol de libre distribución\, es decir\, que está diseñado para obtenerse y jugarse de forma gratuita\, en el cual se podrá explorar la historia y el tiempo que hay más allá de las estrellas. \nEstas actividades se realizarán en el espacio de La Colmena conocido como “ABJ: Zona Lúdica”\, ubicado al interior del Palacio de Cultura de Tlaxcala\, sede de la Secretaría de Cultura federal\, el miércoles 28 de agosto de 2024\, en un horario de 15:00 a 18:00 h. \nEl Miércoles Lúdico\, al igual que el resto de las actividades de La Colmena y el Palacio de Cultura de Tlaxcala\, ubicados en Av. Juárez 62\, Col. Centro\, Tlaxcala\, son de entrada libre. La información se puede consultar a través de las redes (@LaColmentaTLX) o las páginas web centroculturadigital.mx/la-colmena y mexicoescultura.com.
URL:https://escenariotlx.com/evento/taller-monstruos-de-juguete-juegos-mesa/
CATEGORIES:Cursos,Talleres
ATTACH;FMTTYPE=image/jpeg:https://escenariotlx.com/wp-content/uploads/2024/08/02-T-Mounstruos-.jpeg
END:VEVENT
END:VCALENDAR