BEGIN:VCALENDAR
VERSION:2.0
PRODID:-//Escenario Tlaxcala - ECPv6.15.16//NONSGML v1.0//EN
CALSCALE:GREGORIAN
METHOD:PUBLISH
X-WR-CALNAME:Escenario Tlaxcala
X-ORIGINAL-URL:https://escenariotlx.com
X-WR-CALDESC:Eventos para Escenario Tlaxcala
REFRESH-INTERVAL;VALUE=DURATION:PT1H
X-Robots-Tag:noindex
X-PUBLISHED-TTL:PT1H
BEGIN:VTIMEZONE
TZID:America/New_York
BEGIN:DAYLIGHT
TZOFFSETFROM:-0500
TZOFFSETTO:-0400
TZNAME:EDT
DTSTART:20240310T070000
END:DAYLIGHT
BEGIN:STANDARD
TZOFFSETFROM:-0400
TZOFFSETTO:-0500
TZNAME:EST
DTSTART:20241103T060000
END:STANDARD
BEGIN:DAYLIGHT
TZOFFSETFROM:-0500
TZOFFSETTO:-0400
TZNAME:EDT
DTSTART:20250309T070000
END:DAYLIGHT
BEGIN:STANDARD
TZOFFSETFROM:-0400
TZOFFSETTO:-0500
TZNAME:EST
DTSTART:20251102T060000
END:STANDARD
BEGIN:DAYLIGHT
TZOFFSETFROM:-0500
TZOFFSETTO:-0400
TZNAME:EDT
DTSTART:20260308T070000
END:DAYLIGHT
BEGIN:STANDARD
TZOFFSETFROM:-0400
TZOFFSETTO:-0500
TZNAME:EST
DTSTART:20261101T060000
END:STANDARD
END:VTIMEZONE
BEGIN:VEVENT
DTSTART;TZID=America/New_York:20250208T100000
DTEND;TZID=America/New_York:20250208T233000
DTSTAMP:20260423T174631
CREATED:20250205T172902Z
LAST-MODIFIED:20250205T172902Z
UID:10000531-1739008800-1739057400@escenariotlx.com
SUMMARY:Presentación de Videojuegos Infantiles Papalotla
DESCRIPTION:La Comisión Estatal de Derechos Humanos de Tlaxcala #CEDHT invita a niñas y niños a la presentación de videojuegos hechos por niñas de Papalotla\, proyecto denominado «Nuestro primer vuelo».
URL:https://escenariotlx.com/evento/presentacion-de-videojuegos-infantiles-papalotla/
LOCATION:Centro de Papalotla
CATEGORIES:Exposición
ATTACH;FMTTYPE=image/png:https://escenariotlx.com/wp-content/uploads/2025/02/475784585_1022716883231056_7058365358077655969_n.png
ORGANIZER;CN="Comisi%C3%B3n Estatal de Derechos Humanos de Tlaxcala":MAILTO:cedhtlax@prodigy.net.mx
END:VEVENT
BEGIN:VEVENT
DTSTART;TZID=America/New_York:20250208T163000
DTEND;TZID=America/New_York:20250208T200000
DTSTAMP:20260423T174631
CREATED:20250130T155304Z
LAST-MODIFIED:20250130T155417Z
UID:10000524-1739032200-1739044800@escenariotlx.com
SUMMARY:Participa En Mujeres y Niñas Tejiendo Ciencias
DESCRIPTION:Un encuentro entre el cielo y la naturaleza \nTe invitamos a  formar parte del evento  Mujeres y Niñas Tejiendo Ciencias organizado por la Universidad Autónoma de Tlaxcala\, se llevará a cabo el sábado 8 de febrero de 2025 a las 4:30 p.m. en el Parque Temático de Tlaxcala «Avión Boeing 727»\, ubicado en la calle Insurgentes\, Col. Cuahuatzala en Tizatlán\, Tlaxcala. \nPrograma de actividades:\n\n\n5:00 p.m. – Apertura del evento\n5:30 p.m. – Narración oral “La mujer de las estrellas»\n5:30 p.m. – Expoventa de productoras y artesanas locales\n6:00 p.m. – Talleres: Los tesoros del bosque y la salud reproductiva femenina\n6:30 p.m. – Charla astronómica\n7:00 p.m. – Observación de la Luna y los planetas Júpiter\, Saturno\, Marte y Venus a través de telescopios\n8:00 p.m. – Cierre del evento\n\nConoce más eventos en nuestra Cartelera Eventos Tlx https://escenariotlx.com/evento/unete-al-7mo-festival-de-los-humedales-de-tlaxcala-y-el-3er-festitlax-de-los-anfibios/ \n 
URL:https://escenariotlx.com/evento/participa-en-mujeres-y-ninas-tejiendo-ciencias/
LOCATION:Parque Temático de Tlaxcala Avión Boeing
CATEGORIES:Talleres
ATTACH;FMTTYPE=image/png:https://escenariotlx.com/wp-content/uploads/2025/01/1faa6eb9-8f9e-4333-8c2d-48087a7ab931.png
END:VEVENT
END:VCALENDAR