BEGIN:VCALENDAR
VERSION:2.0
PRODID:-//Escenario Tlaxcala - ECPv6.15.16//NONSGML v1.0//EN
CALSCALE:GREGORIAN
METHOD:PUBLISH
X-ORIGINAL-URL:https://escenariotlx.com
X-WR-CALDESC:Eventos para Escenario Tlaxcala
REFRESH-INTERVAL;VALUE=DURATION:PT1H
X-Robots-Tag:noindex
X-PUBLISHED-TTL:PT1H
BEGIN:VTIMEZONE
TZID:America/New_York
BEGIN:DAYLIGHT
TZOFFSETFROM:-0500
TZOFFSETTO:-0400
TZNAME:EDT
DTSTART:20240310T070000
END:DAYLIGHT
BEGIN:STANDARD
TZOFFSETFROM:-0400
TZOFFSETTO:-0500
TZNAME:EST
DTSTART:20241103T060000
END:STANDARD
BEGIN:DAYLIGHT
TZOFFSETFROM:-0500
TZOFFSETTO:-0400
TZNAME:EDT
DTSTART:20250309T070000
END:DAYLIGHT
BEGIN:STANDARD
TZOFFSETFROM:-0400
TZOFFSETTO:-0500
TZNAME:EST
DTSTART:20251102T060000
END:STANDARD
BEGIN:DAYLIGHT
TZOFFSETFROM:-0500
TZOFFSETTO:-0400
TZNAME:EDT
DTSTART:20260308T070000
END:DAYLIGHT
BEGIN:STANDARD
TZOFFSETFROM:-0400
TZOFFSETTO:-0500
TZNAME:EST
DTSTART:20261101T060000
END:STANDARD
END:VTIMEZONE
BEGIN:VEVENT
DTSTART;TZID=America/New_York:20250228T180000
DTEND;TZID=America/New_York:20250228T200000
DTSTAMP:20260419T170033
CREATED:20250207T141749Z
LAST-MODIFIED:20250207T142032Z
UID:10000539-1740765600-1740772800@escenariotlx.com
SUMMARY:Función de Cine Wild At Heart  David Lynch
DESCRIPTION:Sumérgete en el fascinante mundo de lo surreal\, lo oscuro y lo inquietante con cuatro de las obras más icónicas del director estadounidense \nDavid Lynch\, reconocido cineasta estadounidense\, es una figura crucial en la historia del séptimo arte gracias a su capacidad única para explorar los rincones más oscuros y misteriosos de la experiencia humana. Su reciente fallecimiento marca el fin de una era que redefinió los límites del arte cinematográfico. Su legado es esencial para los amantes del cine y para las nuevas generaciones. \n 
URL:https://escenariotlx.com/evento/funcion-de-cine-wild-at-heart-david-lynch/
LOCATION:Ocelote\, Lardizábal 1\, Col centro
CATEGORIES:Cine
ATTACH;FMTTYPE=image/png:https://escenariotlx.com/wp-content/uploads/2025/02/c1a7a24e-a5f9-454c-aa6b-9e0aceeea40c.png
END:VEVENT
BEGIN:VEVENT
DTSTART;TZID=America/New_York:20250228T180000
DTEND;TZID=America/New_York:20250228T230000
DTSTAMP:20260419T170033
CREATED:20250211T180411Z
LAST-MODIFIED:20250211T180411Z
UID:10000540-1740765600-1740783600@escenariotlx.com
SUMMARY:Duranguenado Fest 2025
DESCRIPTION:
URL:https://escenariotlx.com/evento/duranguenado-fest-2025/
LOCATION:Plaza de Toros Apizaco
CATEGORIES:Conciertos
ATTACH;FMTTYPE=image/png:https://escenariotlx.com/wp-content/uploads/2025/02/472853468_1143748051087741_6965509412492288632_n.png
END:VEVENT
BEGIN:VEVENT
DTSTART;TZID=America/New_York:20250228T190000
DTEND;TZID=America/New_York:20250228T210000
DTSTAMP:20260419T170033
CREATED:20250128T173534Z
LAST-MODIFIED:20250206T172209Z
UID:10000512-1740769200-1740776400@escenariotlx.com
SUMMARY:Comersatorios Febrero 2025: Comer\, Aprender y Conversar
DESCRIPTION:Los Comersatorios son encuentros mensuales organizados por Ecoalimentos y Centro de Investigación De La Cocina Tlaxcalteca\, donde sentados a la mesa los participantes conocen propuestas gastronómicas y aprenden sobre alimentos a través del gusto que incluyen invitados especiales y temáticas distintas por mes. \nEn el mes de Febrero se lleva a acabo el Conservatorio 2025  El día 28 de Febrero del 2025\, con la temática: Café en el Centro de Investigación De La Cocina Tlaxcalteca. \nCon una aportación de $450 por persona \n @consumoconscientetlx / @cocina_tlaxcalteca  Whatsapp: 2461470237  \n  \n  \n 
URL:https://escenariotlx.com/evento/comersatorios-febrero-2025-comer-aprender-y-conversar/
LOCATION:Centro de Investigación de la Cocina Tlaxcalteca\, Zitlalpopocatl 16\, Tlaxcala\, Centro\, Tlaxcala\, Tlaxcala\, 90000\, México
CATEGORIES:Gastronomía
ATTACH;FMTTYPE=image/png:https://escenariotlx.com/wp-content/uploads/2025/01/75e5e9b6-6c77-46fe-9acb-bf577d022d4c.png
ORGANIZER;CN="Cecilia Barocio Hern%C3%A1ndez":MAILTO:ecoalimentostlax@gmail.com
END:VEVENT
END:VCALENDAR