BEGIN:VCALENDAR
VERSION:2.0
PRODID:-//Escenario Tlaxcala - ECPv6.15.16//NONSGML v1.0//EN
CALSCALE:GREGORIAN
METHOD:PUBLISH
X-WR-CALNAME:Escenario Tlaxcala
X-ORIGINAL-URL:https://escenariotlx.com
X-WR-CALDESC:Eventos para Escenario Tlaxcala
REFRESH-INTERVAL;VALUE=DURATION:PT1H
X-Robots-Tag:noindex
X-PUBLISHED-TTL:PT1H
BEGIN:VTIMEZONE
TZID:America/New_York
BEGIN:DAYLIGHT
TZOFFSETFROM:-0500
TZOFFSETTO:-0400
TZNAME:EDT
DTSTART:20250309T070000
END:DAYLIGHT
BEGIN:STANDARD
TZOFFSETFROM:-0400
TZOFFSETTO:-0500
TZNAME:EST
DTSTART:20251102T060000
END:STANDARD
BEGIN:DAYLIGHT
TZOFFSETFROM:-0500
TZOFFSETTO:-0400
TZNAME:EDT
DTSTART:20260308T070000
END:DAYLIGHT
BEGIN:STANDARD
TZOFFSETFROM:-0400
TZOFFSETTO:-0500
TZNAME:EST
DTSTART:20261101T060000
END:STANDARD
BEGIN:DAYLIGHT
TZOFFSETFROM:-0500
TZOFFSETTO:-0400
TZNAME:EDT
DTSTART:20270314T070000
END:DAYLIGHT
BEGIN:STANDARD
TZOFFSETFROM:-0400
TZOFFSETTO:-0500
TZNAME:EST
DTSTART:20271107T060000
END:STANDARD
END:VTIMEZONE
BEGIN:VEVENT
DTSTART;TZID=America/New_York:20260130T110000
DTEND;TZID=America/New_York:20260326T180000
DTSTAMP:20260421T193036
CREATED:20260121T233318Z
LAST-MODIFIED:20260121T233941Z
UID:10002468-1769770800-1774548000@escenariotlx.com
SUMMARY:Cuando el error revela el sistema: inauguran la expo “La evolución de la tecnología” en Tlaxcala
DESCRIPTION:¿Qué sucede cuando un error deja al descubierto el funcionamiento de la tecnología que usamos todos los días? A partir de esta pregunta\, el próximo 30 de enero se inaugurará la exposición “La evolución de la tecnología”\, una muestra que invita a reflexionar sobre la relación cotidiana entre las personas y las herramientas tecnológicas. \nLa exposición consiste en una instalación mural integrada por 32 paneles verticales diseñados en Pixel Art\, que cuestiona la idea de la tecnología como algo lejano o ajeno\, y propone una mirada crítica sobre su impacto en la vida diaria\, especialmente en el contexto tlaxcalteca. \nDatos rápidos: \n\nDel 30 de enero al 26 de marzo\nHorario: lunes a viernes\, de 11:00 a 18:00 horas\nApertura: 30 de enero\, 17:00 horas\nSede: La Colmena. Palacio de Cultura\nEntrada libre\n\nLa invitación está abierta al público interesado en el arte digital\, la tecnología y la reflexión social contemporánea.
URL:https://escenariotlx.com/evento/cuando-el-error-revela-expo-en-tlaxcala/
LOCATION:Palacio de Cultura en Tlaxcala\, Avenida Benito Juárez N.62\, Tlaxcala de Xicohténcatl\, Tlaxcala\, 90000\, México
CATEGORIES:Exposición
ATTACH;FMTTYPE=image/jpeg:https://escenariotlx.com/wp-content/uploads/2026/01/616691963_1496064065861326_8131432772781786991_n.jpg
END:VEVENT
BEGIN:VEVENT
DTSTART;TZID=America/New_York:20260207T100000
DTEND;TZID=America/New_York:20260321T130000
DTSTAMP:20260421T193036
CREATED:20260129T193030Z
LAST-MODIFIED:20260129T193030Z
UID:10002471-1770458400-1774098000@escenariotlx.com
SUMMARY:Talleres gratuitos de Dirección de Cine y Guion Cinematográfico en Teolocholco
DESCRIPTION:Únete a los talleres gratuitos de Dirección de Cine y Guion Cinematográfico en Teolocholco. \n \nLos talleres se realizarán del sábado 7 de febrero al 21 de marzo\, en un horario de 10:00 a.m. a 1:00 p.m.\, en “La Casa de la Abuela”\, en San Luis Teolocholco.
URL:https://escenariotlx.com/evento/talleres-gratuitos-de-direccion-de-cine-y-guion-cinematografico-en-teolocholco/
CATEGORIES:Cine,Talleres
ATTACH;FMTTYPE=image/jpeg:https://escenariotlx.com/wp-content/uploads/2026/01/WhatsApp-Image-2026-01-29-at-10.53.33.jpeg
END:VEVENT
BEGIN:VEVENT
DTSTART;TZID=America/New_York:20260212T080000
DTEND;TZID=America/New_York:20260312T170000
DTSTAMP:20260421T193036
CREATED:20260210T185927Z
LAST-MODIFIED:20260219T204235Z
UID:10002503-1770883200-1773334800@escenariotlx.com
SUMMARY:Exposición "Susurros del Alma en los paisajes de Tlaxcala"
DESCRIPTION:Este 12 de febrero asiste a la clausura de la explosión «Susurros del Alma en los paisajes de Tlaxcala». \nLas pinturas estarán a cargo del taller de pintura de la delegación del Issste Tlaxcala.La cita es en la Coordinación de Comunicación (COM)\, Av. Juárez no. 16 Colonia Centro Tlaxcala.La entrada será gratuita.
URL:https://escenariotlx.com/evento/exposicion-susurros-del-alma-en-los-paisajes-de-tlaxcala/
LOCATION:Coordinación de Comunicación
CATEGORIES:Museos
ATTACH;FMTTYPE=image/jpeg:https://escenariotlx.com/wp-content/uploads/2026/02/639669471_1365804335588644_2761872096090141262_n.jpg
END:VEVENT
BEGIN:VEVENT
DTSTART;TZID=America/New_York:20260220T080000
DTEND;TZID=America/New_York:20260306T170000
DTSTAMP:20260421T193036
CREATED:20260220T225919Z
LAST-MODIFIED:20260220T225919Z
UID:10002514-1771574400-1772816400@escenariotlx.com
SUMMARY:Comparte tu fotografía para conservar la memoria de Tequexquitla
DESCRIPTION:Tu fotografía puede convertirse en historia viva!\nLa identidad de nuestro municipio no solo se encuentra en el presente\, sino también en el pasado que nos dio origen. Vive en fotografías antiguas\, imágenes de nuestros antepasados\, tradiciones de otras épocas\, calles que ya cambiaron y momentos que marcaron a nuestras familias. \nEl Ayuntamiento de Tequexquitla invita a compartir fotografías actuales y antiguas que resalten la esencia\, la memoria y el orgullo de nuestro municipio\, para formar parte de un proyecto que busca preservar nuestra historia y fortalecer nuestra identidad colectiva. \nCada fotografía antigua es un puente entre generaciones; es la voz de quienes nos antecedieron y el testimonio visual de nuestras raíces. Lo que hoy rescatemos del pasado será la herencia cultural que mañana permitirá a niñas\, niños y jóvenes conocer su origen y valorar su identidad. \nEste proyecto tiene como propósito crear un archivo histórico y cultural que reúna imágenes del ayer y del hoy\, evitando que nuestra memoria se pierda con el paso del tiempo. Rescatar fotografías familiares y comunitarias es un acto de responsabilidad histórica\, ya que preservar la memoria visual de nuestros antepasados fortalece el sentido de pertenencia y mantiene vivas nuestras tradiciones. \nComparte fotografías de tus abuelos\, padres\, familiares o escenas antiguas del municipio.\nComparte también imágenes actuales que reflejen quiénes somos hoy.\nEnvía tus fotografías o acércate a la oficina de comunicación social con tu fotografia y sé parte de esta memoria colectiva que trascenderá generaciones.
URL:https://escenariotlx.com/evento/comparte-tu-fotografia-para-conservar-la-memoria-de-tequexquitla/
CATEGORIES:Concursos
ATTACH;FMTTYPE=image/jpeg:https://escenariotlx.com/wp-content/uploads/2026/02/84bb0dee-c1a2-4a26-acc8-6056641d9d99.jpg
END:VEVENT
BEGIN:VEVENT
DTSTART;TZID=America/New_York:20260224T160000
DTEND;TZID=America/New_York:20260407T160000
DTSTAMP:20260421T193036
CREATED:20260130T154140Z
LAST-MODIFIED:20260130T154736Z
UID:10002477-1771948800-1775577600@escenariotlx.com
SUMMARY:Taller de Vidrio de Botellas y Vitromozaico
DESCRIPTION:La Secretaría de Cultura invita al Taller de Vidrio de Botellas y Vitromozaico\, un espacio para crear\, transformar y reconectar con el arte a partir de materiales reutilizados. \nLos talleres se realizarán el 24 y 26 de febrero; el 10\, 12 de marzo y el 07 de abril en un\nhorario: 16:00 a 18:00 h.\n📍 La cita es en el Centro Cultural de Artes y Oficios Metlancalli (Camino a Xalasco S/N\, San Antonio\, 90550 Atlzayanca\, Tlax.)\, Atlzayanca. \n👥 Dirigido a jóvenes y personas adultas mayores\n📞 Informes: 221 318 67 85
URL:https://escenariotlx.com/evento/taller-de-vidrio-de-botellas-y-vitromozaico/
CATEGORIES:Museos,Talleres
ATTACH;FMTTYPE=image/jpeg:https://escenariotlx.com/wp-content/uploads/2026/01/619244779_1341127411389670_1699474648038520231_n.jpg
END:VEVENT
BEGIN:VEVENT
DTSTART;TZID=America/New_York:20260304T153000
DTEND;TZID=America/New_York:20261007T173000
DTSTAMP:20260421T193036
CREATED:20260220T184922Z
LAST-MODIFIED:20260220T184922Z
UID:10002511-1772638200-1791394200@escenariotlx.com
SUMMARY:Taller de Autonomía Alimentaria en el Palacio de Cultura
DESCRIPTION:Del mes de marzo a octubre del presente año se realizará el taller Recuperación de Saberes en la Autonomía Alimentaria\, una iniciativa que busca mantener viva nuestra cocina tradicional a través del aprendizaje colectivo y la convivencia. \nLa encargada de guiar este viaje culinario es Martha Zempoaltecatl Goiz\, cocinera tradicional certificada\, quien compartirá técnicas y raíces para fortalecer nuestra autonomía desde la mesa. \nDetalles del evento\n\nCuándo: Todos los miércoles de marzo a octubre de 2026.\nHorario: 15:30 a 17:30 h.\nDónde: Palacio de Cultura.\nCupo: Limitado a 20 personas.\n\n¿Qué necesitas llevar?\nPara participar\, es indispensable acudir con: \n\nMandil y cofia.\nTrapo para manos.\nVaso\, plato y cuchara.\n\nInformes e inscripciones: Llama al 248 106 8071 para asegurar tu lugar en esta experiencia llena de sabor y tradición.
URL:https://escenariotlx.com/evento/taller-autonomia-palacio-de-cultura/
LOCATION:Palacio de Cultura en Tlaxcala\, Avenida Benito Juárez N.62\, Tlaxcala de Xicohténcatl\, Tlaxcala\, 90000\, México
CATEGORIES:Talleres
ATTACH;FMTTYPE=image/jpeg:https://escenariotlx.com/wp-content/uploads/2026/02/taller-alimantario.jpg
END:VEVENT
BEGIN:VEVENT
DTSTART;TZID=America/New_York:20260305T110000
DTEND;TZID=America/New_York:20260305T130000
DTSTAMP:20260421T193036
CREATED:20260223T232418Z
LAST-MODIFIED:20260223T232418Z
UID:10002519-1772708400-1772715600@escenariotlx.com
SUMMARY:Taller de Autobiografía en el Museo Miguel N. Lira
DESCRIPTION:Si alguna vez has sentido que tus vivencias merecen ser contadas\, el Museo Miguel N. Lira abre un espacio único para ti. Bajo la guía del escritor y periodista Ricardo Clark\, este taller te invita a estructurar el relato de tu vida\, sin importar si no tienes experiencia previa en la escritura. \nEl objetivo es crear un puente entre el pasado y el futuro\, permitiéndote compartir tus anécdotas más valiosas con hijos\, nietos y seres queridos. Es una oportunidad de oro para explorar tu propia narrativa en el corazón de Tlaxcala. \n\nCuándo: Jueves 5 de marzo\nHorario: 11:00 a.m.\nDónde: Museo Miguel N. Lira (Av. Independencia 7\, Centro\, Tlaxcala)\nPúblico: Jóvenes y adultos\nInformes: 246 117 5209
URL:https://escenariotlx.com/evento/taller-de-autobiografia-en-el-museo-miguel-n-lira/
LOCATION:Museo Miguel N. Lira Oficial\, Av. Independencia No. 6\, Col. Centro\, Tlaxcala\, Tlaxcala\, 90000\, México
CATEGORIES:Talleres
ATTACH;FMTTYPE=image/jpeg:https://escenariotlx.com/wp-content/uploads/2026/02/641472258_1369411405227937_4900281990852277972_n.jpg
END:VEVENT
END:VCALENDAR