BEGIN:VCALENDAR
VERSION:2.0
PRODID:-//Escenario Tlaxcala - ECPv6.15.16//NONSGML v1.0//EN
CALSCALE:GREGORIAN
METHOD:PUBLISH
X-WR-CALNAME:Escenario Tlaxcala
X-ORIGINAL-URL:https://escenariotlx.com
X-WR-CALDESC:Eventos para Escenario Tlaxcala
REFRESH-INTERVAL;VALUE=DURATION:PT1H
X-Robots-Tag:noindex
X-PUBLISHED-TTL:PT1H
BEGIN:VTIMEZONE
TZID:America/New_York
BEGIN:DAYLIGHT
TZOFFSETFROM:-0500
TZOFFSETTO:-0400
TZNAME:EDT
DTSTART:20250309T070000
END:DAYLIGHT
BEGIN:STANDARD
TZOFFSETFROM:-0400
TZOFFSETTO:-0500
TZNAME:EST
DTSTART:20251102T060000
END:STANDARD
BEGIN:DAYLIGHT
TZOFFSETFROM:-0500
TZOFFSETTO:-0400
TZNAME:EDT
DTSTART:20260308T070000
END:DAYLIGHT
BEGIN:STANDARD
TZOFFSETFROM:-0400
TZOFFSETTO:-0500
TZNAME:EST
DTSTART:20261101T060000
END:STANDARD
BEGIN:DAYLIGHT
TZOFFSETFROM:-0500
TZOFFSETTO:-0400
TZNAME:EDT
DTSTART:20270314T070000
END:DAYLIGHT
BEGIN:STANDARD
TZOFFSETFROM:-0400
TZOFFSETTO:-0500
TZNAME:EST
DTSTART:20271107T060000
END:STANDARD
END:VTIMEZONE
BEGIN:VEVENT
DTSTART;TZID=America/New_York:20260311T160000
DTEND;TZID=America/New_York:20260311T180000
DTSTAMP:20260425T221845
CREATED:20260311T174049Z
LAST-MODIFIED:20260311T174049Z
UID:10002548-1773244800-1773252000@escenariotlx.com
SUMMARY:Las Mujeres en la Música. Concierto de Canto y Piano
DESCRIPTION:El día miercoles 11 de marzo la Escuela de Música del Estado de Tlaxcala (EMET) continúa con los festejos de su 30 aniversario\, dedicando este espacio a las mujeres que han transformado el panorama sonoro del estado a través de la historia. \nEste concierto es una oportunidad única para conectar con la sensibilidad y el arte de las mujeres tlaxcaltecas\, cuyo trabajo ha sido pilar fundamental en el desarrollo musical de la región. \nLo que debes saber\n\nFecha: Miércoles 11 de marzo.\nHora: 4:00 p.m.\nSede: Sala de Conciertos «Estanislao Mejía Castro»\, Centro de las Artes de Tlaxcala.\nCosto: Entrada libre para todo el público.\n\n 
URL:https://escenariotlx.com/evento/las-mujeres-en-la-musica-concierto-de-canto-y-piano/
LOCATION:Centro de las Artes de Tlaxcala
CATEGORIES:Conciertos
ATTACH;FMTTYPE=image/jpeg:https://escenariotlx.com/wp-content/uploads/2026/03/649649838_1381661740669570_607486623120374914_n.jpg
ORGANIZER;CN="Escuela de M%C3%BAsica del Estado de Tlaxcala":MAILTO:emetlax@gmail.com
END:VEVENT
END:VCALENDAR