BEGIN:VCALENDAR
VERSION:2.0
PRODID:-//Escenario Tlaxcala - ECPv6.15.16//NONSGML v1.0//EN
CALSCALE:GREGORIAN
METHOD:PUBLISH
X-WR-CALNAME:Escenario Tlaxcala
X-ORIGINAL-URL:https://escenariotlx.com
X-WR-CALDESC:Eventos para Escenario Tlaxcala
REFRESH-INTERVAL;VALUE=DURATION:PT1H
X-Robots-Tag:noindex
X-PUBLISHED-TTL:PT1H
BEGIN:VTIMEZONE
TZID:America/New_York
BEGIN:DAYLIGHT
TZOFFSETFROM:-0500
TZOFFSETTO:-0400
TZNAME:EDT
DTSTART:20240310T070000
END:DAYLIGHT
BEGIN:STANDARD
TZOFFSETFROM:-0400
TZOFFSETTO:-0500
TZNAME:EST
DTSTART:20241103T060000
END:STANDARD
BEGIN:DAYLIGHT
TZOFFSETFROM:-0500
TZOFFSETTO:-0400
TZNAME:EDT
DTSTART:20250309T070000
END:DAYLIGHT
BEGIN:STANDARD
TZOFFSETFROM:-0400
TZOFFSETTO:-0500
TZNAME:EST
DTSTART:20251102T060000
END:STANDARD
BEGIN:DAYLIGHT
TZOFFSETFROM:-0500
TZOFFSETTO:-0400
TZNAME:EDT
DTSTART:20260308T070000
END:DAYLIGHT
BEGIN:STANDARD
TZOFFSETFROM:-0400
TZOFFSETTO:-0500
TZNAME:EST
DTSTART:20261101T060000
END:STANDARD
END:VTIMEZONE
BEGIN:VEVENT
DTSTART;TZID=America/New_York:20250328T180000
DTEND;TZID=America/New_York:20250328T190000
DTSTAMP:20260423T235309
CREATED:20250321T041729Z
LAST-MODIFIED:20250321T041729Z
UID:10001169-1743184800-1743188400@escenariotlx.com
SUMMARY:Trío de Camara Spirito
DESCRIPTION:
URL:https://escenariotlx.com/evento/trio-de-camara-spirito/
LOCATION:Teatro Xicohténcatl
CATEGORIES:Conciertos
ATTACH;FMTTYPE=image/webp:https://escenariotlx.com/wp-content/uploads/2025/03/481263508_1169937801626111_2373842441604870812_n.webp
END:VEVENT
BEGIN:VEVENT
DTSTART;TZID=America/New_York:20250328T200000
DTEND;TZID=America/New_York:20250328T210000
DTSTAMP:20260423T235309
CREATED:20250317T160556Z
LAST-MODIFIED:20250317T160556Z
UID:10001148-1743192000-1743195600@escenariotlx.com
SUMMARY:Diego Ojeda en Concierto
DESCRIPTION:Boletos aquí: http://taquillacero.com/diego…/cuatro-volcanes/2025/03/28
URL:https://escenariotlx.com/evento/diego-ojeda-en-concierto/
LOCATION:Cuatro Volcanes
CATEGORIES:Conciertos
ATTACH;FMTTYPE=image/jpeg:https://escenariotlx.com/wp-content/uploads/2025/03/484215875_1175844687236229_3943899609192309604_n-1.jpg
END:VEVENT
END:VCALENDAR