BEGIN:VCALENDAR
VERSION:2.0
PRODID:-//Escenario Tlaxcala - ECPv6.15.16//NONSGML v1.0//EN
CALSCALE:GREGORIAN
METHOD:PUBLISH
X-WR-CALNAME:Escenario Tlaxcala
X-ORIGINAL-URL:https://escenariotlx.com
X-WR-CALDESC:Eventos para Escenario Tlaxcala
REFRESH-INTERVAL;VALUE=DURATION:PT1H
X-Robots-Tag:noindex
X-PUBLISHED-TTL:PT1H
BEGIN:VTIMEZONE
TZID:America/New_York
BEGIN:DAYLIGHT
TZOFFSETFROM:-0500
TZOFFSETTO:-0400
TZNAME:EDT
DTSTART:20240310T070000
END:DAYLIGHT
BEGIN:STANDARD
TZOFFSETFROM:-0400
TZOFFSETTO:-0500
TZNAME:EST
DTSTART:20241103T060000
END:STANDARD
BEGIN:DAYLIGHT
TZOFFSETFROM:-0500
TZOFFSETTO:-0400
TZNAME:EDT
DTSTART:20250309T070000
END:DAYLIGHT
BEGIN:STANDARD
TZOFFSETFROM:-0400
TZOFFSETTO:-0500
TZNAME:EST
DTSTART:20251102T060000
END:STANDARD
BEGIN:DAYLIGHT
TZOFFSETFROM:-0500
TZOFFSETTO:-0400
TZNAME:EDT
DTSTART:20260308T070000
END:DAYLIGHT
BEGIN:STANDARD
TZOFFSETFROM:-0400
TZOFFSETTO:-0500
TZNAME:EST
DTSTART:20261101T060000
END:STANDARD
END:VTIMEZONE
BEGIN:VEVENT
DTSTART;TZID=America/New_York:20251027T180000
DTEND;TZID=America/New_York:20251027T203000
DTSTAMP:20260423T102117
CREATED:20250929T190527Z
LAST-MODIFIED:20250929T190527Z
UID:10002322-1761588000-1761597000@escenariotlx.com
SUMMARY:Zal Sissokho en el Festival Cervantino de Tlaxcala
DESCRIPTION:La Secretaría de Cultura\, el Gobierno de Tlaxcala y la Secretaría de Cultura del Estado conmemoran los 500 años de la fundación de la Ciudad de Tlaxcala\, siendo parte del Festival Internacional Cervantino Edición 53 Colombia; el artista\, Zal Sissokho de Senegal\, Canadá\, y Kora Flamenca presentará un diálogo musical entre África y Europa que une continentes en un ritual de fusión. \nEntrada libre.
URL:https://escenariotlx.com/evento/zal-sissokho-en-el-festival-cervantino-de-tlaxcala/
LOCATION:UATx: Centro Cultural Universitario\, La Loma Xicohtencatl\, Tlaxcala\, Tlaxcala\, 90070\, México
CATEGORIES:Conciertos
ATTACH;FMTTYPE=image/jpeg:https://escenariotlx.com/wp-content/uploads/2025/09/557409385_1241591978009881_7923701733855761543_n.jpg
END:VEVENT
END:VCALENDAR