BEGIN:VCALENDAR
VERSION:2.0
PRODID:-//Escenario Tlaxcala - ECPv6.15.16//NONSGML v1.0//EN
CALSCALE:GREGORIAN
METHOD:PUBLISH
X-WR-CALNAME:Escenario Tlaxcala
X-ORIGINAL-URL:https://escenariotlx.com
X-WR-CALDESC:Eventos para Escenario Tlaxcala
REFRESH-INTERVAL;VALUE=DURATION:PT1H
X-Robots-Tag:noindex
X-PUBLISHED-TTL:PT1H
BEGIN:VTIMEZONE
TZID:America/New_York
BEGIN:DAYLIGHT
TZOFFSETFROM:-0500
TZOFFSETTO:-0400
TZNAME:EDT
DTSTART:20230312T070000
END:DAYLIGHT
BEGIN:STANDARD
TZOFFSETFROM:-0400
TZOFFSETTO:-0500
TZNAME:EST
DTSTART:20231105T060000
END:STANDARD
BEGIN:DAYLIGHT
TZOFFSETFROM:-0500
TZOFFSETTO:-0400
TZNAME:EDT
DTSTART:20240310T070000
END:DAYLIGHT
BEGIN:STANDARD
TZOFFSETFROM:-0400
TZOFFSETTO:-0500
TZNAME:EST
DTSTART:20241103T060000
END:STANDARD
BEGIN:DAYLIGHT
TZOFFSETFROM:-0500
TZOFFSETTO:-0400
TZNAME:EDT
DTSTART:20250309T070000
END:DAYLIGHT
BEGIN:STANDARD
TZOFFSETFROM:-0400
TZOFFSETTO:-0500
TZNAME:EST
DTSTART:20251102T060000
END:STANDARD
END:VTIMEZONE
BEGIN:VEVENT
DTSTART;TZID=America/New_York:20241122T090000
DTEND;TZID=America/New_York:20241122T190000
DTSTAMP:20260423T014058
CREATED:20241120T144606Z
LAST-MODIFIED:20241122T164202Z
UID:10000508-1732266000-1732302000@escenariotlx.com
SUMMARY:Jornada Por el derecho a vivir en libertad
DESCRIPTION:📣 Les invitamos a participar en la Jornada «Por el derecho a vivir en libertad» 🦋 que se estará realizando en el marco del Día Internacional de la Eliminación de la Violencia contra la Mujer. \n🗣️ Contaremos con la participación de:\n•⁠ ⁠Natalia Espinosa Trujillo. Titular Interina Programa Crimen Organizado ONUDC\, México.\n•⁠ ⁠Denna Kim\, Ministra Consejera para Asuntos Políticos.\n•⁠ ⁠Alejandra Méndez Serrano\, Centro Fray Julián Garcés Derechos Humanos y Desarrollo Local A.C.\n•⁠ ⁠José Joel Herrera Camacho\, Centro de Desarrollo Educativo Zacatelco\n•⁠ ⁠Jonathan Espinoza Pérez\, Secundaria Técnica No. 57 “Julio Ángel Becerra Hernández” de Acuamanala.\n•⁠ ⁠Julio Enrique Pérez Hernández\, Telesecundaria “Niños Héroes” de San Pedro Xalcaltzinco\, Tepeyanco.\n•⁠ ⁠Samantha Corpus\, Compañía Imprudentes Teatro.\n•⁠ ⁠Sagrario Baena\, Creadora escénica.\n•⁠ ⁠Audry Funk\, Rapera feminista. \n📌 22 de noviembre\, 2024.\n📍 Plaza Juárez. Av. 20 de noviembre #24.\nCentro\, Tlaxcala. (Frente al Congreso del estado de Tlaxcala) https://maps.app.goo.gl/hS4txXqXvig1nuSWA\n⏰ 09:20 a 19:00 H \n¡Les esperamos! 🙌 \nTransmisión 🔴 EN VIVO\nCentro Fray Julián Garcés\nhttps://www.facebook.com/centrofrayjuliangarces\nhttps://www.youtube.com/@centrofrayjuliangarces8725
URL:https://escenariotlx.com/evento/jornada-por-el-derecho-a-vivir-en-libertad/
CATEGORIES:Activismo,Conversatorio,Exposición,Talleres
ATTACH;FMTTYPE=image/jpeg:https://escenariotlx.com/wp-content/uploads/2024/11/JOrnada.jpeg
END:VEVENT
END:VCALENDAR