BEGIN:VCALENDAR
VERSION:2.0
PRODID:-//Escenario Tlaxcala - ECPv6.15.16//NONSGML v1.0//EN
CALSCALE:GREGORIAN
METHOD:PUBLISH
X-WR-CALNAME:Escenario Tlaxcala
X-ORIGINAL-URL:https://escenariotlx.com
X-WR-CALDESC:Eventos para Escenario Tlaxcala
REFRESH-INTERVAL;VALUE=DURATION:PT1H
X-Robots-Tag:noindex
X-PUBLISHED-TTL:PT1H
BEGIN:VTIMEZONE
TZID:America/New_York
BEGIN:DAYLIGHT
TZOFFSETFROM:-0500
TZOFFSETTO:-0400
TZNAME:EDT
DTSTART:20250309T070000
END:DAYLIGHT
BEGIN:STANDARD
TZOFFSETFROM:-0400
TZOFFSETTO:-0500
TZNAME:EST
DTSTART:20251102T060000
END:STANDARD
BEGIN:DAYLIGHT
TZOFFSETFROM:-0500
TZOFFSETTO:-0400
TZNAME:EDT
DTSTART:20260308T070000
END:DAYLIGHT
BEGIN:STANDARD
TZOFFSETFROM:-0400
TZOFFSETTO:-0500
TZNAME:EST
DTSTART:20261101T060000
END:STANDARD
BEGIN:DAYLIGHT
TZOFFSETFROM:-0500
TZOFFSETTO:-0400
TZNAME:EDT
DTSTART:20270314T070000
END:DAYLIGHT
BEGIN:STANDARD
TZOFFSETFROM:-0400
TZOFFSETTO:-0500
TZNAME:EST
DTSTART:20271107T060000
END:STANDARD
END:VTIMEZONE
BEGIN:VEVENT
DTSTART;TZID=America/New_York:20260304T160000
DTEND;TZID=America/New_York:20260304T180000
DTSTAMP:20260420T105830
CREATED:20260223T215112Z
LAST-MODIFIED:20260223T215112Z
UID:10002515-1772640000-1772647200@escenariotlx.com
SUMMARY:XIV Congreso Diocesano por la Dignidad de las Mujeres
DESCRIPTION:El Centro Fray Julián Garcés\, te invita a al XIV Congreso Diocesano por la Dignidad de las Mujeres el próximo 4 de marzo en modalidad online.\n\nPrograma:4:00 Bienvenida y Oración inicialPbro. Marco Antonio Padilla AguilarPresidente de la Comisión Diocesana dePastoral Social\, Diócesis de Tlaxcala\n4: 15 EncuadreEmilio Muñoz BerruecosCoordinador Diocesano de la Dimensión de Fe y Compromiso SocialDiócesis de Tlaxcala\n4:30 “El compromiso y legado del Papa Francisco frente a la trata de mujeres con fines sexuales”.\n\nAlicia Peressutti: Activista contra la trata de mujeres de la organización Vínculos en Red en Argentina y amiga del Papa Francisco (+)\n5:10 Actuar desde la masculinidad no violenta\, compromiso cristianoJaime Laines PotisekCentro de Estudios Sociales y Culturales Antonio de Montesinos A. C.\n5:50 Comentarios finales y cierre de la actividad\n\nPodrás acceder al congreso con el siguiente ID y código: 815 9349 2456\, acceso: 206470.
URL:https://escenariotlx.com/evento/xiv-congreso-diocesano-por-la-dignidad-de-las-mujeres/
CATEGORIES:Conversatorio
ATTACH;FMTTYPE=image/jpeg:https://escenariotlx.com/wp-content/uploads/2026/02/641460767_1223716569939218_2992707205218198390_n.jpg
END:VEVENT
BEGIN:VEVENT
DTSTART;TZID=America/New_York:20260323T080000
DTEND;TZID=America/New_York:20260330T170000
DTSTAMP:20260420T105830
CREATED:20260323T170431Z
LAST-MODIFIED:20260323T170431Z
UID:10002559-1774252800-1774890000@escenariotlx.com
SUMMARY:Bitácora: Filosofía política con peripateticos
DESCRIPTION:Asiste a las proyecciones y charlas de «bitácora: filosofía política» los días 23\, 29 y 30 de marzo en Astra: Base de Exploración Artística. Este espacio busca profundizar en las condiciones políticas de nuestro país a través del diálogo y la crítica constructiva. \nLa invitación está abierta para unirse a la conversación de la mano de peri_pateticossss en una jornada de reflexión colectiva. \nPuntos clave: \n\nActividad: Ciclo de cine y café filosófico.\nTemática: Reflexión sobre la situación política mexicana.\nRequisito: Confirmar asistencia para asegurar tu lugar.\nHora: 5:30 PM.\n¿Dónde? Astra: Base de exploración artística.
URL:https://escenariotlx.com/evento/bitacora-filosofia-politica-peripateticos/2026-03-23/1/
LOCATION:C. 5 de Febrero 405\, Centro\, Apizaco\, Tlaxcala.
CATEGORIES:Cine,Conversatorio
ATTACH;FMTTYPE=image/png:https://escenariotlx.com/wp-content/uploads/2026/03/Captura-de-pantalla-2026-03-23-105521.png
END:VEVENT
BEGIN:VEVENT
DTSTART;TZID=America/New_York:20260323T173000
DTEND;TZID=America/New_York:20260323T200000
DTSTAMP:20260420T105830
CREATED:20260323T170431Z
LAST-MODIFIED:20260323T170431Z
UID:10002560-1774287000-1774296000@escenariotlx.com
SUMMARY:Bitácora: Filosofía política con peripateticos
DESCRIPTION:Asiste a las proyecciones y charlas de «bitácora: filosofía política» los días 23\, 29 y 30 de marzo en Astra: Base de Exploración Artística. Este espacio busca profundizar en las condiciones políticas de nuestro país a través del diálogo y la crítica constructiva. \nLa invitación está abierta para unirse a la conversación de la mano de peri_pateticossss en una jornada de reflexión colectiva. \nPuntos clave: \n\nActividad: Ciclo de cine y café filosófico.\nTemática: Reflexión sobre la situación política mexicana.\nRequisito: Confirmar asistencia para asegurar tu lugar.\nHora: 5:30 PM.\n¿Dónde? Astra: Base de exploración artística.
URL:https://escenariotlx.com/evento/bitacora-filosofia-politica-peripateticos/2026-03-23/2/
LOCATION:C. 5 de Febrero 405\, Centro\, Apizaco\, Tlaxcala.
CATEGORIES:Cine,Conversatorio
ATTACH;FMTTYPE=image/png:https://escenariotlx.com/wp-content/uploads/2026/03/Captura-de-pantalla-2026-03-23-105521.png
END:VEVENT
BEGIN:VEVENT
DTSTART;TZID=America/New_York:20260329T080000
DTEND;TZID=America/New_York:20260405T170000
DTSTAMP:20260420T105830
CREATED:20260323T170431Z
LAST-MODIFIED:20260323T170431Z
UID:10002561-1774771200-1775408400@escenariotlx.com
SUMMARY:Bitácora: Filosofía política con peripateticos
DESCRIPTION:Asiste a las proyecciones y charlas de «bitácora: filosofía política» los días 23\, 29 y 30 de marzo en Astra: Base de Exploración Artística. Este espacio busca profundizar en las condiciones políticas de nuestro país a través del diálogo y la crítica constructiva. \nLa invitación está abierta para unirse a la conversación de la mano de peri_pateticossss en una jornada de reflexión colectiva. \nPuntos clave: \n\nActividad: Ciclo de cine y café filosófico.\nTemática: Reflexión sobre la situación política mexicana.\nRequisito: Confirmar asistencia para asegurar tu lugar.\nHora: 5:30 PM.\n¿Dónde? Astra: Base de exploración artística.
URL:https://escenariotlx.com/evento/bitacora-filosofia-politica-peripateticos/2026-03-29/1/
LOCATION:C. 5 de Febrero 405\, Centro\, Apizaco\, Tlaxcala.
CATEGORIES:Cine,Conversatorio
ATTACH;FMTTYPE=image/png:https://escenariotlx.com/wp-content/uploads/2026/03/Captura-de-pantalla-2026-03-23-105521.png
END:VEVENT
BEGIN:VEVENT
DTSTART;TZID=America/New_York:20260329T160000
DTEND;TZID=America/New_York:20260329T180000
DTSTAMP:20260420T105830
CREATED:20260323T170431Z
LAST-MODIFIED:20260323T170431Z
UID:10002562-1774800000-1774807200@escenariotlx.com
SUMMARY:Bitácora: Filosofía política con peripateticos
DESCRIPTION:Asiste a las proyecciones y charlas de «bitácora: filosofía política» los días 23\, 29 y 30 de marzo en Astra: Base de Exploración Artística. Este espacio busca profundizar en las condiciones políticas de nuestro país a través del diálogo y la crítica constructiva. \nLa invitación está abierta para unirse a la conversación de la mano de peri_pateticossss en una jornada de reflexión colectiva. \nPuntos clave: \n\nActividad: Ciclo de cine y café filosófico.\nTemática: Reflexión sobre la situación política mexicana.\nRequisito: Confirmar asistencia para asegurar tu lugar.\nHora: 5:30 PM.\n¿Dónde? Astra: Base de exploración artística.
URL:https://escenariotlx.com/evento/bitacora-filosofia-politica-peripateticos/2026-03-29/2/
LOCATION:C. 5 de Febrero 405\, Centro\, Apizaco\, Tlaxcala.
CATEGORIES:Cine,Conversatorio
ATTACH;FMTTYPE=image/png:https://escenariotlx.com/wp-content/uploads/2026/03/Captura-de-pantalla-2026-03-23-105521.png
END:VEVENT
BEGIN:VEVENT
DTSTART;TZID=America/New_York:20260330T080000
DTEND;TZID=America/New_York:20260406T170000
DTSTAMP:20260420T105830
CREATED:20260323T170431Z
LAST-MODIFIED:20260323T170431Z
UID:10002563-1774857600-1775494800@escenariotlx.com
SUMMARY:Bitácora: Filosofía política con peripateticos
DESCRIPTION:Asiste a las proyecciones y charlas de «bitácora: filosofía política» los días 23\, 29 y 30 de marzo en Astra: Base de Exploración Artística. Este espacio busca profundizar en las condiciones políticas de nuestro país a través del diálogo y la crítica constructiva. \nLa invitación está abierta para unirse a la conversación de la mano de peri_pateticossss en una jornada de reflexión colectiva. \nPuntos clave: \n\nActividad: Ciclo de cine y café filosófico.\nTemática: Reflexión sobre la situación política mexicana.\nRequisito: Confirmar asistencia para asegurar tu lugar.\nHora: 5:30 PM.\n¿Dónde? Astra: Base de exploración artística.
URL:https://escenariotlx.com/evento/bitacora-filosofia-politica-peripateticos/2026-03-30/1/
LOCATION:C. 5 de Febrero 405\, Centro\, Apizaco\, Tlaxcala.
CATEGORIES:Cine,Conversatorio
ATTACH;FMTTYPE=image/png:https://escenariotlx.com/wp-content/uploads/2026/03/Captura-de-pantalla-2026-03-23-105521.png
END:VEVENT
BEGIN:VEVENT
DTSTART;TZID=America/New_York:20260330T173000
DTEND;TZID=America/New_York:20260330T200000
DTSTAMP:20260420T105830
CREATED:20260323T170431Z
LAST-MODIFIED:20260323T170431Z
UID:10002564-1774891800-1774900800@escenariotlx.com
SUMMARY:Bitácora: Filosofía política con peripateticos
DESCRIPTION:Asiste a las proyecciones y charlas de «bitácora: filosofía política» los días 23\, 29 y 30 de marzo en Astra: Base de Exploración Artística. Este espacio busca profundizar en las condiciones políticas de nuestro país a través del diálogo y la crítica constructiva. \nLa invitación está abierta para unirse a la conversación de la mano de peri_pateticossss en una jornada de reflexión colectiva. \nPuntos clave: \n\nActividad: Ciclo de cine y café filosófico.\nTemática: Reflexión sobre la situación política mexicana.\nRequisito: Confirmar asistencia para asegurar tu lugar.\nHora: 5:30 PM.\n¿Dónde? Astra: Base de exploración artística.
URL:https://escenariotlx.com/evento/bitacora-filosofia-politica-peripateticos/2026-03-30/2/
LOCATION:C. 5 de Febrero 405\, Centro\, Apizaco\, Tlaxcala.
CATEGORIES:Cine,Conversatorio
ATTACH;FMTTYPE=image/png:https://escenariotlx.com/wp-content/uploads/2026/03/Captura-de-pantalla-2026-03-23-105521.png
END:VEVENT
END:VCALENDAR