BEGIN:VCALENDAR
VERSION:2.0
PRODID:-//Escenario Tlaxcala - ECPv6.15.16//NONSGML v1.0//EN
CALSCALE:GREGORIAN
METHOD:PUBLISH
X-ORIGINAL-URL:https://escenariotlx.com
X-WR-CALDESC:Eventos para Escenario Tlaxcala
REFRESH-INTERVAL;VALUE=DURATION:PT1H
X-Robots-Tag:noindex
X-PUBLISHED-TTL:PT1H
BEGIN:VTIMEZONE
TZID:America/New_York
BEGIN:DAYLIGHT
TZOFFSETFROM:-0500
TZOFFSETTO:-0400
TZNAME:EDT
DTSTART:20240310T070000
END:DAYLIGHT
BEGIN:STANDARD
TZOFFSETFROM:-0400
TZOFFSETTO:-0500
TZNAME:EST
DTSTART:20241103T060000
END:STANDARD
BEGIN:DAYLIGHT
TZOFFSETFROM:-0500
TZOFFSETTO:-0400
TZNAME:EDT
DTSTART:20250309T070000
END:DAYLIGHT
BEGIN:STANDARD
TZOFFSETFROM:-0400
TZOFFSETTO:-0500
TZNAME:EST
DTSTART:20251102T060000
END:STANDARD
BEGIN:DAYLIGHT
TZOFFSETFROM:-0500
TZOFFSETTO:-0400
TZNAME:EDT
DTSTART:20260308T070000
END:DAYLIGHT
BEGIN:STANDARD
TZOFFSETFROM:-0400
TZOFFSETTO:-0500
TZNAME:EST
DTSTART:20261101T060000
END:STANDARD
END:VTIMEZONE
BEGIN:VEVENT
DTSTART;TZID=America/New_York:20251015T083000
DTEND;TZID=America/New_York:20251017T153000
DTSTAMP:20260425T190128
CREATED:20251015T184114Z
LAST-MODIFIED:20251015T184607Z
UID:10002331-1760517000-1760715000@escenariotlx.com
SUMMARY:LA XXXII SEMANA DEL HISTORIADOR A COMENZADO
DESCRIPTION:Durante los días 15\, 16 y 17 de octubre se realizará la XXXII semana del historiador titulada: «Tlaxcala\, ecos de medio milenio: reflexión\, historia y memoria» en el auditorio de la Facultad de Filosofía y Letras\, de la UATx. \n 
URL:https://escenariotlx.com/evento/la-xxxii-semana-del-historiador-a-comenzado/
LOCATION:Facultad de Filosofía y Letras
CATEGORIES:Conversatorio
ATTACH;FMTTYPE=image/jpeg:https://escenariotlx.com/wp-content/uploads/2025/10/557884031_122156170166832055_1074444345396052564_n.jpg
END:VEVENT
END:VCALENDAR