BEGIN:VCALENDAR
VERSION:2.0
PRODID:-//Escenario Tlaxcala - ECPv6.15.16//NONSGML v1.0//EN
CALSCALE:GREGORIAN
METHOD:PUBLISH
X-ORIGINAL-URL:https://escenariotlx.com
X-WR-CALDESC:Eventos para Escenario Tlaxcala
REFRESH-INTERVAL;VALUE=DURATION:PT1H
X-Robots-Tag:noindex
X-PUBLISHED-TTL:PT1H
BEGIN:VTIMEZONE
TZID:America/New_York
BEGIN:DAYLIGHT
TZOFFSETFROM:-0500
TZOFFSETTO:-0400
TZNAME:EDT
DTSTART:20240310T070000
END:DAYLIGHT
BEGIN:STANDARD
TZOFFSETFROM:-0400
TZOFFSETTO:-0500
TZNAME:EST
DTSTART:20241103T060000
END:STANDARD
BEGIN:DAYLIGHT
TZOFFSETFROM:-0500
TZOFFSETTO:-0400
TZNAME:EDT
DTSTART:20250309T070000
END:DAYLIGHT
BEGIN:STANDARD
TZOFFSETFROM:-0400
TZOFFSETTO:-0500
TZNAME:EST
DTSTART:20251102T060000
END:STANDARD
BEGIN:DAYLIGHT
TZOFFSETFROM:-0500
TZOFFSETTO:-0400
TZNAME:EDT
DTSTART:20260308T070000
END:DAYLIGHT
BEGIN:STANDARD
TZOFFSETFROM:-0400
TZOFFSETTO:-0500
TZNAME:EST
DTSTART:20261101T060000
END:STANDARD
END:VTIMEZONE
BEGIN:VEVENT
DTSTART;TZID=America/New_York:20251017T100000
DTEND;TZID=America/New_York:20251019T180000
DTSTAMP:20260422T181425
CREATED:20251016T162224Z
LAST-MODIFIED:20251016T162906Z
UID:10002332-1760695200-1760896800@escenariotlx.com
SUMMARY:¡YA ESTÁ LISTA LA EDICIÓN DEL FESTIVAL ETNOBIOLÓGICO “RAÍCES Y SABERES: TLAXCALLAN”!
DESCRIPTION:La Universidad Autónoma de Tlaxcala\, a través de la Secretaria de Investigación Científica y Posgrado\, el Centro de Investigación en Ciencias Biológicas y el Jardín Etnobiológico Tlaxcallan\, invitan a disfrutar de un encuentro que uno conocimiento\, cultura y naturaleza. \nSe realizará durante los días viernes\, 17\, sábado 18 y domingo 19 de octubre en un horario de 10:00 a 18:00 hrs. \n¡LA ENTRA ES GRATUITA!
URL:https://escenariotlx.com/evento/ya-esta-lista-la-edicion-del-festival-etnobiologico-raices-y-saberes-tlaxcallan/
LOCATION:Palacio de Cultura\, Av. Juárez #62\, Tlaxcala de Xicohtencatl
CATEGORIES:Conversatorio,Festivales
ATTACH;FMTTYPE=image/jpeg:https://escenariotlx.com/wp-content/uploads/2025/10/565343894_820534093696948_5872780600526208064_n.jpg
END:VEVENT
END:VCALENDAR