BEGIN:VCALENDAR
VERSION:2.0
PRODID:-//Escenario Tlaxcala - ECPv6.15.16//NONSGML v1.0//EN
CALSCALE:GREGORIAN
METHOD:PUBLISH
X-WR-CALNAME:Escenario Tlaxcala
X-ORIGINAL-URL:https://escenariotlx.com
X-WR-CALDESC:Eventos para Escenario Tlaxcala
REFRESH-INTERVAL;VALUE=DURATION:PT1H
X-Robots-Tag:noindex
X-PUBLISHED-TTL:PT1H
BEGIN:VTIMEZONE
TZID:America/New_York
BEGIN:DAYLIGHT
TZOFFSETFROM:-0500
TZOFFSETTO:-0400
TZNAME:EDT
DTSTART:20250309T070000
END:DAYLIGHT
BEGIN:STANDARD
TZOFFSETFROM:-0400
TZOFFSETTO:-0500
TZNAME:EST
DTSTART:20251102T060000
END:STANDARD
BEGIN:DAYLIGHT
TZOFFSETFROM:-0500
TZOFFSETTO:-0400
TZNAME:EDT
DTSTART:20260308T070000
END:DAYLIGHT
BEGIN:STANDARD
TZOFFSETFROM:-0400
TZOFFSETTO:-0500
TZNAME:EST
DTSTART:20261101T060000
END:STANDARD
BEGIN:DAYLIGHT
TZOFFSETFROM:-0500
TZOFFSETTO:-0400
TZNAME:EDT
DTSTART:20270314T070000
END:DAYLIGHT
BEGIN:STANDARD
TZOFFSETFROM:-0400
TZOFFSETTO:-0500
TZNAME:EST
DTSTART:20271107T060000
END:STANDARD
END:VTIMEZONE
BEGIN:VEVENT
DTSTART;TZID=America/New_York:20260214T120000
DTEND;TZID=America/New_York:20260215T123000
DTSTAMP:20260420T031925
CREATED:20260130T155819Z
LAST-MODIFIED:20260130T155819Z
UID:10002479-1771070400-1771158600@escenariotlx.com
SUMMARY:🎉 ¡Disfruta del Carnaval de Tepatlaxco 2026! 🎉
DESCRIPTION:La Presidencia de Comunidad de San Rafael Tepatlaxco\, en coordinación con la Coordinación de Cultura\, Archivo Histórico y Turismo\, invitan a ser parte de la CVIII edición del Carnaval de Tepatlaxco\, una de las celebraciones más tradicionales y coloridas de nuestra región. \nA continuación\, te compartimos el programa oficial de actividades 2026: \n📅 14 y 15 de febrero🎭 Presentación de camadas de carnaval en las principales calles de la comunidad🕛 A partir de las 12:00 p.m. \n📅 17 de febrero – Martes de Carnaval🎶 Tributo de Carnaval y presentación de camadas en las calles céntricas del pueblo🕙 A partir de las 10:00 a.m. \n  \n \n📅 18 de febrero – Remate de Carnaval📍 Av. Revolución s/n \n🕛 12:00 p.m.• Recepción de invitados• Presentación del presídium• Ceremonia de inauguración de la CVIII edición del Carnaval \n🕐 1:00 p.m.👑 Coronación de las Reinas del Carnaval\, a cargo de laMtra. Blanca Estela Ángulo Meneses\,Presidenta Municipal de Chiautempan. \n🕜 1:30 p.m. a 12:00 a.m.🎭 Presentación de camadas
URL:https://escenariotlx.com/evento/%f0%9f%8e%89-disfruta-del-carnaval-de-tepatlaxco-2026-%f0%9f%8e%89/
CATEGORIES:Danza,Festivales
ATTACH;FMTTYPE=image/jpeg:https://escenariotlx.com/wp-content/uploads/2026/01/624348124_4174630642757936_1797821890893848596_n.jpg
END:VEVENT
BEGIN:VEVENT
DTSTART;TZID=America/New_York:20260214T160000
DTEND;TZID=America/New_York:20260214T180000
DTSTAMP:20260420T031925
CREATED:20260210T163554Z
LAST-MODIFIED:20260210T163554Z
UID:10002499-1771084800-1771092000@escenariotlx.com
SUMMARY:“Adiós mi querido Sol” en Palacio de Cultura
DESCRIPTION:Escena Teatro presenta: “Adiós mi querido Sol”\, una historia íntima que nos confronta con la memoria\, la ausencia y el amor. \nLa obra narra la historia de Jonás\, un joven universitario que\, tras vivir una relación sentimental\, comienza a reconocer que fue víctima de manipulación emocional. A partir de esta experiencia\, emprende un proceso interno marcado por la reflexión\, el dolor y la reconstrucción personal.“Adiós mi querido Sol” es una lucha íntima por el amor propio\, la conciencia emocional y la libertad afectiva. \nLa cita es el sábado 14 de febrero de 2026 en punto de las 4:00 pm en el Palacio de Cultura\, Tlaxcala. La entrada es con una cuota de recuperación voluntaria
URL:https://escenariotlx.com/evento/adios-mi-querido-sol-en-palacio-de-cultura/
CATEGORIES:Danza,Teatro
ATTACH;FMTTYPE=image/jpeg:https://escenariotlx.com/wp-content/uploads/2026/02/623186710_902227632194260_1866466686590317812_n.jpg
END:VEVENT
END:VCALENDAR