BEGIN:VCALENDAR
VERSION:2.0
PRODID:-//Escenario Tlaxcala - ECPv6.15.16//NONSGML v1.0//EN
CALSCALE:GREGORIAN
METHOD:PUBLISH
X-WR-CALNAME:Escenario Tlaxcala
X-ORIGINAL-URL:https://escenariotlx.com
X-WR-CALDESC:Eventos para Escenario Tlaxcala
REFRESH-INTERVAL;VALUE=DURATION:PT1H
X-Robots-Tag:noindex
X-PUBLISHED-TTL:PT1H
BEGIN:VTIMEZONE
TZID:America/New_York
BEGIN:DAYLIGHT
TZOFFSETFROM:-0500
TZOFFSETTO:-0400
TZNAME:EDT
DTSTART:20240310T070000
END:DAYLIGHT
BEGIN:STANDARD
TZOFFSETFROM:-0400
TZOFFSETTO:-0500
TZNAME:EST
DTSTART:20241103T060000
END:STANDARD
BEGIN:DAYLIGHT
TZOFFSETFROM:-0500
TZOFFSETTO:-0400
TZNAME:EDT
DTSTART:20250309T070000
END:DAYLIGHT
BEGIN:STANDARD
TZOFFSETFROM:-0400
TZOFFSETTO:-0500
TZNAME:EST
DTSTART:20251102T060000
END:STANDARD
BEGIN:DAYLIGHT
TZOFFSETFROM:-0500
TZOFFSETTO:-0400
TZNAME:EDT
DTSTART:20260308T070000
END:DAYLIGHT
BEGIN:STANDARD
TZOFFSETFROM:-0400
TZOFFSETTO:-0500
TZNAME:EST
DTSTART:20261101T060000
END:STANDARD
END:VTIMEZONE
BEGIN:VEVENT
DTSTART;TZID=America/New_York:20251107T160000
DTEND;TZID=America/New_York:20251128T200000
DTSTAMP:20260421T054831
CREATED:20251106T165323Z
LAST-MODIFIED:20251106T165323Z
UID:10002394-1762531200-1764360000@escenariotlx.com
SUMMARY:Noviembre de Corredor Gráfico en Galería Timaca (Templo Rojo)
DESCRIPTION:Ven y disfruta de un noviembre lleno de creatividad\, color y experimentación visual en el corredor gráfico de Galería Timaca. Explora distintas técnicas de impresión y crea tus propias piezas únicas\, las actividades del mes son: \n\n\n\n07/08 nov. «Impresión en playeras recicladas» Personaliza una prenda con nuestros sellos y dale nueva vida a tu ropa. (Cooperación voluntaria)\n\n\n\n\n14/15 nov. «Impresión de estampas históricas» Imprime y llévate una postal con monumentos históricos de Tlaxcala. (Cooperación voluntaria)\n\n\n\n\n21/22 nov. Postales para el fin del mundo. Vol. 2.5 (@tobias_skull) Crea y experimenta con el arte de las postales apocalípticas. ($70 pesos)\n28/29 nov. «Gráfica expandida» Explora tu creatividad interviniendo grabados con diversos materiales. (Cooperación voluntaria)\n\n\n\nLugar: Corredor Gráfico – GALERÍA TIMACA \nHorarios: Consulta disponibilidad por día \n¡Cupo limitado!
URL:https://escenariotlx.com/evento/noviembre-corredor-grafico-galeria-timaca/
LOCATION:Templo Rojo\, Parque de la Constitución\, no. 13. Plaza de San Fernando\, interior 5\, Tlaxcala\, México
CATEGORIES:Conversatorio,Exposición,Talleres
ATTACH;FMTTYPE=image/jpeg:https://escenariotlx.com/wp-content/uploads/2025/11/572786572_18144902449436608_2595502394767208339_n.jpeg
END:VEVENT
BEGIN:VEVENT
DTSTART;TZID=America/New_York:20251111T190000
DTEND;TZID=America/New_York:20251111T200000
DTSTAMP:20260421T054831
CREATED:20251110T161012Z
LAST-MODIFIED:20251110T161012Z
UID:10002401-1762887600-1762891200@escenariotlx.com
SUMMARY:Presentación del libro "Las Trabajadoras" de Mónica Nepote
DESCRIPTION:El día 11 de noviembre se realizará la presentación editorial con relación al festejo del Día Internacional del Libro\, se trata de «Las trabajadoras» de la escritora\, editora y gestora Mónica Nepote\, quien presentará este magnífico texto acompañada de otra maravillosa escritora Daniela Escobar. \nHora: 7:00 p.m. \nLugar: Auditorio del Museo.
URL:https://escenariotlx.com/evento/presentacion-del-libro-trabajadoras-monica/
LOCATION:Museo Miguel N. Lira
CATEGORIES:Exposición,Libros
ATTACH;FMTTYPE=image/jpeg:https://escenariotlx.com/wp-content/uploads/2025/11/579937968_1429643889169407_8738816351295775952_n.jpg
END:VEVENT
END:VCALENDAR