BEGIN:VCALENDAR
VERSION:2.0
PRODID:-//Escenario Tlaxcala - ECPv6.15.16//NONSGML v1.0//EN
CALSCALE:GREGORIAN
METHOD:PUBLISH
X-ORIGINAL-URL:https://escenariotlx.com
X-WR-CALDESC:Eventos para Escenario Tlaxcala
REFRESH-INTERVAL;VALUE=DURATION:PT1H
X-Robots-Tag:noindex
X-PUBLISHED-TTL:PT1H
BEGIN:VTIMEZONE
TZID:America/New_York
BEGIN:DAYLIGHT
TZOFFSETFROM:-0500
TZOFFSETTO:-0400
TZNAME:EDT
DTSTART:20240310T070000
END:DAYLIGHT
BEGIN:STANDARD
TZOFFSETFROM:-0400
TZOFFSETTO:-0500
TZNAME:EST
DTSTART:20241103T060000
END:STANDARD
BEGIN:DAYLIGHT
TZOFFSETFROM:-0500
TZOFFSETTO:-0400
TZNAME:EDT
DTSTART:20250309T070000
END:DAYLIGHT
BEGIN:STANDARD
TZOFFSETFROM:-0400
TZOFFSETTO:-0500
TZNAME:EST
DTSTART:20251102T060000
END:STANDARD
BEGIN:DAYLIGHT
TZOFFSETFROM:-0500
TZOFFSETTO:-0400
TZNAME:EDT
DTSTART:20260308T070000
END:DAYLIGHT
BEGIN:STANDARD
TZOFFSETFROM:-0400
TZOFFSETTO:-0500
TZNAME:EST
DTSTART:20261101T060000
END:STANDARD
END:VTIMEZONE
BEGIN:VEVENT
DTSTART;TZID=America/New_York:20251126T183000
DTEND;TZID=America/New_York:20251126T200000
DTSTAMP:20260425T165218
CREATED:20251120T161542Z
LAST-MODIFIED:20251120T161645Z
UID:10002421-1764181800-1764187200@escenariotlx.com
SUMMARY:Noche de Museos y la lekería presentan "Aquelarre de almas emancipadas"
DESCRIPTION:La Lekería se une a la noche de museos con una actividad que combina café y pócimas contra la violencia de género presentando «aquelarre de almas emancipadas». Durante la cita se charlará sobre la violencia que viven las mujeres y cómo se puede contrarrestar con pequeñas acciones de nuestro día a día. Este será un espacio seguro con café\, apapachos y mucha empatía.Hora: 6:30 p.m. \nLugar: La Lekería. Porfirio Díaz 10\, Centro\, Tlaxcala. \n¡Entrada libre\, no faltes!
URL:https://escenariotlx.com/evento/noche-de-museos-lekeria-aquelarre-de-almas/
LOCATION:La Lekeía\, Porfirio Díaz 10\, Centro\, Tlaxcala.
CATEGORIES:Conversatorio,Museos
ATTACH;FMTTYPE=image/jpeg:https://escenariotlx.com/wp-content/uploads/2025/11/584880156_122152218548833928_2169768788209112140_n.jpg
END:VEVENT
END:VCALENDAR