BEGIN:VCALENDAR
VERSION:2.0
PRODID:-//Escenario Tlaxcala - ECPv6.15.16//NONSGML v1.0//EN
CALSCALE:GREGORIAN
METHOD:PUBLISH
X-WR-CALNAME:Escenario Tlaxcala
X-ORIGINAL-URL:https://escenariotlx.com
X-WR-CALDESC:Eventos para Escenario Tlaxcala
REFRESH-INTERVAL;VALUE=DURATION:PT1H
X-Robots-Tag:noindex
X-PUBLISHED-TTL:PT1H
BEGIN:VTIMEZONE
TZID:America/New_York
BEGIN:DAYLIGHT
TZOFFSETFROM:-0500
TZOFFSETTO:-0400
TZNAME:EDT
DTSTART:20240310T070000
END:DAYLIGHT
BEGIN:STANDARD
TZOFFSETFROM:-0400
TZOFFSETTO:-0500
TZNAME:EST
DTSTART:20241103T060000
END:STANDARD
BEGIN:DAYLIGHT
TZOFFSETFROM:-0500
TZOFFSETTO:-0400
TZNAME:EDT
DTSTART:20250309T070000
END:DAYLIGHT
BEGIN:STANDARD
TZOFFSETFROM:-0400
TZOFFSETTO:-0500
TZNAME:EST
DTSTART:20251102T060000
END:STANDARD
BEGIN:DAYLIGHT
TZOFFSETFROM:-0500
TZOFFSETTO:-0400
TZNAME:EDT
DTSTART:20260308T070000
END:DAYLIGHT
BEGIN:STANDARD
TZOFFSETFROM:-0400
TZOFFSETTO:-0500
TZNAME:EST
DTSTART:20261101T060000
END:STANDARD
END:VTIMEZONE
BEGIN:VEVENT
DTSTART;TZID=America/New_York:20251201T170000
DTEND;TZID=America/New_York:20251215T200000
DTSTAMP:20260420T111800
CREATED:20251202T164449Z
LAST-MODIFIED:20251202T164449Z
UID:10002438-1764608400-1765828800@escenariotlx.com
SUMMARY:Primer edición del Festival gótico de literatura\, cine\, música\, arte y filosofía en Tlaxcala
DESCRIPTION:Del 1 al 15 de diciembre se estará realizando la primera edición del Festival Gótico de Literatura\, Cine\, Música\, Arte y Filosofía en Astra: Base de Exploración Artística. \nLos artistas invitados emergen desde las sombras para dos semanas de fiestas paganas. Más de una decena de artistas reunidos para esta celebración compartiendo charlas\, presentaciones de libro\, talleres\, dj sets\, lecturas\, cafés filosóficos\, películas y sobre todo\, una vibra goth. \nLugar: C. 5 de febrero #405 Col. Centro Apizaco\, Tlaxcala. \nCupo y reservaciones: 241 116 4005.
URL:https://escenariotlx.com/evento/primer-edicion-festival-gotico-en-tlaxcala/
LOCATION:C. 5 de Febrero 405\, Centro\, Apizaco\, Tlaxcala.
CATEGORIES:Exposición,Festivales,Música,Talleres
ATTACH;FMTTYPE=image/jpeg:https://escenariotlx.com/wp-content/uploads/2025/12/592253376_1130891485910717_614965889498691471_n.jpg
END:VEVENT
BEGIN:VEVENT
DTSTART;TZID=America/New_York:20251221T170000
DTEND;TZID=America/New_York:20251221T190000
DTSTAMP:20260420T111800
CREATED:20251217T190455Z
LAST-MODIFIED:20251217T190642Z
UID:10002451-1766336400-1766343600@escenariotlx.com
SUMMARY:La magia del carnaval comienza a sentirse: ensayos de la camada Miraflores en Contla
DESCRIPTION:El día domingo 21 de diciembre la magia del carnaval comienza a sentirse\, los ensayos de la Camada Miraflores se realizarán en el municipio de Contla. Será una noche llena de ritmo\, tradición y pasión\, con la mejor música a cargo de Noche De Estrellas y Estrellas NDE \, que hará vibrar cada paso y cada corazón. \nHora: 5:00 PM. \nLugar: Teatro del Pueblo\, Contla de Juan Cuamatzi. \n 
URL:https://escenariotlx.com/evento/carnaval-ensayos-camada-miraflores-contla/
LOCATION:Teatro del pueblo Contla
CATEGORIES:Danza,Música
ATTACH;FMTTYPE=image/jpeg:https://escenariotlx.com/wp-content/uploads/2025/12/598999438_122236227716147065_7362846629763512683_n.jpg
END:VEVENT
BEGIN:VEVENT
DTSTART;TZID=America/New_York:20251223T190000
DTEND;TZID=America/New_York:20251223T210000
DTSTAMP:20260420T111800
CREATED:20251217T191948Z
LAST-MODIFIED:20251217T191948Z
UID:10002452-1766516400-1766523600@escenariotlx.com
SUMMARY:Concierto Sinfónico Navideño en Tlalcuapan
DESCRIPTION:El día martes 23 de diciembre se realizará un concierto Sinfónico Navideño en la Capilla de la Defensa\, San Pedro Tlalcuapan. Los boletos son gratuitos y se entregarán en la presidencia de comunidad. Los boletos estarán disponibles los días miércoles 17\, jueves 18 y viernes 19 en un horario de 1:00 a 5:00 pm y hasta agotar existencias. \nAsimismo\, en el atrio se contará con un área con lona para quienes no alcancen lugar en el interior\, con el fin de que también puedan disfrutar del concierto. Para esta área\, pueden traer bancos o sillas. \n\n\nNota: A las personas que ingresen al interior de la iglesia\, se les solicitará no ingresar con niños menores de 5 años\, mascotas\, ni alimentos o bebidas\, para lograr preservar el orden y el disfrute del evento.
URL:https://escenariotlx.com/evento/concierto-sinfonico-navideno-en-tlalcuapan/
LOCATION:Calle 12 de Octubre\, 90820\, San Pedro Tlalcuapan de Nicolás Bravo\, Tlax.
CATEGORIES:Conciertos,Música
ATTACH;FMTTYPE=image/jpeg:https://escenariotlx.com/wp-content/uploads/2025/12/599766369_18401168323125445_7033042878298814078_n.jpg
END:VEVENT
BEGIN:VEVENT
DTSTART;TZID=America/New_York:20251228T130000
DTEND;TZID=America/New_York:20251228T170000
DTSTAMP:20260420T111800
CREATED:20251219T155650Z
LAST-MODIFIED:20251219T155650Z
UID:10002453-1766926800-1766941200@escenariotlx.com
SUMMARY:Tochtli realizará un microfono abierto y  bazar de fin de año “La Chiquina”
DESCRIPTION:El día 28 de diciembre se realizará el «Alzar la voz Vol. II» y el bazar de fin de año «La Chiquina» a realizarse en Tochtli. Será un espacio para compartir lo que vibra en el pecho y encontrar a artistas\, productores locales\, artesanos\, música\, palabras y comunidad. \n\nSe les invita a inscribirte y subir al micrófono para leer poemas\, compartir un texto breve o cantar una canción\, en un escenario pequeño al aire libre\, con un tiempo de participación de 15 a 30 minutos.\n\nSi escribes poemas en servilletas\, libretas o notas del celular\, si guardas versos como quien esconde fuego\, o simplemente quieres leernos tu texto favorito o algún pensamiento\, este espacio es para ti. \nHorario: A partir de la 1:00 pm \nLugar: La Central · Arte\, Cultura y Entretenimiento. \n¡Ingreso libre\, no faltes!
URL:https://escenariotlx.com/evento/microfono-abierto-bazar-chiquina-tochtli/
LOCATION:Cuatro Señoríos\, Xicohténcatl Axayacatzin 29\, Colonia Cuatro Señoríos\, 90112 San Hipólito Chimalpa\, Tlax
CATEGORIES:Bazar,Música
ATTACH;FMTTYPE=image/png:https://escenariotlx.com/wp-content/uploads/2025/12/598938346_1471519064778854_988444474001741205_n.png
END:VEVENT
END:VCALENDAR