BEGIN:VCALENDAR
VERSION:2.0
PRODID:-//Escenario Tlaxcala - ECPv6.15.16//NONSGML v1.0//EN
CALSCALE:GREGORIAN
METHOD:PUBLISH
X-ORIGINAL-URL:https://escenariotlx.com
X-WR-CALDESC:Eventos para Escenario Tlaxcala
REFRESH-INTERVAL;VALUE=DURATION:PT1H
X-Robots-Tag:noindex
X-PUBLISHED-TTL:PT1H
BEGIN:VTIMEZONE
TZID:America/New_York
BEGIN:DAYLIGHT
TZOFFSETFROM:-0500
TZOFFSETTO:-0400
TZNAME:EDT
DTSTART:20240310T070000
END:DAYLIGHT
BEGIN:STANDARD
TZOFFSETFROM:-0400
TZOFFSETTO:-0500
TZNAME:EST
DTSTART:20241103T060000
END:STANDARD
BEGIN:DAYLIGHT
TZOFFSETFROM:-0500
TZOFFSETTO:-0400
TZNAME:EDT
DTSTART:20250309T070000
END:DAYLIGHT
BEGIN:STANDARD
TZOFFSETFROM:-0400
TZOFFSETTO:-0500
TZNAME:EST
DTSTART:20251102T060000
END:STANDARD
BEGIN:DAYLIGHT
TZOFFSETFROM:-0500
TZOFFSETTO:-0400
TZNAME:EDT
DTSTART:20260308T070000
END:DAYLIGHT
BEGIN:STANDARD
TZOFFSETFROM:-0400
TZOFFSETTO:-0500
TZNAME:EST
DTSTART:20261101T060000
END:STANDARD
END:VTIMEZONE
BEGIN:VEVENT
DTSTART;TZID=America/New_York:20251107T080000
DTEND;TZID=America/New_York:20251107T170000
DTSTAMP:20260424T173017
CREATED:20251107T215547Z
LAST-MODIFIED:20251107T215547Z
UID:10002399-1762502400-1762534800@escenariotlx.com
SUMMARY:Acude a la clausura de "La Fiesta de los Muertos" en el Jardín Sonoro
DESCRIPTION:Este 7 de noviembre concluirá la exposición «La fiesta de los muertos» con una escucha activa en el que la compositora Cecilia Rascón compartirá sus experiencias y la historia detrás del proceso creativo para realizar la producción de su disco «¡Asústame panteón!». \nAdemás\, podrás disfrutar de la última selección de música para disfrutar de esta producción. \nHorario: De 4:00 a 5:30 p.m. \nLugar: Jardín Sonoro. Palacio de Cultura \n¡Entrada libre\, no te lo pierdas!
URL:https://escenariotlx.com/evento/clausura-fiesta-muertos-el-jardin-sonoro/
LOCATION:Palacio de Cultura en Tlaxcala\, Avenida Benito Juárez N.62\, Tlaxcala de Xicohténcatl\, Tlaxcala\, 90000\, México
CATEGORIES:Exposición,Música
ATTACH;FMTTYPE=image/jpeg:https://escenariotlx.com/wp-content/uploads/2025/11/576536625_1434372552030478_8116001549045379837_n.jpg
END:VEVENT
BEGIN:VEVENT
DTSTART;TZID=America/New_York:20251107T163000
DTEND;TZID=America/New_York:20251107T190000
DTSTAMP:20260424T173017
CREATED:20251105T160900Z
LAST-MODIFIED:20251105T160934Z
UID:10002389-1762533000-1762542000@escenariotlx.com
SUMMARY:En el Centro Cultural Zacatelco se realizará el 1er Encuentro de Piano Juvenil
DESCRIPTION:El  Viernes 7 de noviembre se realizará el 1er Encuentro de Piano Juvenil de Tlaxcala. Este evento reunirá en un mismo escenario ha adolescentes de las distintas partes del estado tlaxcalteca. El Primer Encuentro de Pianistas Adolescentes de Tlaxcala será un espacio para disfrutar y reconocer el arte de las nuevas generaciones. \nLugar: Sala de Exposiciones del Centro Cultural Zacatelco \nHora: 4:30 p.m. \n ¡Entrada libre!
URL:https://escenariotlx.com/evento/centro-zacatelco-encuentro-de-piano-juvenil/
LOCATION:Centro Cultural Zacatelco
CATEGORIES:Música
ATTACH;FMTTYPE=image/jpeg:https://escenariotlx.com/wp-content/uploads/2025/11/574572411_122156178050688227_7967949897338053737_n.jpg
END:VEVENT
END:VCALENDAR