BEGIN:VCALENDAR
VERSION:2.0
PRODID:-//Escenario Tlaxcala - ECPv6.15.16//NONSGML v1.0//EN
CALSCALE:GREGORIAN
METHOD:PUBLISH
X-ORIGINAL-URL:https://escenariotlx.com
X-WR-CALDESC:Eventos para Escenario Tlaxcala
REFRESH-INTERVAL;VALUE=DURATION:PT1H
X-Robots-Tag:noindex
X-PUBLISHED-TTL:PT1H
BEGIN:VTIMEZONE
TZID:America/New_York
BEGIN:DAYLIGHT
TZOFFSETFROM:-0500
TZOFFSETTO:-0400
TZNAME:EDT
DTSTART:20240310T070000
END:DAYLIGHT
BEGIN:STANDARD
TZOFFSETFROM:-0400
TZOFFSETTO:-0500
TZNAME:EST
DTSTART:20241103T060000
END:STANDARD
BEGIN:DAYLIGHT
TZOFFSETFROM:-0500
TZOFFSETTO:-0400
TZNAME:EDT
DTSTART:20250309T070000
END:DAYLIGHT
BEGIN:STANDARD
TZOFFSETFROM:-0400
TZOFFSETTO:-0500
TZNAME:EST
DTSTART:20251102T060000
END:STANDARD
BEGIN:DAYLIGHT
TZOFFSETFROM:-0500
TZOFFSETTO:-0400
TZNAME:EDT
DTSTART:20260308T070000
END:DAYLIGHT
BEGIN:STANDARD
TZOFFSETFROM:-0400
TZOFFSETTO:-0500
TZNAME:EST
DTSTART:20261101T060000
END:STANDARD
END:VTIMEZONE
BEGIN:VEVENT
DTSTART;TZID=America/New_York:20250516T150000
DTEND;TZID=America/New_York:20250516T170000
DTSTAMP:20260421T045407
CREATED:20250421T153948Z
LAST-MODIFIED:20250421T153948Z
UID:10001744-1747407600-1747414800@escenariotlx.com
SUMMARY:Curso de Marketing Digital en Apizaco
DESCRIPTION:Edades: 18 a 29 años.\n\n\n¡No te quedes fuera! Aprende\, crece y transforma tu presencia digital.\n\n\n\nPara consultar las bases escanea el código QR.
URL:https://escenariotlx.com/evento/curso-de-marketing-digital-en-apizaco/2025-05-16/
LOCATION:Sala de Reuniones del Área Administrativa Blvd. Emilio Sánchez Piedras #204
CATEGORIES:Talleres
ATTACH;FMTTYPE=image/webp:https://escenariotlx.com/wp-content/uploads/2025/04/491685363_122170646822498383_4017085299244125217_n.webp
END:VEVENT
END:VCALENDAR