BEGIN:VCALENDAR
VERSION:2.0
PRODID:-//Escenario Tlaxcala - ECPv6.15.16//NONSGML v1.0//EN
CALSCALE:GREGORIAN
METHOD:PUBLISH
X-WR-CALNAME:Escenario Tlaxcala
X-ORIGINAL-URL:https://escenariotlx.com
X-WR-CALDESC:Eventos para Escenario Tlaxcala
REFRESH-INTERVAL;VALUE=DURATION:PT1H
X-Robots-Tag:noindex
X-PUBLISHED-TTL:PT1H
BEGIN:VTIMEZONE
TZID:America/New_York
BEGIN:DAYLIGHT
TZOFFSETFROM:-0500
TZOFFSETTO:-0400
TZNAME:EDT
DTSTART:20240310T070000
END:DAYLIGHT
BEGIN:STANDARD
TZOFFSETFROM:-0400
TZOFFSETTO:-0500
TZNAME:EST
DTSTART:20241103T060000
END:STANDARD
BEGIN:DAYLIGHT
TZOFFSETFROM:-0500
TZOFFSETTO:-0400
TZNAME:EDT
DTSTART:20250309T070000
END:DAYLIGHT
BEGIN:STANDARD
TZOFFSETFROM:-0400
TZOFFSETTO:-0500
TZNAME:EST
DTSTART:20251102T060000
END:STANDARD
BEGIN:DAYLIGHT
TZOFFSETFROM:-0500
TZOFFSETTO:-0400
TZNAME:EDT
DTSTART:20260308T070000
END:DAYLIGHT
BEGIN:STANDARD
TZOFFSETFROM:-0400
TZOFFSETTO:-0500
TZNAME:EST
DTSTART:20261101T060000
END:STANDARD
END:VTIMEZONE
BEGIN:VEVENT
DTSTART;TZID=America/New_York:20251019T190000
DTEND;TZID=America/New_York:20251019T210000
DTSTAMP:20260421T144042
CREATED:20251016T170403Z
LAST-MODIFIED:20251016T170403Z
UID:10002334-1760900400-1760907600@escenariotlx.com
SUMMARY:EL DESPERTAR DE LOS LXS GUARDIANXS DE IMPRUDENTXS TEATRO
DESCRIPTION:El domingo 19 de octubre a las 7:00 p.m. se presentará la compañía Tlaxcalteca de Imprudentxs Teatro con la obra «El despertar de lxs guardianxs» una historia inspirada en el trabajo\, fuerza y resistencia del @colectivomalintzitlalcuapan en su lucha por la defensa y cuidado del bosque. \nLa obra se presentará en el Salón de Eventos del Templo de la Defensa\, Tlalcuapan. \n¡LA ENTRADA ES LIBRE!
URL:https://escenariotlx.com/evento/el-despertar-de-los-lxs-guardianxs-de-imprudentxs-teatro/
LOCATION:Calle 12 de Octubre\, 90820\, San Pedro Tlalcuapan de Nicolás Bravo\, Tlax.
CATEGORIES:Teatro
ATTACH;FMTTYPE=image/jpeg:https://escenariotlx.com/wp-content/uploads/2025/10/560431173_777227501945361_427397822626719725_n.jpg
END:VEVENT
BEGIN:VEVENT
DTSTART;TZID=America/New_York:20251021T120000
DTEND;TZID=America/New_York:20251021T160000
DTSTAMP:20260421T144042
CREATED:20251021T174129Z
LAST-MODIFIED:20251021T174229Z
UID:10002348-1761048000-1761062400@escenariotlx.com
SUMMARY:LA SINFONÍA NO. 5 Y EL TRIPLE CONCIERTO DE BEETHOVEN EN EL TEATRO XICOTÉNCATL
DESCRIPTION:No te pierdas este sábado 25 de Octubre el gran concierto con la Sinfonía No. 5 y el Triple Concierto de Beethoven con 3 extraordinarios solistas: Adrian Justus en el violín\, Barbara Piotrowska cello y Fernando Saint Martin en el piano bajo la dirección de Jorge Vazquez – Conductor. \nHora: 12:00 p.m. \nLugar: Teatro Xicoténcatl. \nBoletos en Taquilla del Teatro Xicohténcatl ( en un horario de 11:00hrs a 5:00 p.m.)
URL:https://escenariotlx.com/evento/sinfonia-concierto-beethoven-teatro-xicotencatl/
LOCATION:Teatro Xicohténcatl
CATEGORIES:Música,Teatro
ATTACH;FMTTYPE=image/jpeg:https://escenariotlx.com/wp-content/uploads/2025/10/558921089_1375040923977323_2511718486714373251_n.jpg
END:VEVENT
BEGIN:VEVENT
DTSTART;VALUE=DATE:20251022
DTEND;VALUE=DATE:20251023
DTSTAMP:20260421T144042
CREATED:20251022T165043Z
LAST-MODIFIED:20251022T165113Z
UID:10002350-1761091200-1761177599@escenariotlx.com
SUMMARY:FUNCIONES DE HOY\, 22 DE OCTUBRE\, EN FESTIVAL INTERNACIONAL DE TÍTERES ROSETE ARANDA
DESCRIPTION:Te compartimos las funciones que se llevarán a cabo hoy\, 22 de octubre\, en el\n¡Festival Internacional de Títeres Rosete Aranda!. Consulta la programación\, elige tu función favorita y celebra la magia del teatro de títeres.
URL:https://escenariotlx.com/evento/funciones-festival-internacional-titeres/
LOCATION:Tlaxcala
CATEGORIES:Festivales,Teatro
ATTACH;FMTTYPE=image/jpeg:https://escenariotlx.com/wp-content/uploads/2025/10/568742698_1264985645670514_6598126274694339380_n.jpg
END:VEVENT
BEGIN:VEVENT
DTSTART;TZID=America/New_York:20251024T170000
DTEND;TZID=America/New_York:20251024T180000
DTSTAMP:20260421T144042
CREATED:20251024T211645Z
LAST-MODIFIED:20251024T211645Z
UID:10002359-1761325200-1761328800@escenariotlx.com
SUMMARY:Tlaxcalli\, títeres para un rayo de luz en el Centro Cultural de Ixtenco
DESCRIPTION:El día 24 de octubre se llevará cabo la gran función de títeres en el salón grande del Centro Cultural Ixtenco a las 5:00 p.m. La obra presentar lleva el nombre: Tlaxcalli\, títeres para un rayo de luz. Ven y disfruta en familia.\n\n¡ENTREDA LIBRE!
URL:https://escenariotlx.com/evento/tlaxcalli-titeres-en-centro-cultural-ixtenco/
LOCATION:Centro Cultural de Ixtenco
CATEGORIES:Festivales,Teatro
ATTACH;FMTTYPE=image/jpeg:https://escenariotlx.com/wp-content/uploads/2025/10/571150504_1266849518817460_2201192594326191674_n.jpg
END:VEVENT
BEGIN:VEVENT
DTSTART;TZID=America/New_York:20251025T130000
DTEND;TZID=America/New_York:20251025T140000
DTSTAMP:20260421T144042
CREATED:20251024T183832Z
LAST-MODIFIED:20251024T183832Z
UID:10002356-1761397200-1761400800@escenariotlx.com
SUMMARY:FICCIONES BREVES PARA CHICOS Y NO TAN CHICOS CON ATL TEATRO
DESCRIPTION:El próximo sábado Alquimagina Punto de lectura Tlaxcala los invita a explorar\, imaginar y vivir relatos increíbles mediante la obra Ficciones breves y no tan breves para chicos y no tan chicos con Atl Teatro. \n\nQuienes estén dispuestos a escuchar encontrarán un mundo sin igual\, las palabras que cuentan historias\, son palabras que nunca mueren pues guardan mundos y personajes inmortales. \n\n\nSábado 25 de octubre a la 1:00 p.m. en Palacio de Cultura en Tlaxcala. \nEntrada Libre.
URL:https://escenariotlx.com/evento/ficciones-breves-chicos-no-tan-chicos-teatro/
LOCATION:Palacio de Cultura Tlaxcala
CATEGORIES:Teatro
ATTACH;FMTTYPE=image/jpeg:https://escenariotlx.com/wp-content/uploads/2025/10/571182516_122220808748120073_157013828806264503_n.jpg
END:VEVENT
BEGIN:VEVENT
DTSTART;TZID=America/New_York:20251025T203000
DTEND;TZID=America/New_York:20251025T223000
DTSTAMP:20260421T144042
CREATED:20251024T190844Z
LAST-MODIFIED:20251024T191033Z
UID:10002357-1761424200-1761431400@escenariotlx.com
SUMMARY:OSCAR SERGIX PRESENTA SU OBRA "CULTO"
DESCRIPTION:Este año Imprudentxs Teatro y Cervecería Niños Héroes celebrarán a nuestros muertos a lo grande… con miedo\, risas y un poco de cerveza. La obra invitada es: CULTO\, de Óscar Sergix Serrano. \n\n\nSinopsis: Después de años sin verse\, un grupo de amigos se reúne para recordar viejos tiempos… Pero algo oscuro los espera esa noche. Entre copas\, secretos y risas\, la reunión se convierte en un ritual del que tal vez nadie salga. \n¿Te atreves a formar parte del culto? \n\nAcceso: 8:30 p.m. \nInicio: 9:00 p.m. \nDonativo: $150 por persona (2×200)
URL:https://escenariotlx.com/evento/oscar-sergix-presenta-su-obra-culto/
LOCATION:Cerveceria Niños Héroes Zacatelco\, Calle Niños Héroes #19\, Zacatelco\, Tlaxcala\, Mexico
CATEGORIES:Teatro
ATTACH;FMTTYPE=image/jpeg:https://escenariotlx.com/wp-content/uploads/2025/10/569266662_1406902584778820_1532623789389954832_n.jpg
END:VEVENT
BEGIN:VEVENT
DTSTART;TZID=America/New_York:20251026T210000
DTEND;TZID=America/New_York:20251026T213000
DTSTAMP:20260421T144042
CREATED:20251016T210919Z
LAST-MODIFIED:20251016T210919Z
UID:10002336-1761512400-1761514200@escenariotlx.com
SUMMARY:EL CULTO DE OSCAR SERGIX SERRANO
DESCRIPTION:«El culto» de Oscar Sergix Serrano se presentará con única fecha en Cervecería Niños Héroes. La cita es el 26 de octubre. A través de @cervecerianh e Imprudentxs Teatro podrás conocer el horario y el costo de los boletos. \nCada mirada\, cada gesto\, cada sombra\, pertenece ahora al rito. Una puesta nueva sobre el terror psicológico. \nDuración: 80 minutos. \nLugar: Calle Niños Héroes #18\, sección primera Zacatelco.
URL:https://escenariotlx.com/evento/el-culto-de-oscar-sergix-serrano/
LOCATION:Cerveceria Niños Héroes Zacatelco\, Calle Niños Héroes #19\, Zacatelco\, Tlaxcala\, Mexico
CATEGORIES:Teatro
ATTACH;FMTTYPE=image/png:https://escenariotlx.com/wp-content/uploads/2025/10/Captura-de-pantalla-2025-10-16-122445.png
END:VEVENT
BEGIN:VEVENT
DTSTART;TZID=America/New_York:20251030T210000
DTEND;TZID=America/New_York:20251030T230000
DTSTAMP:20260421T144042
CREATED:20251027T222716Z
LAST-MODIFIED:20251027T222716Z
UID:10002363-1761858000-1761865200@escenariotlx.com
SUMMARY:Las cuatro estaciones de Vivaldi en el Teatro Xicoténcatl
DESCRIPTION:Celebrando el día de muertos\, el 30 de octubre de 2025 se realizará un gran evento de música clásica se presentarán las cuatro estaciones de Vivaldi desde el Teatro Xicoténcatl en candlelight. \n¡Últimos boletos para este gran concierto! \n\n\nVisita la pagina www.feverup.com
URL:https://escenariotlx.com/evento/cuatro-estaciones-vivaldi-teatro-xicotencatl/
LOCATION:Teatro Xicohténcatl
CATEGORIES:Teatro
ATTACH;FMTTYPE=image/jpeg:https://escenariotlx.com/wp-content/uploads/2025/10/572103924_1372570188029537_3733977253610511937_n.jpg
END:VEVENT
END:VCALENDAR