BEGIN:VCALENDAR
VERSION:2.0
PRODID:-//Escenario Tlaxcala - ECPv6.15.16//NONSGML v1.0//EN
CALSCALE:GREGORIAN
METHOD:PUBLISH
X-ORIGINAL-URL:https://escenariotlx.com
X-WR-CALDESC:Eventos para Escenario Tlaxcala
REFRESH-INTERVAL;VALUE=DURATION:PT1H
X-Robots-Tag:noindex
X-PUBLISHED-TTL:PT1H
BEGIN:VTIMEZONE
TZID:America/New_York
BEGIN:DAYLIGHT
TZOFFSETFROM:-0500
TZOFFSETTO:-0400
TZNAME:EDT
DTSTART:20240310T070000
END:DAYLIGHT
BEGIN:STANDARD
TZOFFSETFROM:-0400
TZOFFSETTO:-0500
TZNAME:EST
DTSTART:20241103T060000
END:STANDARD
BEGIN:DAYLIGHT
TZOFFSETFROM:-0500
TZOFFSETTO:-0400
TZNAME:EDT
DTSTART:20250309T070000
END:DAYLIGHT
BEGIN:STANDARD
TZOFFSETFROM:-0400
TZOFFSETTO:-0500
TZNAME:EST
DTSTART:20251102T060000
END:STANDARD
BEGIN:DAYLIGHT
TZOFFSETFROM:-0500
TZOFFSETTO:-0400
TZNAME:EDT
DTSTART:20260308T070000
END:DAYLIGHT
BEGIN:STANDARD
TZOFFSETFROM:-0400
TZOFFSETTO:-0500
TZNAME:EST
DTSTART:20261101T060000
END:STANDARD
END:VTIMEZONE
BEGIN:VEVENT
DTSTART;TZID=America/New_York:20251219T180000
DTEND;TZID=America/New_York:20251219T210000
DTSTAMP:20260423T015542
CREATED:20251128T162753Z
LAST-MODIFIED:20251128T162753Z
UID:10002433-1766167200-1766178000@escenariotlx.com
SUMMARY:Teocalli Centro Artístico presentará la Fabrica de Juguetes de Santa
DESCRIPTION:El día 19 de diciembre\, Teocalli Centro Artístico realizará la presentación de talleres de teatro\, Guitarra\, saxofón\, violín y acrobacia. También habra presentaciones de danza arabe\, ballet\, baby ballet y artes plásticas. \nHora: 6:00 p.m. \nLugar: 2a. de Galeana 10A\, Cuarta Secc Xaltipa\, 90790 Papalotla\, Tlax. \n¡Entrada libre\, no faltes!
URL:https://escenariotlx.com/evento/teocalli-centro-artistico-la-fabrica-santa/
LOCATION:2a. de Galeana 10A\, Cuarta Secc Xaltipa\, 90790 Papalotla\, Tlax.
CATEGORIES:Danza,Exposición,Talleres,Teatro
ATTACH;FMTTYPE=image/jpeg:https://escenariotlx.com/wp-content/uploads/2025/11/589124797_1165834379085158_2377825114738524654_n.jpg
END:VEVENT
BEGIN:VEVENT
DTSTART;TZID=America/New_York:20251221T120000
DTEND;TZID=America/New_York:20251221T140000
DTSTAMP:20260423T015542
CREATED:20251212T163736Z
LAST-MODIFIED:20251212T163736Z
UID:10002448-1766318400-1766325600@escenariotlx.com
SUMMARY:Ollin Teatro presentará sin duendes no hay paraiso
DESCRIPTION:El día 21 de diciembre Ollin Teatro presentará la obra «Sin Duendes No Hay Paraiso» en Teocalli Centro Artistico. Este será un show farsico\, mistico\, musical para toda la familia. \nBoletos: $35.00 MXN. \nHorario: 12:00 hrs. \nUbicación: 2a. de Galeana 10A\, Cuarta Secc Xaltipa\, 90790 Papalotla\, Tlax.
URL:https://escenariotlx.com/evento/ollin-teatro-sin-duendes-no-hay-paraiso/
LOCATION:2a. de Galeana 10A\, Cuarta Secc Xaltipa\, 90790 Papalotla\, Tlax.
CATEGORIES:Presentación,Teatro
ATTACH;FMTTYPE=image/jpeg:https://escenariotlx.com/wp-content/uploads/2025/12/583946413_1261174662705725_756579965872036636_n.jpg
END:VEVENT
BEGIN:VEVENT
DTSTART;TZID=America/New_York:20251222T180000
DTEND;TZID=America/New_York:20251222T190000
DTSTAMP:20260423T015542
CREATED:20251212T170044Z
LAST-MODIFIED:20251212T170044Z
UID:10002449-1766426400-1766430000@escenariotlx.com
SUMMARY:Ollin Teatro presentará su nueva obra "¿Quién es la Estrella?"
DESCRIPTION:Del 20 al 22 de diciembre se presentará la nueva obra llamada ‘¿Quién es la estrella?’ de Ollin Teatro desde Teocalli Centro Artístico. Esta obra estará llena de entretenimiento\, celebridades y una disputa para ganar la corona en esta navidad. El voto del público es decisivo. \nUbicación: 2a. de Galeana 10A\, Cuarta Secc Xaltipa\, 90790 Papalotla\, Tlax. \nHorario: 6:00 pm. \nCosto: $35.00 MXN. \n  \n 
URL:https://escenariotlx.com/evento/ollin-teatro-obra-quien-es-la-estrella/
LOCATION:2a. de Galeana 10A\, Cuarta Secc Xaltipa\, 90790 Papalotla\, Tlax.
CATEGORIES:Teatro
ATTACH;FMTTYPE=image/jpeg:https://escenariotlx.com/wp-content/uploads/2025/12/593269406_1272023028287555_2105073599080613191_n.jpg
END:VEVENT
END:VCALENDAR