BEGIN:VCALENDAR
VERSION:2.0
PRODID:-//Escenario Tlaxcala - ECPv6.15.16//NONSGML v1.0//EN
CALSCALE:GREGORIAN
METHOD:PUBLISH
X-ORIGINAL-URL:https://escenariotlx.com
X-WR-CALDESC:Eventos para Escenario Tlaxcala
REFRESH-INTERVAL;VALUE=DURATION:PT1H
X-Robots-Tag:noindex
X-PUBLISHED-TTL:PT1H
BEGIN:VTIMEZONE
TZID:America/New_York
BEGIN:DAYLIGHT
TZOFFSETFROM:-0500
TZOFFSETTO:-0400
TZNAME:EDT
DTSTART:20250309T070000
END:DAYLIGHT
BEGIN:STANDARD
TZOFFSETFROM:-0400
TZOFFSETTO:-0500
TZNAME:EST
DTSTART:20251102T060000
END:STANDARD
BEGIN:DAYLIGHT
TZOFFSETFROM:-0500
TZOFFSETTO:-0400
TZNAME:EDT
DTSTART:20260308T070000
END:DAYLIGHT
BEGIN:STANDARD
TZOFFSETFROM:-0400
TZOFFSETTO:-0500
TZNAME:EST
DTSTART:20261101T060000
END:STANDARD
BEGIN:DAYLIGHT
TZOFFSETFROM:-0500
TZOFFSETTO:-0400
TZNAME:EDT
DTSTART:20270314T070000
END:DAYLIGHT
BEGIN:STANDARD
TZOFFSETFROM:-0400
TZOFFSETTO:-0500
TZNAME:EST
DTSTART:20271107T060000
END:STANDARD
END:VTIMEZONE
BEGIN:VEVENT
DTSTART;TZID=America/New_York:20260304T080000
DTEND;TZID=America/New_York:20260304T170000
DTSTAMP:20260420T122015
CREATED:20260302T170332Z
LAST-MODIFIED:20260305T140324Z
UID:10002523-1772611200-1772643600@escenariotlx.com
SUMMARY:Con Piel de Ballena llega al Teatro Xicohténcatl
DESCRIPTION:La Fábrica de Arte Tlaxcalteca nos invita a una puesta en escena necesaria y profunda. Con Piel de Ballena es una obra que pone sobre la mesa preguntas que pocos se atreven a soltar en voz alta: ¿qué pasa con la identidad femenina tras la maternidad? \nA través de la pluma de Anita Reyes Butrón y la dirección de Claudia Marcela Castillo Aguilar\, esta historia nos confronta con la herencia y el peso de ser madre sin dejar de ser una misma. La cita es en el recinto más emblemático de la capital para disfrutar de una producción local de alto impacto. \nLo que debes saber\n\nUbicación: Teatro Xicohténcatl.\nHora: 06:00 p. m.\n¿Cuando? 4 y 5 de marzo.\nAcceso: Entrada libre con registro previo en: www.voyalteatro.com
URL:https://escenariotlx.com/evento/con-piel-de-ballena-llega-al-teatro-xicohtencatl/
LOCATION:Teatro Xicohténcatl (Av. Juárez 21\, Col. Centro\, Tlaxcala).
CATEGORIES:Teatro
ATTACH;FMTTYPE=image/jpeg:https://escenariotlx.com/wp-content/uploads/2026/03/WhatsApp-Image-2026-03-02-at-9.34.40-AM-1.jpeg
END:VEVENT
BEGIN:VEVENT
DTSTART;TZID=America/New_York:20260307T170000
DTEND;TZID=America/New_York:20260308T130000
DTSTAMP:20260420T122015
CREATED:20260223T215706Z
LAST-MODIFIED:20260223T215706Z
UID:10002516-1772902800-1772974800@escenariotlx.com
SUMMARY:CATSUP en el Teatro Xicohténcatl
DESCRIPTION:La Secretaría de Cultura del Estado de Tlaxcala y el Teatro Xicohténcatl SC te invitan a disfrutar CATSUP\, una puesta en escena escrita por Daniela Arroio y dirigida por Micaela Gramajo. Una historia sobre la infancia\, la imaginación y esos días en los que el mundo parecía detenerse.\n\n\n\nLa cita es el próximo sábado 7 de marzo a las 17:00 horas y el domingo 8 de marzo en un horario de 13:00 horas\, ambas con entrada libre\, en el Teatro Xicohténcatl (Av. Benito Juárez 21\, Centro\, Tlaxcala).
URL:https://escenariotlx.com/evento/catsup-en-el-teatro-xicohtencatl/
CATEGORIES:Teatro
ATTACH;FMTTYPE=image/jpeg:https://escenariotlx.com/wp-content/uploads/2026/02/641490846_1369336151902129_2025582558336339270_n.jpg
END:VEVENT
BEGIN:VEVENT
DTSTART;TZID=America/New_York:20260314T130000
DTEND;TZID=America/New_York:20260314T150000
DTSTAMP:20260420T122015
CREATED:20260309T232344Z
LAST-MODIFIED:20260309T232344Z
UID:10002543-1773493200-1773500400@escenariotlx.com
SUMMARY:Danza y literatura Dicen los Árboles\, en Palacio de Cultura en Tlaxcala
DESCRIPTION:El próximo sábado en Alquimagina\, Punto de Lectura Tlaxcala\, se realizará una sesión dónde se construye un escenario\, invitándonos a develar la historia y a reflejar en ella nuestras propias emociones y sentimientos para finalmente\, crear un relato único. \nEn el recorrido\, un enigmático personaje ¡nos mostrará el camino para avanzar y nuevas preguntas nos sorprenderán! \nLectura: Dicen los árboles\, con Emmanuel Tepal \nDía: Sábado 14 de marzo 2026 \nHora: 13 hrs \n Lugar: Palacio de Cultura en Tlaxcala
URL:https://escenariotlx.com/evento/danza-y-literatura-dicen-los-arboles-en-palacio-de-cultura-en-tlaxcala/
LOCATION:Palacio de Cultura en Tlaxcala\, Avenida Benito Juárez N.62\, Tlaxcala de Xicohténcatl\, Tlaxcala\, 90000\, México
CATEGORIES:Libros,Teatro
ATTACH;FMTTYPE=image/jpeg:https://escenariotlx.com/wp-content/uploads/2026/03/648980715_122234606822120073_8001655122244113707_n.jpg
END:VEVENT
END:VCALENDAR