BEGIN:VCALENDAR
VERSION:2.0
PRODID:-//Escenario Tlaxcala - ECPv6.15.16//NONSGML v1.0//EN
CALSCALE:GREGORIAN
METHOD:PUBLISH
X-WR-CALNAME:Escenario Tlaxcala
X-ORIGINAL-URL:https://escenariotlx.com
X-WR-CALDESC:Eventos para Escenario Tlaxcala
REFRESH-INTERVAL;VALUE=DURATION:PT1H
X-Robots-Tag:noindex
X-PUBLISHED-TTL:PT1H
BEGIN:VTIMEZONE
TZID:America/New_York
BEGIN:DAYLIGHT
TZOFFSETFROM:-0500
TZOFFSETTO:-0400
TZNAME:EDT
DTSTART:20240310T070000
END:DAYLIGHT
BEGIN:STANDARD
TZOFFSETFROM:-0400
TZOFFSETTO:-0500
TZNAME:EST
DTSTART:20241103T060000
END:STANDARD
BEGIN:DAYLIGHT
TZOFFSETFROM:-0500
TZOFFSETTO:-0400
TZNAME:EDT
DTSTART:20250309T070000
END:DAYLIGHT
BEGIN:STANDARD
TZOFFSETFROM:-0400
TZOFFSETTO:-0500
TZNAME:EST
DTSTART:20251102T060000
END:STANDARD
BEGIN:DAYLIGHT
TZOFFSETFROM:-0500
TZOFFSETTO:-0400
TZNAME:EDT
DTSTART:20260308T070000
END:DAYLIGHT
BEGIN:STANDARD
TZOFFSETFROM:-0400
TZOFFSETTO:-0500
TZNAME:EST
DTSTART:20261101T060000
END:STANDARD
END:VTIMEZONE
BEGIN:VEVENT
DTSTART;TZID=America/New_York:20251030T210000
DTEND;TZID=America/New_York:20251030T230000
DTSTAMP:20260423T114915
CREATED:20251027T222716Z
LAST-MODIFIED:20251027T222716Z
UID:10002363-1761858000-1761865200@escenariotlx.com
SUMMARY:Las cuatro estaciones de Vivaldi en el Teatro Xicoténcatl
DESCRIPTION:Celebrando el día de muertos\, el 30 de octubre de 2025 se realizará un gran evento de música clásica se presentarán las cuatro estaciones de Vivaldi desde el Teatro Xicoténcatl en candlelight. \n¡Últimos boletos para este gran concierto! \n\n\nVisita la pagina www.feverup.com
URL:https://escenariotlx.com/evento/cuatro-estaciones-vivaldi-teatro-xicotencatl/
LOCATION:Teatro Xicohténcatl
CATEGORIES:Teatro
ATTACH;FMTTYPE=image/jpeg:https://escenariotlx.com/wp-content/uploads/2025/10/572103924_1372570188029537_3733977253610511937_n.jpg
END:VEVENT
END:VCALENDAR