BEGIN:VCALENDAR
VERSION:2.0
PRODID:-//Escenario Tlaxcala - ECPv6.15.16//NONSGML v1.0//EN
CALSCALE:GREGORIAN
METHOD:PUBLISH
X-ORIGINAL-URL:https://escenariotlx.com
X-WR-CALDESC:Eventos para Escenario Tlaxcala
REFRESH-INTERVAL;VALUE=DURATION:PT1H
X-Robots-Tag:noindex
X-PUBLISHED-TTL:PT1H
BEGIN:VTIMEZONE
TZID:America/New_York
BEGIN:DAYLIGHT
TZOFFSETFROM:-0500
TZOFFSETTO:-0400
TZNAME:EDT
DTSTART:20240310T070000
END:DAYLIGHT
BEGIN:STANDARD
TZOFFSETFROM:-0400
TZOFFSETTO:-0500
TZNAME:EST
DTSTART:20241103T060000
END:STANDARD
BEGIN:DAYLIGHT
TZOFFSETFROM:-0500
TZOFFSETTO:-0400
TZNAME:EDT
DTSTART:20250309T070000
END:DAYLIGHT
BEGIN:STANDARD
TZOFFSETFROM:-0400
TZOFFSETTO:-0500
TZNAME:EST
DTSTART:20251102T060000
END:STANDARD
BEGIN:DAYLIGHT
TZOFFSETFROM:-0500
TZOFFSETTO:-0400
TZNAME:EDT
DTSTART:20260308T070000
END:DAYLIGHT
BEGIN:STANDARD
TZOFFSETFROM:-0400
TZOFFSETTO:-0500
TZNAME:EST
DTSTART:20261101T060000
END:STANDARD
END:VTIMEZONE
BEGIN:VEVENT
DTSTART;TZID=America/New_York:20251103T080000
DTEND;TZID=America/New_York:20251103T170000
DTSTAMP:20260420T142752
CREATED:20251103T180231Z
LAST-MODIFIED:20251103T180231Z
UID:10002382-1762156800-1762189200@escenariotlx.com
SUMMARY:Café Filosófico de Astra dialogará el pensamiento de Heráclito de Éfeso
DESCRIPTION:El día 3 de noviembre iniciará un nuevo ciclo del Café Filosófico en Astra: base de exploración artística.  En esta sesión se abordará la visión filosófica que tiene Heráclito de Efeso acerca del mundo. El cambio constante es la base fundamental del mundo y nada lo detiene. \nHorario: 5:30 p.m. \nCuota de recuperación: $50.00
URL:https://escenariotlx.com/evento/cafe-filosofico-astra-pensamiento-heraclito/
CATEGORIES:Conversatorio
ATTACH;FMTTYPE=image/png:https://escenariotlx.com/wp-content/uploads/2025/11/Captura-de-pantalla-2025-11-03-120052.png
END:VEVENT
END:VCALENDAR