BEGIN:VCALENDAR
VERSION:2.0
PRODID:-//Escenario Tlaxcala - ECPv6.15.16//NONSGML v1.0//EN
CALSCALE:GREGORIAN
METHOD:PUBLISH
X-ORIGINAL-URL:https://escenariotlx.com
X-WR-CALDESC:Eventos para Escenario Tlaxcala
REFRESH-INTERVAL;VALUE=DURATION:PT1H
X-Robots-Tag:noindex
X-PUBLISHED-TTL:PT1H
BEGIN:VTIMEZONE
TZID:America/New_York
BEGIN:DAYLIGHT
TZOFFSETFROM:-0500
TZOFFSETTO:-0400
TZNAME:EDT
DTSTART:20240310T070000
END:DAYLIGHT
BEGIN:STANDARD
TZOFFSETFROM:-0400
TZOFFSETTO:-0500
TZNAME:EST
DTSTART:20241103T060000
END:STANDARD
BEGIN:DAYLIGHT
TZOFFSETFROM:-0500
TZOFFSETTO:-0400
TZNAME:EDT
DTSTART:20250309T070000
END:DAYLIGHT
BEGIN:STANDARD
TZOFFSETFROM:-0400
TZOFFSETTO:-0500
TZNAME:EST
DTSTART:20251102T060000
END:STANDARD
BEGIN:DAYLIGHT
TZOFFSETFROM:-0500
TZOFFSETTO:-0400
TZNAME:EDT
DTSTART:20260308T070000
END:DAYLIGHT
BEGIN:STANDARD
TZOFFSETFROM:-0400
TZOFFSETTO:-0500
TZNAME:EST
DTSTART:20261101T060000
END:STANDARD
END:VTIMEZONE
BEGIN:VEVENT
DTSTART;TZID=America/New_York:20251107T180000
DTEND;TZID=America/New_York:20251107T200000
DTSTAMP:20260420T142901
CREATED:20251107T180544Z
LAST-MODIFIED:20251107T180544Z
UID:10002396-1762538400-1762545600@escenariotlx.com
SUMMARY:Ciclo: El amor según Ghibli proyectará "El viaje de Chihiro"
DESCRIPTION:El día de hoy inicia el «ciclo: el amor según Ghibli» en Astra: base de exploración artística y proyectarán una de las obras más hermosas de Hayao Miyazaki «EL VIAJE DE CHIHIRO». \nDirección: Hayao Miyazaki \nAño: 2001 \nPaís: Japón \nDuración: 125 minutos \nSINOPSIS: Chihiro es una niña de diez años caprichosa y testaruda que cree que el universo entero debe someterse a sus deseos. Camino a su nuevo hogar junto a sus padres\, se equivocan de camino y aparecen al final de un misterioso callejón sin salida\, donde topan con un extraño edificio con un largo pasaje que los conduce a un pueblo fantasmal donde los espera un magnífico banquete. \nProyección: 6:00 p.m. \nEntrada: $20.00 \nReservaciones: 241 116 4005
URL:https://escenariotlx.com/evento/ciclo-amor-ghibli-proyectara-viaje-chihiro/
LOCATION:C. 5 de Febrero 405\, Centro\, Apizaco\, Tlaxcala.
CATEGORIES:Cine
ATTACH;FMTTYPE=image/png:https://escenariotlx.com/wp-content/uploads/2025/11/Captura-de-pantalla-2025-11-07-115836.png
END:VEVENT
END:VCALENDAR