BEGIN:VCALENDAR
VERSION:2.0
PRODID:-//Escenario Tlaxcala - ECPv6.15.16//NONSGML v1.0//EN
CALSCALE:GREGORIAN
METHOD:PUBLISH
X-ORIGINAL-URL:https://escenariotlx.com
X-WR-CALDESC:Eventos para Escenario Tlaxcala
REFRESH-INTERVAL;VALUE=DURATION:PT1H
X-Robots-Tag:noindex
X-PUBLISHED-TTL:PT1H
BEGIN:VTIMEZONE
TZID:America/New_York
BEGIN:DAYLIGHT
TZOFFSETFROM:-0500
TZOFFSETTO:-0400
TZNAME:EDT
DTSTART:20240310T070000
END:DAYLIGHT
BEGIN:STANDARD
TZOFFSETFROM:-0400
TZOFFSETTO:-0500
TZNAME:EST
DTSTART:20241103T060000
END:STANDARD
BEGIN:DAYLIGHT
TZOFFSETFROM:-0500
TZOFFSETTO:-0400
TZNAME:EDT
DTSTART:20250309T070000
END:DAYLIGHT
BEGIN:STANDARD
TZOFFSETFROM:-0400
TZOFFSETTO:-0500
TZNAME:EST
DTSTART:20251102T060000
END:STANDARD
BEGIN:DAYLIGHT
TZOFFSETFROM:-0500
TZOFFSETTO:-0400
TZNAME:EDT
DTSTART:20260308T070000
END:DAYLIGHT
BEGIN:STANDARD
TZOFFSETFROM:-0400
TZOFFSETTO:-0500
TZNAME:EST
DTSTART:20261101T060000
END:STANDARD
END:VTIMEZONE
BEGIN:VEVENT
DTSTART;TZID=America/New_York:20251110T170000
DTEND;TZID=America/New_York:20251110T190000
DTSTAMP:20260420T142843
CREATED:20251110T155538Z
LAST-MODIFIED:20251110T155538Z
UID:10002400-1762794000-1762801200@escenariotlx.com
SUMMARY:Café Filosófico de Astra continua el diálogo sobre de Heráclito de Éfeso
DESCRIPTION:El día de hoy\, 10 de noviembre se continuará con el ciclo del Café Filosófico en Astra: base de exploración artística.  En esta sesión se abordará la visión filosófica que tiene Heráclito de Éfeso acerca del mundo. El cambio constante es la base fundamental del mundo y nada lo detiene. \nHorario: 5:30 p.m. \nCuota de recuperación: $50.00
URL:https://escenariotlx.com/evento/cafe-filosofico-de-astra-dialogo-heraclito/
LOCATION:C. 5 de Febrero 405\, Centro\, Apizaco\, Tlaxcala.
CATEGORIES:Conversatorio
ATTACH;FMTTYPE=image/png:https://escenariotlx.com/wp-content/uploads/2025/11/Captura-de-pantalla-2025-11-10-095326.png
END:VEVENT
END:VCALENDAR