BEGIN:VCALENDAR
VERSION:2.0
PRODID:-//Escenario Tlaxcala - ECPv6.15.16//NONSGML v1.0//EN
CALSCALE:GREGORIAN
METHOD:PUBLISH
X-ORIGINAL-URL:https://escenariotlx.com
X-WR-CALDESC:Eventos para Escenario Tlaxcala
REFRESH-INTERVAL;VALUE=DURATION:PT1H
X-Robots-Tag:noindex
X-PUBLISHED-TTL:PT1H
BEGIN:VTIMEZONE
TZID:America/New_York
BEGIN:DAYLIGHT
TZOFFSETFROM:-0500
TZOFFSETTO:-0400
TZNAME:EDT
DTSTART:20240310T070000
END:DAYLIGHT
BEGIN:STANDARD
TZOFFSETFROM:-0400
TZOFFSETTO:-0500
TZNAME:EST
DTSTART:20241103T060000
END:STANDARD
BEGIN:DAYLIGHT
TZOFFSETFROM:-0500
TZOFFSETTO:-0400
TZNAME:EDT
DTSTART:20250309T070000
END:DAYLIGHT
BEGIN:STANDARD
TZOFFSETFROM:-0400
TZOFFSETTO:-0500
TZNAME:EST
DTSTART:20251102T060000
END:STANDARD
BEGIN:DAYLIGHT
TZOFFSETFROM:-0500
TZOFFSETTO:-0400
TZNAME:EDT
DTSTART:20260308T070000
END:DAYLIGHT
BEGIN:STANDARD
TZOFFSETFROM:-0400
TZOFFSETTO:-0500
TZNAME:EST
DTSTART:20261101T060000
END:STANDARD
END:VTIMEZONE
BEGIN:VEVENT
DTSTART;TZID=America/New_York:20251105T100000
DTEND;TZID=America/New_York:20251205T190000
DTSTAMP:20260421T035004
CREATED:20251106T164032Z
LAST-MODIFIED:20251106T164032Z
UID:10002393-1762336800-1764961200@escenariotlx.com
SUMMARY:El Umbral de lo Extraño: Literatura Expandida de Violeta Carrasco
DESCRIPTION:A partir del 5 de noviembre  y hasta el 5 de diciembre se presentará la exposición «El Umbral de lo Extraño» de Violeta Carrasco (@violeta.et.astra) en D’Martino Arte y Café\, Apizaco. \nUna exposición que nos acerca a la literatura expandida y nos invita a explorar la figura de lo monstruoso como metáfora del inconsciente.
URL:https://escenariotlx.com/evento/umbral-extrano-literatura-violeta-carrasco/
LOCATION:D’Martino Arte y Café\, Apizaco.
ATTACH;FMTTYPE=image/jpeg:https://escenariotlx.com/wp-content/uploads/2025/11/577087161_1530730435047148_6698506995487762497_n.jpg
END:VEVENT
BEGIN:VEVENT
DTSTART;TZID=America/New_York:20251113T120000
DTEND;TZID=America/New_York:20251113T130000
DTSTAMP:20260421T035004
CREATED:20251111T213113Z
LAST-MODIFIED:20251111T213113Z
UID:10002406-1763035200-1763038800@escenariotlx.com
SUMMARY:En el Museo Comunitario de Atltzayanca se realizará la exposición "Memoria Colectiva"
DESCRIPTION:El día jueves 13 de noviembre se realizará la inauguración de la exposición «Memoria colectiva: El incendio forestal de Atltzayanca»\, un espacio para recordar\, reflexionar y reconocer la fuerza de nuestra comunidad ante la adversidad. Acude\, comparte y sé parte de esta memoria que nos une. \nHorario: 12:00 p.m. \nLugar: Auditorio anexo al Museo Comunitario de Atltzayanca (Camino a San José Xalasco\, Col. Centro\, Atltzayanca de Hidalgo) \nNota: Exposición hasta el 13 de diciembre de 2025.
URL:https://escenariotlx.com/evento/museo-atltzayanca-exposicion-memoria/
LOCATION:Camino a Xalasco S/N\, San Antonio\, 90550 Atlzayanca\, Tlax.
CATEGORIES:Exposición
ATTACH;FMTTYPE=image/jpeg:https://escenariotlx.com/wp-content/uploads/2025/11/580085446_1780158576598146_7605124439996060483_n.jpg
END:VEVENT
END:VCALENDAR