BEGIN:VCALENDAR
VERSION:2.0
PRODID:-//Escenario Tlaxcala - ECPv6.15.16//NONSGML v1.0//EN
CALSCALE:GREGORIAN
METHOD:PUBLISH
X-WR-CALNAME:Escenario Tlaxcala
X-ORIGINAL-URL:https://escenariotlx.com
X-WR-CALDESC:Eventos para Escenario Tlaxcala
REFRESH-INTERVAL;VALUE=DURATION:PT1H
X-Robots-Tag:noindex
X-PUBLISHED-TTL:PT1H
BEGIN:VTIMEZONE
TZID:America/New_York
BEGIN:DAYLIGHT
TZOFFSETFROM:-0500
TZOFFSETTO:-0400
TZNAME:EDT
DTSTART:20240310T070000
END:DAYLIGHT
BEGIN:STANDARD
TZOFFSETFROM:-0400
TZOFFSETTO:-0500
TZNAME:EST
DTSTART:20241103T060000
END:STANDARD
BEGIN:DAYLIGHT
TZOFFSETFROM:-0500
TZOFFSETTO:-0400
TZNAME:EDT
DTSTART:20250309T070000
END:DAYLIGHT
BEGIN:STANDARD
TZOFFSETFROM:-0400
TZOFFSETTO:-0500
TZNAME:EST
DTSTART:20251102T060000
END:STANDARD
BEGIN:DAYLIGHT
TZOFFSETFROM:-0500
TZOFFSETTO:-0400
TZNAME:EDT
DTSTART:20260308T070000
END:DAYLIGHT
BEGIN:STANDARD
TZOFFSETFROM:-0400
TZOFFSETTO:-0500
TZNAME:EST
DTSTART:20261101T060000
END:STANDARD
END:VTIMEZONE
BEGIN:VEVENT
DTSTART;TZID=America/New_York:20251108T130000
DTEND;TZID=America/New_York:20251108T190000
DTSTAMP:20260422T052121
CREATED:20251029T161416Z
LAST-MODIFIED:20251029T161754Z
UID:10002368-1762606800-1762628400@escenariotlx.com
SUMMARY:Feria Geek Extensión Memories: K-pop\, expositores y luchadores
DESCRIPTION:El día 8 de noviembre se realizará la Feria Geek extensión Memories que organiza La Colmena: Centro de Tecnologías Creativas. En esta extensión estarán expositorxs\, muestras de K-pop y luchadores invitadxs que estarán presentes dentro del Teatro del Pueblo del Recinto Ferial durante “Tlaxcala\, la feria de ferias 2025”. \n\n\nNo te pierdas la oportunidad de ver a tu grupo de K-pop favorito\, adquirir productos de artistas y emprendimientos locales con temática geek\, así como conocer a tus luchadorxs favoritxs. \n1:00 – 7:00 p.m. | Zona de expositores5:00 – 7:00 p.m. | Zona K-Pop \nNota: La entrada la Feria Geek es libre\, el ingreso al recinto tiene costo ($10.00 mxn)
URL:https://escenariotlx.com/evento/feria-geek-k-pop-expositores-luchadores/
LOCATION:Recinto Feria Tlaxcala\, Avenida Tlahuicole\, Adolfo López Mateos\, Tlaxcala\, Tlaxcala\, 90040\, México
CATEGORIES:Exposición,Festivales
ATTACH;FMTTYPE=image/jpeg:https://escenariotlx.com/wp-content/uploads/2025/10/572182469_1425873659547034_2925599810397764699_n.jpg
END:VEVENT
END:VCALENDAR