BEGIN:VCALENDAR
VERSION:2.0
PRODID:-//Escenario Tlaxcala - ECPv6.15.16//NONSGML v1.0//EN
CALSCALE:GREGORIAN
METHOD:PUBLISH
X-WR-CALNAME:Escenario Tlaxcala
X-ORIGINAL-URL:https://escenariotlx.com
X-WR-CALDESC:Eventos para Escenario Tlaxcala
REFRESH-INTERVAL;VALUE=DURATION:PT1H
X-Robots-Tag:noindex
X-PUBLISHED-TTL:PT1H
BEGIN:VTIMEZONE
TZID:America/New_York
BEGIN:DAYLIGHT
TZOFFSETFROM:-0500
TZOFFSETTO:-0400
TZNAME:EDT
DTSTART:20240310T070000
END:DAYLIGHT
BEGIN:STANDARD
TZOFFSETFROM:-0400
TZOFFSETTO:-0500
TZNAME:EST
DTSTART:20241103T060000
END:STANDARD
BEGIN:DAYLIGHT
TZOFFSETFROM:-0500
TZOFFSETTO:-0400
TZNAME:EDT
DTSTART:20250309T070000
END:DAYLIGHT
BEGIN:STANDARD
TZOFFSETFROM:-0400
TZOFFSETTO:-0500
TZNAME:EST
DTSTART:20251102T060000
END:STANDARD
BEGIN:DAYLIGHT
TZOFFSETFROM:-0500
TZOFFSETTO:-0400
TZNAME:EDT
DTSTART:20260308T070000
END:DAYLIGHT
BEGIN:STANDARD
TZOFFSETFROM:-0400
TZOFFSETTO:-0500
TZNAME:EST
DTSTART:20261101T060000
END:STANDARD
END:VTIMEZONE
BEGIN:VEVENT
DTSTART;TZID=America/New_York:20251030T150000
DTEND;TZID=America/New_York:20251030T170000
DTSTAMP:20260422T185318
CREATED:20251030T174711Z
LAST-MODIFIED:20251030T174806Z
UID:10002374-1761836400-1761843600@escenariotlx.com
SUMMARY:Pensar la muerte desde la Filosofía desde el Museo Miguel N. Lira
DESCRIPTION:El día 30 de octubre se realizará una nueva edición del «Café Filosófico» y en esta ocasión se abordará el tema «Pensar la muerte desde la filosofía»\, recuerda que el acceso es totalmente gratuito. \n\n\nHora: 3:00 a 5:00 p.m. \nLugar: Auditorio del Museo Miguel N. Lira
URL:https://escenariotlx.com/evento/pensar-muerte-filosofia-museo-miguel-n-lira/
LOCATION:Museo Miguel N. Lira
CATEGORIES:Conversatorio
ATTACH;FMTTYPE=image/jpeg:https://escenariotlx.com/wp-content/uploads/2025/10/572441551_1418987700235026_8435209234261414934_n.jpg
END:VEVENT
END:VCALENDAR