BEGIN:VCALENDAR
VERSION:2.0
PRODID:-//Escenario Tlaxcala - ECPv6.15.16//NONSGML v1.0//EN
CALSCALE:GREGORIAN
METHOD:PUBLISH
X-ORIGINAL-URL:https://escenariotlx.com
X-WR-CALDESC:Eventos para Escenario Tlaxcala
REFRESH-INTERVAL;VALUE=DURATION:PT1H
X-Robots-Tag:noindex
X-PUBLISHED-TTL:PT1H
BEGIN:VTIMEZONE
TZID:America/New_York
BEGIN:DAYLIGHT
TZOFFSETFROM:-0500
TZOFFSETTO:-0400
TZNAME:EDT
DTSTART:20250309T070000
END:DAYLIGHT
BEGIN:STANDARD
TZOFFSETFROM:-0400
TZOFFSETTO:-0500
TZNAME:EST
DTSTART:20251102T060000
END:STANDARD
BEGIN:DAYLIGHT
TZOFFSETFROM:-0500
TZOFFSETTO:-0400
TZNAME:EDT
DTSTART:20260308T070000
END:DAYLIGHT
BEGIN:STANDARD
TZOFFSETFROM:-0400
TZOFFSETTO:-0500
TZNAME:EST
DTSTART:20261101T060000
END:STANDARD
BEGIN:DAYLIGHT
TZOFFSETFROM:-0500
TZOFFSETTO:-0400
TZNAME:EDT
DTSTART:20270314T070000
END:DAYLIGHT
BEGIN:STANDARD
TZOFFSETFROM:-0400
TZOFFSETTO:-0500
TZNAME:EST
DTSTART:20271107T060000
END:STANDARD
END:VTIMEZONE
BEGIN:VEVENT
DTSTART;TZID=America/New_York:20260123T160000
DTEND;TZID=America/New_York:20260219T180000
DTSTAMP:20260420T202813
CREATED:20260129T193552Z
LAST-MODIFIED:20260129T193648Z
UID:10002472-1769184000-1771524000@escenariotlx.com
SUMMARY:Bendito Corazón en La Sala de Arte Miguel N. Lira
DESCRIPTION:La Sala de Arte Miguel N. Lira presenta: Bendito Corazón\, con funciones del 23 de enero al 19 de febrero\, con horarios de martes a domingo\, 4:00 y 6:00 p.m. \n \n¿En dónde?Al interior del Jardín Botánico de Tizatlán\, Tlaxcala https://www.coracyt.gob.mx/cine
URL:https://escenariotlx.com/evento/bendito-corazon-en-la-sala-de-arte-miguel-n-lira/
CATEGORIES:Cine
ATTACH;FMTTYPE=image/jpeg:https://escenariotlx.com/wp-content/uploads/2026/01/623818275_953253107264411_4566053099366481926_n.jpg
END:VEVENT
BEGIN:VEVENT
DTSTART;TZID=America/New_York:20260207T100000
DTEND;TZID=America/New_York:20260321T130000
DTSTAMP:20260420T202813
CREATED:20260129T193030Z
LAST-MODIFIED:20260129T193030Z
UID:10002471-1770458400-1774098000@escenariotlx.com
SUMMARY:Talleres gratuitos de Dirección de Cine y Guion Cinematográfico en Teolocholco
DESCRIPTION:Únete a los talleres gratuitos de Dirección de Cine y Guion Cinematográfico en Teolocholco. \n \nLos talleres se realizarán del sábado 7 de febrero al 21 de marzo\, en un horario de 10:00 a.m. a 1:00 p.m.\, en “La Casa de la Abuela”\, en San Luis Teolocholco.
URL:https://escenariotlx.com/evento/talleres-gratuitos-de-direccion-de-cine-y-guion-cinematografico-en-teolocholco/
CATEGORIES:Cine,Talleres
ATTACH;FMTTYPE=image/jpeg:https://escenariotlx.com/wp-content/uploads/2026/01/WhatsApp-Image-2026-01-29-at-10.53.33.jpeg
END:VEVENT
BEGIN:VEVENT
DTSTART;TZID=America/New_York:20260217T100000
DTEND;TZID=America/New_York:20260219T000000
DTSTAMP:20260420T202813
CREATED:20260130T160248Z
LAST-MODIFIED:20260130T160314Z
UID:10002480-1771322400-1771459200@escenariotlx.com
SUMMARY:🎉 ¡Disfruta del Carnaval de Tepatlaxco 2026! 🎉
DESCRIPTION:La Presidencia de Comunidad de San Rafael Tepatlaxco\, en coordinación con la Coordinación de Cultura\, Archivo Histórico y Turismo\, te invita a ser parte de la CVIII edición del Carnaval de Tepatlaxco\, una de las celebraciones más tradicionales y coloridas de nuestra región. \nA continuación\, te compartimos el programa oficial de actividades 2026: \n \n📅 17 de febrero – Martes de Carnaval🎶 Tributo de Carnaval y presentación de camadas en las calles céntricas del pueblo🕙 A partir de las 10:00 a.m. \n📅 18 de febrero – Remate de Carnaval📍 Av. Revolución s/n \n🕛 12:00 p.m.• Recepción de invitados• Presentación del presídium• Ceremonia de inauguración de la CVIII edición del Carnaval \n🕐 1:00 p.m.👑 Coronación de las Reinas del Carnaval\, a cargo de laMtra. Blanca Estela Ángulo Meneses\,Presidenta Municipal de Chiautempan. \n🕜 1:30 p.m. a 12:00 a.m.🎭 Presentación de camadas
URL:https://escenariotlx.com/evento/%f0%9f%8e%89-disfruta-del-carnaval-de-tepatlaxco-2026-%f0%9f%8e%89-2/
CATEGORIES:Danza,Festivales
ATTACH;FMTTYPE=image/jpeg:https://escenariotlx.com/wp-content/uploads/2026/01/624348124_4174630642757936_1797821890893848596_n.jpg
END:VEVENT
BEGIN:VEVENT
DTSTART;TZID=America/New_York:20260217T160000
DTEND;TZID=America/New_York:20260226T180000
DTSTAMP:20260420T202813
CREATED:20260205T155413Z
LAST-MODIFIED:20260205T160615Z
UID:10002487-1771344000-1772128800@escenariotlx.com
SUMMARY:Taller "Videovivencias" Infancias que crean y reflexionan desde las redes sociales
DESCRIPTION:Del 17 al 26 de febrero se realizará el taller «Videovivencias» el cual propone abrir un espacio donde las infancias puedan nombrar lo que viven\, reflexionar sobre los contenidos que consumen y generar materiales propios que representen su entorno\, emociones y formas de habitar el mundo. \nMediante actividades lúdicas\, el juego y el trabajo colaborativo\, lxs participantes crearán videos que validen sus vivencias y les permitan compartir su visión del mundo desde lo cotidiano. \n\n\nLugar: La Colmena. Palacio de Cultura en Tlaxcala.\nHorario: 4:00 a 6:00 p. m.\nMás información e inscripciones aquí.
URL:https://escenariotlx.com/evento/taller-videovivencias-infancias-redes/
LOCATION:Palacio de Cultura en Tlaxcala\, Avenida Benito Juárez N.62\, Tlaxcala de Xicohténcatl\, Tlaxcala\, 90000\, México
CATEGORIES:Talleres
ATTACH;FMTTYPE=image/jpeg:https://escenariotlx.com/wp-content/uploads/2026/02/623274332_1506356248165441_2381444621926764614_n.jpg
END:VEVENT
END:VCALENDAR