BEGIN:VCALENDAR
VERSION:2.0
PRODID:-//Escenario Tlaxcala - ECPv6.15.16//NONSGML v1.0//EN
CALSCALE:GREGORIAN
METHOD:PUBLISH
X-WR-CALNAME:Escenario Tlaxcala
X-ORIGINAL-URL:https://escenariotlx.com
X-WR-CALDESC:Eventos para Escenario Tlaxcala
REFRESH-INTERVAL;VALUE=DURATION:PT1H
X-Robots-Tag:noindex
X-PUBLISHED-TTL:PT1H
BEGIN:VTIMEZONE
TZID:America/New_York
BEGIN:DAYLIGHT
TZOFFSETFROM:-0500
TZOFFSETTO:-0400
TZNAME:EDT
DTSTART:20240310T070000
END:DAYLIGHT
BEGIN:STANDARD
TZOFFSETFROM:-0400
TZOFFSETTO:-0500
TZNAME:EST
DTSTART:20241103T060000
END:STANDARD
BEGIN:DAYLIGHT
TZOFFSETFROM:-0500
TZOFFSETTO:-0400
TZNAME:EDT
DTSTART:20250309T070000
END:DAYLIGHT
BEGIN:STANDARD
TZOFFSETFROM:-0400
TZOFFSETTO:-0500
TZNAME:EST
DTSTART:20251102T060000
END:STANDARD
BEGIN:DAYLIGHT
TZOFFSETFROM:-0500
TZOFFSETTO:-0400
TZNAME:EDT
DTSTART:20260308T070000
END:DAYLIGHT
BEGIN:STANDARD
TZOFFSETFROM:-0400
TZOFFSETTO:-0500
TZNAME:EST
DTSTART:20261101T060000
END:STANDARD
END:VTIMEZONE
BEGIN:VEVENT
DTSTART;VALUE=DATE:20250124
DTEND;VALUE=DATE:20250126
DTSTAMP:20260422T063448
CREATED:20250120T193216Z
LAST-MODIFIED:20250120T193216Z
UID:10000509-1737676800-1737849599@escenariotlx.com
SUMMARY:Gran San Juanada 2025
DESCRIPTION:¡Unete a la gran San Juanada\nLa gran San Juanada es un evento emocionante que te espera con actividades emocionantes como desfile de San Juanada\, Gran suelta de vaquillas nocturnas entre otras más. \nTe esperamos este 25 de Enero en punto de las 12:00 PM en la calle Revolución ubicada en el municipio de  San Juan Totolac Tlaxcala. \n  \n 
URL:https://escenariotlx.com/evento/gran-san-juanada-2025/
LOCATION:San Juan Totolac\, Tlaxcala\, Mexico
CATEGORIES:Festivales
ATTACH;FMTTYPE=image/jpeg:https://escenariotlx.com/wp-content/uploads/2025/01/468634612_122176518890101628_5273791823666531283_n.jpg
END:VEVENT
BEGIN:VEVENT
DTSTART;TZID=America/New_York:20250124T170000
DTEND;TZID=America/New_York:20250124T190000
DTSTAMP:20260422T063448
CREATED:20250120T202506Z
LAST-MODIFIED:20250120T202506Z
UID:10000511-1737738000-1737745200@escenariotlx.com
SUMMARY:"Creo mi propia historia- Deseos 2025"
DESCRIPTION:Taller «Creo mi propia historia-Deseos 2025 «\nEl alma expresa a través de la escritura nuestros pensamientos\, emociones\, nuestro saber\, sentir y deseos. Por ello te invitamos al Taller «Creo mi propia Historia» Con un mapa de deseos decretando todo lo que deseamos en esté 2025. \nTe esperamos este viernes 24 de Enero de 4:00 a 7:00 PM en Casa Cultura\, Danza y Arte\, San Esteban Tizatlán Tlaxcala. \n 
URL:https://escenariotlx.com/evento/creo-mi-propia-historia-deseos-2025/
LOCATION:San Esteban Tizatlan
CATEGORIES:Talleres
ATTACH;FMTTYPE=image/jpeg:https://escenariotlx.com/wp-content/uploads/2025/01/474034722_122131807166554731_555778472944783673_n.jpg
END:VEVENT
BEGIN:VEVENT
DTSTART;TZID=America/New_York:20250125T160000
DTEND;TZID=America/New_York:20250125T180000
DTSTAMP:20260422T063448
CREATED:20250120T195917Z
LAST-MODIFIED:20250128T164014Z
UID:10000510-1737820800-1737828000@escenariotlx.com
SUMMARY:Descubre el arte de los cigarros herbales
DESCRIPTION:Aprende a elaborar cigarros herbales naturales en un ambiente relajado y creativo. \nSábado 25 de Enero de 4:00 PM – 6:00 PM en Av. Independencia 34B\, Col. San Isidro\, Tlaxcala.\, Tlaxcala Centro\, Tlaxcala\, Mexico. \n¡Una experiencia única que conecta con la naturaleza y el bienestar! \n 
URL:https://escenariotlx.com/evento/taller-herbales/
LOCATION:San Isidro Tlaxcala
CATEGORIES:Talleres
ATTACH;FMTTYPE=image/jpeg:https://escenariotlx.com/wp-content/uploads/2025/01/473554261_617062474023149_8824625587832839667_n.jpg
END:VEVENT
BEGIN:VEVENT
DTSTART;TZID=America/New_York:20250131T160000
DTEND;TZID=America/New_York:20250131T180000
DTSTAMP:20260422T063448
CREATED:20250130T185642Z
LAST-MODIFIED:20250131T163436Z
UID:10000526-1738339200-1738346400@escenariotlx.com
SUMMARY:Concierto Trascendencia De La Mujer
DESCRIPTION:Te invitamos al concierto Trascendencia De La Mujer Gala musical a cargo de mujeres compositoras que inspiran. \n\n\nViernes 31 de enero\n18 hrs\nTeatro Xicohténcatl SC\nEntrada libre\n\n\nEste proyecto es apoyado por el Sistema de Apoyos a la creación y Proyectos Culturales a través del Programa de Estímulos a la creación y Desarrollo Artístico PECDAT
URL:https://escenariotlx.com/evento/concierto-trascendencia-de-la-mujer/
LOCATION:Teatro Xicohténcatl
CATEGORIES:Música
ATTACH;FMTTYPE=image/png:https://escenariotlx.com/wp-content/uploads/2025/01/474868869_1036413508527730_34473419857506517_n.png
END:VEVENT
BEGIN:VEVENT
DTSTART;TZID=America/New_York:20250201T110000
DTEND;TZID=America/New_York:20250202T220000
DTSTAMP:20260422T063448
CREATED:20250131T163002Z
LAST-MODIFIED:20250131T163002Z
UID:10000528-1738407600-1738533600@escenariotlx.com
SUMMARY:Festival Del Papalote Tlaxcala
DESCRIPTION:Este 1 & 2 de Febrero vive la 3ra Edición del Festival del Papalote 2025 en San Pablo Apetatitlan\n\nEste 1 & 2 de Febrero vive la 3ra Edición del #Festival del Papalote 2025 en San Pablo Apetatitlan.\n\n\n\n\nUn evento 100% Familiar\, acceso  $15.00 pesos de 11:00am a 10:00pm a un costado del Zoológico del Altiplano.
URL:https://escenariotlx.com/evento/festival-del-papalote-tlaxcala/
LOCATION:Deportivo Antonio Carvajal
CATEGORIES:Festivales
ATTACH;FMTTYPE=image/png:https://escenariotlx.com/wp-content/uploads/2025/01/470236796_565508746450083_8285724354227845732_n.png
END:VEVENT
BEGIN:VEVENT
DTSTART;TZID=America/New_York:20250202T080000
DTEND;TZID=America/New_York:20250202T100000
DTSTAMP:20260422T063448
CREATED:20250129T175947Z
LAST-MODIFIED:20250207T143840Z
UID:10000522-1738483200-1738490400@escenariotlx.com
SUMMARY:Únete al 7mo Festival de los Humedales de Tlaxcala
DESCRIPTION:El 7mo Festival de los Humedales de Tlaxcala y el 3er. FestiTlax de los Anfibios coordinado por Laura Méndez del Colectivo Por  Con Vida Atoyac. Se realizará del 2 al 5 de febrero  en tres sedes: \n\nLa ribera de San Juan Contla de Santa Isabel Xiloxoxtlael\nCentro Tlaxcala de Biología de la Conducta de la Universidad Autónoma de Tlaxcala y\nZona Arqueológica de Cacaxtla-Xochitécatl\n\n2 de febrero\ncomenzando el 2 de febrero en la ribera de San Juan Contla de Santa Isabel Xiloxoxtla  con un horario de 8:00 am en adelante con actividades como observación de aves\, talleres y juegos para todas las edades. \n 4 de febrero \nPosteriormente el martes 4 de febrero en el Centro Tlaxcala de Biología de la Conducta de la Universidad Autónoma de Tlaxcala  con un horario de 10:00 am en adelante para presentar una muestra de cine ambiental. \n5 de febrero\nCulmina el miércoles 5 de febrero en el Museo de Sitio de la Zona Arqueológica de Cacaxtla-Xochitécatl  con un horario de 10:00 am a 12:00 pm\, se realizara un diálogo sobre los humedales es estado a cargo de diferentes expertos como Laura Méndez del colectivo Por un Atoyac con vida\, Leonardo Teoyotl del Grupo Ambiental Xilonen y Alfredo Delgado de la UATx. Es importante mencionar que todas las actividades son gratuitas y para el público en general. \n 
URL:https://escenariotlx.com/evento/unete-al-7mo-festival-de-los-humedales-de-tlaxcala-y-el-3er-festitlax-de-los-anfibios/
LOCATION:Colectivo Atoyac
CATEGORIES:Ecología,Festivales
ATTACH;FMTTYPE=image/png:https://escenariotlx.com/wp-content/uploads/2025/01/460956cf-db64-4768-b884-18eb3f6a8663.png
END:VEVENT
BEGIN:VEVENT
DTSTART;TZID=America/New_York:20250204T100000
DTEND;TZID=America/New_York:20250204T120000
DTSTAMP:20260422T063448
CREATED:20250129T180355Z
LAST-MODIFIED:20250207T145124Z
UID:10000523-1738663200-1738670400@escenariotlx.com
SUMMARY:3er. FestiTlax de los Anfibios
DESCRIPTION:El 3er. FestiTlax de los Anfibios coordinado por Laura Méndez del Colectivo Por  Con Vida Atoyac. Se realizará en la sede: \n\nCentro Tlaxcala de Biología de la Conducta de la Universidad Autónoma de Tlaxcala \n\n4 de febrero\nEl martes 4 de febrero en el Centro Tlaxcala de Biología de la Conducta de la Universidad Autónoma de Tlaxcala  con un horario de 10:00 am en adelante para presentar una muestra de cine ambiental. \nCon las siguientes actividades: \n\nMuestra de Cine Ambieltal 10 am\nAnfibios de los humedales (5 minutos)\nAnfibios junto al mar (15 minutos)\nFauna Tepoztlan Animal Fest (60 minutos)\n\n 
URL:https://escenariotlx.com/evento/unete-al-7mo-festival-de-los-humedales-de-tlaxcala-y-el-3er-festitlax-de-los-anfibios-2/
LOCATION:Colectivo Atoyac
CATEGORIES:Ecología,Festivales
ATTACH;FMTTYPE=image/png:https://escenariotlx.com/wp-content/uploads/2025/01/460956cf-db64-4768-b884-18eb3f6a8663.png
END:VEVENT
BEGIN:VEVENT
DTSTART;TZID=America/New_York:20250205T100000
DTEND;TZID=America/New_York:20250205T120000
DTSTAMP:20260422T063448
CREATED:20250206T175117Z
LAST-MODIFIED:20250206T175117Z
UID:10000535-1738749600-1738756800@escenariotlx.com
SUMMARY:El 7mo Festival de los Humedales de Tlaxcala 
DESCRIPTION:El 7mo Festival de los Humedales de Tlaxcala coordinado por Laura Méndez del Colectivo Por  Con Vida Atoyac. Se realizará el 5 de febrero la sede: \nZona Arqueológica de Cacaxtla-Xochitécatl \n5 de febrero\nCulmina el miércoles 5 de febrero en el Museo de Sitio de la Zona Arqueológica de Cacaxtla-Xochitécatl  con un horario de 10:00 am a 12:00 pm\, se realizara un diálogo sobre los humedales es estado a cargo de diferentes expertos como Laura Méndez del colectivo Por un Atoyac con vida\, Leonardo Teoyotl del Grupo Ambiental Xilonen y Alfredo Delgado de la UATx. Es importante mencionar que todas las actividades son gratuitas y para el público en general.
URL:https://escenariotlx.com/evento/el-7mo-festival-de-los-humedales-de-tlaxcala/
LOCATION:Cacaxtla-Xochitécatl
CATEGORIES:Ecología
ATTACH;FMTTYPE=image/png:https://escenariotlx.com/wp-content/uploads/2025/01/460956cf-db64-4768-b884-18eb3f6a8663.png
END:VEVENT
BEGIN:VEVENT
DTSTART;TZID=America/New_York:20250205T160000
DTEND;TZID=America/New_York:20250205T170000
DTSTAMP:20260422T063448
CREATED:20250131T160706Z
LAST-MODIFIED:20250131T160757Z
UID:10000527-1738771200-1738774800@escenariotlx.com
SUMMARY:Exposición Pensamientos Libres
DESCRIPTION:Ven y contempla las pinturas de nuevos talentos a través del imaginario colectivo.\n  \n  \n  \n  \n  \n¡Entrada Libre\, No faltes!
URL:https://escenariotlx.com/evento/exposicion-pensamientos-libres/
LOCATION:Centro de las Artes Tlaxcala
CATEGORIES:Exposición
ATTACH;FMTTYPE=image/png:https://escenariotlx.com/wp-content/uploads/2025/01/475547571_1011646307658893_4423115066051415423_n.png
END:VEVENT
BEGIN:VEVENT
DTSTART;TZID=America/New_York:20250205T160000
DTEND;TZID=America/New_York:20250205T170000
DTSTAMP:20260422T063448
CREATED:20250205T173613Z
LAST-MODIFIED:20250205T173613Z
UID:10000532-1738771200-1738774800@escenariotlx.com
SUMMARY:Primer Torneo Psicomotriz De Taekwondo
DESCRIPTION:Fomentar la actividad física y el desarrollo integral de las habilidades psicomotrices en un ambiente competitivo y de sana convivencia es el objetivo de este 1er Torneo al que convoca el Taller de Taekwondo del IJMM\, nivel primaria\, escanea el código QR y confirma tu participación.
URL:https://escenariotlx.com/evento/primer-torneo-psicomotriz-de-taekwondo/
LOCATION:Chiautempan
CATEGORIES:Deportes
ATTACH;FMTTYPE=image/png:https://escenariotlx.com/wp-content/uploads/2025/02/475228746_1073129684828754_7129303318199884510_n.png
END:VEVENT
BEGIN:VEVENT
DTSTART;TZID=America/New_York:20250208T100000
DTEND;TZID=America/New_York:20250208T233000
DTSTAMP:20260422T063448
CREATED:20250205T172902Z
LAST-MODIFIED:20250205T172902Z
UID:10000531-1739008800-1739057400@escenariotlx.com
SUMMARY:Presentación de Videojuegos Infantiles Papalotla
DESCRIPTION:La Comisión Estatal de Derechos Humanos de Tlaxcala #CEDHT invita a niñas y niños a la presentación de videojuegos hechos por niñas de Papalotla\, proyecto denominado «Nuestro primer vuelo».
URL:https://escenariotlx.com/evento/presentacion-de-videojuegos-infantiles-papalotla/
LOCATION:Centro de Papalotla
CATEGORIES:Exposición
ATTACH;FMTTYPE=image/png:https://escenariotlx.com/wp-content/uploads/2025/02/475784585_1022716883231056_7058365358077655969_n.png
ORGANIZER;CN="Comisi%C3%B3n Estatal de Derechos Humanos de Tlaxcala":MAILTO:cedhtlax@prodigy.net.mx
END:VEVENT
BEGIN:VEVENT
DTSTART;TZID=America/New_York:20250208T163000
DTEND;TZID=America/New_York:20250208T200000
DTSTAMP:20260422T063448
CREATED:20250130T155304Z
LAST-MODIFIED:20250130T155417Z
UID:10000524-1739032200-1739044800@escenariotlx.com
SUMMARY:Participa En Mujeres y Niñas Tejiendo Ciencias
DESCRIPTION:Un encuentro entre el cielo y la naturaleza \nTe invitamos a  formar parte del evento  Mujeres y Niñas Tejiendo Ciencias organizado por la Universidad Autónoma de Tlaxcala\, se llevará a cabo el sábado 8 de febrero de 2025 a las 4:30 p.m. en el Parque Temático de Tlaxcala «Avión Boeing 727»\, ubicado en la calle Insurgentes\, Col. Cuahuatzala en Tizatlán\, Tlaxcala. \nPrograma de actividades:\n\n\n5:00 p.m. – Apertura del evento\n5:30 p.m. – Narración oral “La mujer de las estrellas»\n5:30 p.m. – Expoventa de productoras y artesanas locales\n6:00 p.m. – Talleres: Los tesoros del bosque y la salud reproductiva femenina\n6:30 p.m. – Charla astronómica\n7:00 p.m. – Observación de la Luna y los planetas Júpiter\, Saturno\, Marte y Venus a través de telescopios\n8:00 p.m. – Cierre del evento\n\nConoce más eventos en nuestra Cartelera Eventos Tlx https://escenariotlx.com/evento/unete-al-7mo-festival-de-los-humedales-de-tlaxcala-y-el-3er-festitlax-de-los-anfibios/ \n 
URL:https://escenariotlx.com/evento/participa-en-mujeres-y-ninas-tejiendo-ciencias/
LOCATION:Parque Temático de Tlaxcala Avión Boeing
CATEGORIES:Talleres
ATTACH;FMTTYPE=image/png:https://escenariotlx.com/wp-content/uploads/2025/01/1faa6eb9-8f9e-4333-8c2d-48087a7ab931.png
END:VEVENT
BEGIN:VEVENT
DTSTART;TZID=America/New_York:20250211T000000
DTEND;TZID=America/New_York:20250211T170000
DTSTAMP:20260422T063448
CREATED:20250204T171940Z
LAST-MODIFIED:20250206T172609Z
UID:10000530-1739232000-1739293200@escenariotlx.com
SUMMARY:Inscripciones Abiertas Al Taller de Danza Oriental
DESCRIPTION:El Centro de las Artes Tlaxcala\, vuelve este 2025 con los Talleres de Formación Artística\, ven y se parte del taller de Danza Oriental; aprende las técnicas\, teoría\, ritmología básica\, expresión facial y corporal al bailar y manejo del escenario. \n  \n  \nMayores Informes: Coordinación del Centro de las Artes Tlaxcala\, Fernando Solana 1\, Primera Sección\, San Luis Apizaquito\, Apizaco\, Tlaxcala\, C.P. 9040.\nTel. 2414188960 Ext. 164
URL:https://escenariotlx.com/evento/unete-a-danza-oriental/
LOCATION:Centro de las Artes Tlaxcala
CATEGORIES:Talleres
ATTACH;FMTTYPE=image/png:https://escenariotlx.com/wp-content/uploads/2025/02/475849909_1011684264321764_8884966082309834050_n.png
END:VEVENT
BEGIN:VEVENT
DTSTART;TZID=America/New_York:20250213T160000
DTEND;TZID=America/New_York:20250213T190000
DTSTAMP:20260422T063448
CREATED:20250204T170556Z
LAST-MODIFIED:20250204T170556Z
UID:10000529-1739462400-1739473200@escenariotlx.com
SUMMARY:Festival Un Aplauso para el Amor
DESCRIPTION:Música en vivo con el Coro de la Ciudad de Tlaxcala y el Ensamble Yoloxochitl.\n Narraciones que tocarán tu corazón.\n Bailes latinos para encender la alegría.\n\n\nVive una tarde inolvidable y celebremos juntos el amor en todas sus formas.\n¡Entrada libre!
URL:https://escenariotlx.com/evento/festival-un-aplauso-para-el-amor/
LOCATION:Teatro Xicohténcatl
CATEGORIES:Conciertos,Festivales
ATTACH;FMTTYPE=image/png:https://escenariotlx.com/wp-content/uploads/2025/02/476070966_122135036960516515_7913252318725898436_n.png
END:VEVENT
BEGIN:VEVENT
DTSTART;TZID=America/New_York:20250213T180000
DTEND;TZID=America/New_York:20250213T200000
DTSTAMP:20260422T063448
CREATED:20250206T180406Z
LAST-MODIFIED:20250207T141945Z
UID:10000536-1739469600-1739476800@escenariotlx.com
SUMMARY:Función de Cine Homenaje a David Lynch
DESCRIPTION:Lost Hightway \nSumérgete en el fascinante mundo de lo surreal\, lo oscuro y lo inquietante con cuatro de las obras más icónicas del director estadounidense \nDavid Lynch\, reconocido cineasta estadounidense\, es una figura crucial en la historia del séptimo arte gracias a su capacidad única para explorar los rincones más oscuros y misteriosos de la experiencia humana. Su reciente fallecimiento marca el fin de una era que redefinió los límites del arte cinematográfico. Su legado es esencial para los amantes del cine y para las nuevas generaciones. \n 
URL:https://escenariotlx.com/evento/funcion-de-cine-homenaje-a-david-lynch/
LOCATION:Ocelote\, Lardizábal 1\, Col centro
CATEGORIES:Cine
ATTACH;FMTTYPE=image/png:https://escenariotlx.com/wp-content/uploads/2025/02/c1a7a24e-a5f9-454c-aa6b-9e0aceeea40c.png
END:VEVENT
BEGIN:VEVENT
DTSTART;TZID=America/New_York:20250215T110000
DTEND;TZID=America/New_York:20250215T210000
DTSTAMP:20260422T063448
CREATED:20250206T181604Z
LAST-MODIFIED:20250206T182306Z
UID:10000537-1739617200-1739653200@escenariotlx.com
SUMMARY:Expo Tatto Zacatelco 2025
DESCRIPTION:  \n 
URL:https://escenariotlx.com/evento/expo-tatto-zacatelco-2025/
LOCATION:Salon Show Palace Av. Allende Otiente 084\, Secc. Primera\, 90740 Zacatelco\, Tlax.\, Mexico
CATEGORIES:Exposición
ATTACH;FMTTYPE=image/jpeg:https://escenariotlx.com/wp-content/uploads/2025/02/zacatelco-tattoo-expo-2025.84d1b5c785bf4f98240f3586b8914bf1.jpg
END:VEVENT
BEGIN:VEVENT
DTSTART;TZID=America/New_York:20250215T130000
DTEND;TZID=America/New_York:20250215T150000
DTSTAMP:20260422T063448
CREATED:20250130T184927Z
LAST-MODIFIED:20250130T184927Z
UID:10000525-1739624400-1739631600@escenariotlx.com
SUMMARY:Taller Habitar El Interior
DESCRIPTION:Taller de escritura\nTe invitamos al taller gratuito “Habitar el interior” facilitado por la Artista Visual Monica Tadeo\, en este espacio se explorará a través de la escritura experimental las historias\, memorias que hemos olvidado o que a veces ocultamos en nuestro interior. \n\nFecha: 15 de febrero\nHorario: 1:00 pm – 3:00 pm\nTeatro Xicohténcatl SC\, Av. Juárez N. 21\, centro\, Tlaxcala\, Tlaxcala\nCupo limitado\n\n\n Inscripciones:
URL:https://escenariotlx.com/evento/taller-habitar-el-interior/
LOCATION:Teatro Xicohténcatl
CATEGORIES:Talleres
ATTACH;FMTTYPE=image/png:https://escenariotlx.com/wp-content/uploads/2025/01/475595780_1040148114820936_3309403146664410178_n.png
END:VEVENT
BEGIN:VEVENT
DTSTART;TZID=America/New_York:20250219T080000
DTEND;TZID=America/New_York:20250219T100000
DTSTAMP:20260422T063448
CREATED:20250211T175554Z
LAST-MODIFIED:20250211T175554Z
UID:10000541-1739952000-1739959200@escenariotlx.com
SUMMARY:Concierto de Instrumentos Fantásticos
DESCRIPTION:
URL:https://escenariotlx.com/evento/concierto-de-instrumentos-fantasticos/
LOCATION:Secudaria Presidete Juárez Tlaxcala
CATEGORIES:Conciertos
ATTACH;FMTTYPE=image/png:https://escenariotlx.com/wp-content/uploads/2025/02/CASA_MUSICA_ActivFeb2025-1024x791.jpg.png
END:VEVENT
BEGIN:VEVENT
DTSTART;TZID=America/New_York:20250219T183000
DTEND;TZID=America/New_York:20250219T193000
DTSTAMP:20260422T063448
CREATED:20250219T175446Z
LAST-MODIFIED:20250219T175446Z
UID:10000552-1739989800-1739993400@escenariotlx.com
SUMMARY:¡Disfruta del musical Grease hoy en Tlaxcala!
DESCRIPTION:Si eres fanático del teatro y los clásicos musicales\, no te puedes perder Grease\, una puesta en escena de CECART llena de energía\, romance y rock & roll. \nLas entradas están disponibles directamente en la taquilla del teatro\, así que asegúrate de llegar con tiempo para conseguir tu lugar y disfrutar de una noche espectacular. ¡No dejes pasar esta oportunidad de revivir la magia de Grease en vivo! 🎤✨
URL:https://escenariotlx.com/evento/disfruta-del-musical-grease-hoy-en-tlaxcala/
LOCATION:Teatro Xicohténcatl
CATEGORIES:Música,Teatro
ATTACH;FMTTYPE=image/png:https://escenariotlx.com/wp-content/uploads/2025/02/5be8153f-0c0c-4047-af08-64598a640a39.png
END:VEVENT
BEGIN:VEVENT
DTSTART;TZID=America/New_York:20250222T100000
DTEND;TZID=America/New_York:20250222T110000
DTSTAMP:20260422T063448
CREATED:20250206T182901Z
LAST-MODIFIED:20250211T175153Z
UID:10000538-1740218400-1740222000@escenariotlx.com
SUMMARY:Concierto de Música por Amor
DESCRIPTION:
URL:https://escenariotlx.com/evento/concierto-de-musica-por-amor/
LOCATION:Cada de Música Apizaco
CATEGORIES:Conciertos
ATTACH;FMTTYPE=image/png:https://escenariotlx.com/wp-content/uploads/2025/02/CASA_MUSICA_ActivFeb2025-1024x791.jpg.png
END:VEVENT
BEGIN:VEVENT
DTSTART;TZID=America/New_York:20250222T153000
DTEND;TZID=America/New_York:20250222T170000
DTSTAMP:20260422T063448
CREATED:20250221T150026Z
LAST-MODIFIED:20250221T150026Z
UID:10000556-1740238200-1740243600@escenariotlx.com
SUMMARY:Concurso de camadas de Contla 2025
DESCRIPTION:
URL:https://escenariotlx.com/evento/concurso-de-camadas-de-contla-2025/
LOCATION:Contla de Juan Cuamatzi
CATEGORIES:Concursos
ATTACH;FMTTYPE=image/png:https://escenariotlx.com/wp-content/uploads/2025/02/480608993_1194369058717826_5933663090754355901_n.png
END:VEVENT
BEGIN:VEVENT
DTSTART;TZID=America/New_York:20250223T140000
DTEND;TZID=America/New_York:20250223T150000
DTSTAMP:20260422T063448
CREATED:20250221T160950Z
LAST-MODIFIED:20250225T161555Z
UID:10000561-1740319200-1740322800@escenariotlx.com
SUMMARY:Show Payaso Huky en Tlaxcala
DESCRIPTION:
URL:https://escenariotlx.com/evento/show-payaso-huky-en-tlaxcala/
LOCATION:Centro de Tlaxcala
CATEGORIES:Exposición
ATTACH;FMTTYPE=image/jpeg:https://escenariotlx.com/wp-content/uploads/2025/02/480653593_122145505250466064_882129684563709766_n.jpg
END:VEVENT
BEGIN:VEVENT
DTSTART;TZID=America/New_York:20250224T100000
DTEND;TZID=America/New_York:20250224T180000
DTSTAMP:20260422T063448
CREATED:20250218T160959Z
LAST-MODIFIED:20250218T164312Z
UID:10000551-1740391200-1740420000@escenariotlx.com
SUMMARY:Foro: Mujeres\, Ciencia y Compromiso Social
DESCRIPTION:El CIISDER UATx te invita al Foro: Mujeres\, Ciencia y Compromiso Social \n 
URL:https://escenariotlx.com/evento/foro-mujeres-ciencia-y-compromiso-social/
LOCATION:Infoteca Central de la AUTx
CATEGORIES:Foro
ATTACH;FMTTYPE=image/jpeg:https://escenariotlx.com/wp-content/uploads/2025/02/480308798_573571965681460_7868853363997768378_n.jpg
END:VEVENT
BEGIN:VEVENT
DTSTART;TZID=America/New_York:20250225T170000
DTEND;TZID=America/New_York:20250225T180000
DTSTAMP:20260422T063448
CREATED:20250211T175726Z
LAST-MODIFIED:20250211T175726Z
UID:10000542-1740502800-1740506400@escenariotlx.com
SUMMARY:Concierto Música Por Amor
DESCRIPTION:
URL:https://escenariotlx.com/evento/concierto-musica-por-amor/
LOCATION:Casa de Música Tlaxcala
ATTACH;FMTTYPE=image/png:https://escenariotlx.com/wp-content/uploads/2025/02/CASA_MUSICA_ActivFeb2025-1024x791.jpg.png
END:VEVENT
BEGIN:VEVENT
DTSTART;TZID=America/New_York:20250226T170000
DTEND;TZID=America/New_York:20250226T180000
DTSTAMP:20260422T063448
CREATED:20250225T162359Z
LAST-MODIFIED:20250225T162359Z
UID:10000562-1740589200-1740592800@escenariotlx.com
SUMMARY:Concierto Pop/Flamenco
DESCRIPTION:
URL:https://escenariotlx.com/evento/concierto-pop-flamenco/
LOCATION:sala de conciertos Estanislao Mejía de la EMET
CATEGORIES:Conciertos
ATTACH;FMTTYPE=image/jpeg:https://escenariotlx.com/wp-content/uploads/2025/02/481050194_1146144030641483_4955415948809827045_n.jpg
END:VEVENT
BEGIN:VEVENT
DTSTART;TZID=America/New_York:20250226T170000
DTEND;TZID=America/New_York:20250226T210000
DTSTAMP:20260422T063448
CREATED:20250226T162620Z
LAST-MODIFIED:20250226T162620Z
UID:10000564-1740589200-1740603600@escenariotlx.com
SUMMARY:Noches de Museo Tlaxcala
DESCRIPTION:
URL:https://escenariotlx.com/evento/noches-de-museo-tlaxcala/
LOCATION:Museos  de Tlaxcala
CATEGORIES:Cine,Conciertos,Música,Talleres
ATTACH;FMTTYPE=image/png:https://escenariotlx.com/wp-content/uploads/2025/02/480976041_1059612456207835_3403748360583710153_n.png
END:VEVENT
BEGIN:VEVENT
DTSTART;TZID=America/New_York:20250227T160000
DTEND;TZID=America/New_York:20250227T180000
DTSTAMP:20260422T063448
CREATED:20250219T180819Z
LAST-MODIFIED:20250219T180819Z
UID:10000553-1740672000-1740679200@escenariotlx.com
SUMMARY:Desfile de Carnaval Tlaxcala
DESCRIPTION:
URL:https://escenariotlx.com/evento/desfile-de-carnaval-tlaxcala/
LOCATION:Centro de Tlaxcala
CATEGORIES:Danza
ATTACH;FMTTYPE=image/png:https://escenariotlx.com/wp-content/uploads/2025/02/480360339_632189889771757_8980261638419665976_n.png
END:VEVENT
BEGIN:VEVENT
DTSTART;TZID=America/New_York:20250228T180000
DTEND;TZID=America/New_York:20250228T200000
DTSTAMP:20260422T063448
CREATED:20250207T141749Z
LAST-MODIFIED:20250207T142032Z
UID:10000539-1740765600-1740772800@escenariotlx.com
SUMMARY:Función de Cine Wild At Heart  David Lynch
DESCRIPTION:Sumérgete en el fascinante mundo de lo surreal\, lo oscuro y lo inquietante con cuatro de las obras más icónicas del director estadounidense \nDavid Lynch\, reconocido cineasta estadounidense\, es una figura crucial en la historia del séptimo arte gracias a su capacidad única para explorar los rincones más oscuros y misteriosos de la experiencia humana. Su reciente fallecimiento marca el fin de una era que redefinió los límites del arte cinematográfico. Su legado es esencial para los amantes del cine y para las nuevas generaciones. \n 
URL:https://escenariotlx.com/evento/funcion-de-cine-wild-at-heart-david-lynch/
LOCATION:Ocelote\, Lardizábal 1\, Col centro
CATEGORIES:Cine
ATTACH;FMTTYPE=image/png:https://escenariotlx.com/wp-content/uploads/2025/02/c1a7a24e-a5f9-454c-aa6b-9e0aceeea40c.png
END:VEVENT
BEGIN:VEVENT
DTSTART;TZID=America/New_York:20250228T180000
DTEND;TZID=America/New_York:20250228T230000
DTSTAMP:20260422T063448
CREATED:20250211T180411Z
LAST-MODIFIED:20250211T180411Z
UID:10000540-1740765600-1740783600@escenariotlx.com
SUMMARY:Duranguenado Fest 2025
DESCRIPTION:
URL:https://escenariotlx.com/evento/duranguenado-fest-2025/
LOCATION:Plaza de Toros Apizaco
CATEGORIES:Conciertos
ATTACH;FMTTYPE=image/png:https://escenariotlx.com/wp-content/uploads/2025/02/472853468_1143748051087741_6965509412492288632_n.png
END:VEVENT
BEGIN:VEVENT
DTSTART;TZID=America/New_York:20250228T190000
DTEND;TZID=America/New_York:20250228T210000
DTSTAMP:20260422T063448
CREATED:20250128T173534Z
LAST-MODIFIED:20250206T172209Z
UID:10000512-1740769200-1740776400@escenariotlx.com
SUMMARY:Comersatorios Febrero 2025: Comer\, Aprender y Conversar
DESCRIPTION:Los Comersatorios son encuentros mensuales organizados por Ecoalimentos y Centro de Investigación De La Cocina Tlaxcalteca\, donde sentados a la mesa los participantes conocen propuestas gastronómicas y aprenden sobre alimentos a través del gusto que incluyen invitados especiales y temáticas distintas por mes. \nEn el mes de Febrero se lleva a acabo el Conservatorio 2025  El día 28 de Febrero del 2025\, con la temática: Café en el Centro de Investigación De La Cocina Tlaxcalteca. \nCon una aportación de $450 por persona \n @consumoconscientetlx / @cocina_tlaxcalteca  Whatsapp: 2461470237  \n  \n  \n 
URL:https://escenariotlx.com/evento/comersatorios-febrero-2025-comer-aprender-y-conversar/
LOCATION:Centro de Investigación de la Cocina Tlaxcalteca\, Zitlalpopocatl 16\, Tlaxcala\, Centro\, Tlaxcala\, Tlaxcala\, 90000\, México
CATEGORIES:Gastronomía
ATTACH;FMTTYPE=image/png:https://escenariotlx.com/wp-content/uploads/2025/01/75e5e9b6-6c77-46fe-9acb-bf577d022d4c.png
ORGANIZER;CN="Cecilia Barocio Hern%C3%A1ndez":MAILTO:ecoalimentostlax@gmail.com
END:VEVENT
END:VCALENDAR