BEGIN:VCALENDAR
VERSION:2.0
PRODID:-//Escenario Tlaxcala - ECPv6.15.16//NONSGML v1.0//EN
CALSCALE:GREGORIAN
METHOD:PUBLISH
X-WR-CALNAME:Escenario Tlaxcala
X-ORIGINAL-URL:https://escenariotlx.com
X-WR-CALDESC:Eventos para Escenario Tlaxcala
REFRESH-INTERVAL;VALUE=DURATION:PT1H
X-Robots-Tag:noindex
X-PUBLISHED-TTL:PT1H
BEGIN:VTIMEZONE
TZID:America/New_York
BEGIN:DAYLIGHT
TZOFFSETFROM:-0500
TZOFFSETTO:-0400
TZNAME:EDT
DTSTART:20240310T070000
END:DAYLIGHT
BEGIN:STANDARD
TZOFFSETFROM:-0400
TZOFFSETTO:-0500
TZNAME:EST
DTSTART:20241103T060000
END:STANDARD
BEGIN:DAYLIGHT
TZOFFSETFROM:-0500
TZOFFSETTO:-0400
TZNAME:EDT
DTSTART:20250309T070000
END:DAYLIGHT
BEGIN:STANDARD
TZOFFSETFROM:-0400
TZOFFSETTO:-0500
TZNAME:EST
DTSTART:20251102T060000
END:STANDARD
BEGIN:DAYLIGHT
TZOFFSETFROM:-0500
TZOFFSETTO:-0400
TZNAME:EDT
DTSTART:20260308T070000
END:DAYLIGHT
BEGIN:STANDARD
TZOFFSETFROM:-0400
TZOFFSETTO:-0500
TZNAME:EST
DTSTART:20261101T060000
END:STANDARD
END:VTIMEZONE
BEGIN:VEVENT
DTSTART;VALUE=DATE:20250503
DTEND;VALUE=DATE:20250504
DTSTAMP:20260420T203932
CREATED:20250421T182621Z
LAST-MODIFIED:20250421T182621Z
UID:10001750-1746230400-1746316799@escenariotlx.com
SUMMARY:Jornada de Esterilización Canina y Felina Panotla
DESCRIPTION:
URL:https://escenariotlx.com/evento/jornada-de-esterilizacion-canina-y-felina-panotla/2025-05-03/
LOCATION:Tlaxcala
CATEGORIES:Activismo
ATTACH;FMTTYPE=image/webp:https://escenariotlx.com/wp-content/uploads/2025/04/489992173_122148893066482070_7354501385750229414_n.webp
END:VEVENT
BEGIN:VEVENT
DTSTART;TZID=America/New_York:20250503T080000
DTEND;TZID=America/New_York:20250503T170000
DTSTAMP:20260420T203932
CREATED:20250410T034605Z
LAST-MODIFIED:20250410T034659Z
UID:10001360-1746259200-1746291600@escenariotlx.com
SUMMARY:Concurso de Dibujo Infantil 2025 Tlaxcala
DESCRIPTION:Para niñas y niños de 10 a 15 años.\nEnvía tu dibujo del 1 al 18 de abril.\nPremios increíbles: celular\, smartwatch y bocina Alexa.
URL:https://escenariotlx.com/evento/concurso-de-dibujo-infantil-2025-tlaxcala/2025-05-03/
LOCATION:Tlaxcala
ATTACH;FMTTYPE=image/webp:https://escenariotlx.com/wp-content/uploads/2025/04/489772417_1109149731252804_782758625862982547_n.webp
END:VEVENT
BEGIN:VEVENT
DTSTART;TZID=America/New_York:20250503T100000
DTEND;TZID=America/New_York:20250503T140000
DTSTAMP:20260420T203932
CREATED:20250312T162606Z
LAST-MODIFIED:20250312T162606Z
UID:10000765-1746266400-1746280800@escenariotlx.com
SUMMARY:Lentes Gratuitos en tu DIF Municipal
DESCRIPTION:
URL:https://escenariotlx.com/evento/lentes-gratuitos-en-tu-dif-municipal/2025-05-03/
LOCATION:Tlaxcala
CATEGORIES:Salud
ATTACH;FMTTYPE=image/jpeg:https://escenariotlx.com/wp-content/uploads/2025/03/483614520_122148954302466064_6432582906514583601_n-1.jpg
END:VEVENT
BEGIN:VEVENT
DTSTART;TZID=America/New_York:20250503T120000
DTEND;TZID=America/New_York:20250503T180000
DTSTAMP:20260420T203932
CREATED:20250410T035333Z
LAST-MODIFIED:20250410T035449Z
UID:10001715-1746273600-1746295200@escenariotlx.com
SUMMARY:Despensa a bajo costo Chiautempan
DESCRIPTION:
URL:https://escenariotlx.com/evento/despensa-a-bajo-costo-chiautempan/2025-05-03/
LOCATION:Parque Juárez de Santa Ana Chiautempan\, Hidalgo Norte colonia San Onofre\, Chiautemoan\, Tlaxcala\, 90800\, México
ATTACH;FMTTYPE=image/webp:https://escenariotlx.com/wp-content/uploads/2025/04/487439462_1064768542197780_1421191580879324328_n.webp
END:VEVENT
BEGIN:VEVENT
DTSTART;TZID=America/New_York:20250503T210000
DTEND;TZID=America/New_York:20250503T220000
DTSTAMP:20260420T203932
CREATED:20250429T145027Z
LAST-MODIFIED:20250429T145027Z
UID:10001816-1746306000-1746309600@escenariotlx.com
SUMMARY:Salsa Fest
DESCRIPTION:
URL:https://escenariotlx.com/evento/salsa-fest/
LOCATION:Unidad Deportiva Santa Cruz Tlaxcala
ATTACH;FMTTYPE=image/webp:https://escenariotlx.com/wp-content/uploads/2025/04/492342582_122153563454495748_4598732022400852582_n.webp
END:VEVENT
BEGIN:VEVENT
DTSTART;VALUE=DATE:20250504
DTEND;VALUE=DATE:20250505
DTSTAMP:20260420T203932
CREATED:20250421T182621Z
LAST-MODIFIED:20250421T182621Z
UID:10001751-1746316800-1746403199@escenariotlx.com
SUMMARY:Jornada de Esterilización Canina y Felina Panotla
DESCRIPTION:
URL:https://escenariotlx.com/evento/jornada-de-esterilizacion-canina-y-felina-panotla/2025-05-04/
LOCATION:Tlaxcala
CATEGORIES:Activismo
ATTACH;FMTTYPE=image/webp:https://escenariotlx.com/wp-content/uploads/2025/04/489992173_122148893066482070_7354501385750229414_n.webp
END:VEVENT
BEGIN:VEVENT
DTSTART;TZID=America/New_York:20250504T080000
DTEND;TZID=America/New_York:20250504T170000
DTSTAMP:20260420T203932
CREATED:20250410T034605Z
LAST-MODIFIED:20250410T034659Z
UID:10001361-1746345600-1746378000@escenariotlx.com
SUMMARY:Concurso de Dibujo Infantil 2025 Tlaxcala
DESCRIPTION:Para niñas y niños de 10 a 15 años.\nEnvía tu dibujo del 1 al 18 de abril.\nPremios increíbles: celular\, smartwatch y bocina Alexa.
URL:https://escenariotlx.com/evento/concurso-de-dibujo-infantil-2025-tlaxcala/2025-05-04/
LOCATION:Tlaxcala
ATTACH;FMTTYPE=image/webp:https://escenariotlx.com/wp-content/uploads/2025/04/489772417_1109149731252804_782758625862982547_n.webp
END:VEVENT
BEGIN:VEVENT
DTSTART;TZID=America/New_York:20250504T100000
DTEND;TZID=America/New_York:20250504T140000
DTSTAMP:20260420T203932
CREATED:20250312T162606Z
LAST-MODIFIED:20250312T162606Z
UID:10000766-1746352800-1746367200@escenariotlx.com
SUMMARY:Lentes Gratuitos en tu DIF Municipal
DESCRIPTION:
URL:https://escenariotlx.com/evento/lentes-gratuitos-en-tu-dif-municipal/2025-05-04/
LOCATION:Tlaxcala
CATEGORIES:Salud
ATTACH;FMTTYPE=image/jpeg:https://escenariotlx.com/wp-content/uploads/2025/03/483614520_122148954302466064_6432582906514583601_n-1.jpg
END:VEVENT
BEGIN:VEVENT
DTSTART;TZID=America/New_York:20250504T130000
DTEND;TZID=America/New_York:20250504T170000
DTSTAMP:20260420T203932
CREATED:20250328T050644Z
LAST-MODIFIED:20250404T165727Z
UID:10001322-1746363600-1746378000@escenariotlx.com
SUMMARY:Buffet de Ramen y Sushi en Tlaxcala
DESCRIPTION:
URL:https://escenariotlx.com/evento/buffet-de-ramen-y-sushi-en-tlaxcala/2025-05-04/
LOCATION:Ocelote Casa-Estudio
CATEGORIES:Gastronomía
ATTACH;FMTTYPE=image/webp:https://escenariotlx.com/wp-content/uploads/2025/03/WhatsApp-Image-2025-03-27-at-7.34.11-PM.webp
END:VEVENT
BEGIN:VEVENT
DTSTART;TZID=America/New_York:20250504T200000
DTEND;TZID=America/New_York:20250504T210000
DTSTAMP:20260420T203932
CREATED:20250429T145212Z
LAST-MODIFIED:20250429T145212Z
UID:10001817-1746388800-1746392400@escenariotlx.com
SUMMARY:Rodeo de Media Noche
DESCRIPTION:
URL:https://escenariotlx.com/evento/rodeo-de-media-noche/
LOCATION:Auditorio Municipal Santa Cruz Tlax
ATTACH;FMTTYPE=image/webp:https://escenariotlx.com/wp-content/uploads/2025/04/492342582_122153563454495748_4598732022400852582_n.webp
END:VEVENT
BEGIN:VEVENT
DTSTART;VALUE=DATE:20250505
DTEND;VALUE=DATE:20250506
DTSTAMP:20260420T203932
CREATED:20250421T182621Z
LAST-MODIFIED:20250421T182621Z
UID:10001752-1746403200-1746489599@escenariotlx.com
SUMMARY:Jornada de Esterilización Canina y Felina Panotla
DESCRIPTION:
URL:https://escenariotlx.com/evento/jornada-de-esterilizacion-canina-y-felina-panotla/2025-05-05/
LOCATION:Tlaxcala
CATEGORIES:Activismo
ATTACH;FMTTYPE=image/webp:https://escenariotlx.com/wp-content/uploads/2025/04/489992173_122148893066482070_7354501385750229414_n.webp
END:VEVENT
BEGIN:VEVENT
DTSTART;TZID=America/New_York:20250505T080000
DTEND;TZID=America/New_York:20250505T170000
DTSTAMP:20260420T203932
CREATED:20250410T034605Z
LAST-MODIFIED:20250410T034659Z
UID:10001362-1746432000-1746464400@escenariotlx.com
SUMMARY:Concurso de Dibujo Infantil 2025 Tlaxcala
DESCRIPTION:Para niñas y niños de 10 a 15 años.\nEnvía tu dibujo del 1 al 18 de abril.\nPremios increíbles: celular\, smartwatch y bocina Alexa.
URL:https://escenariotlx.com/evento/concurso-de-dibujo-infantil-2025-tlaxcala/2025-05-05/
LOCATION:Tlaxcala
ATTACH;FMTTYPE=image/webp:https://escenariotlx.com/wp-content/uploads/2025/04/489772417_1109149731252804_782758625862982547_n.webp
END:VEVENT
BEGIN:VEVENT
DTSTART;TZID=America/New_York:20250505T100000
DTEND;TZID=America/New_York:20250505T140000
DTSTAMP:20260420T203932
CREATED:20250312T162606Z
LAST-MODIFIED:20250312T162606Z
UID:10000767-1746439200-1746453600@escenariotlx.com
SUMMARY:Lentes Gratuitos en tu DIF Municipal
DESCRIPTION:
URL:https://escenariotlx.com/evento/lentes-gratuitos-en-tu-dif-municipal/2025-05-05/
LOCATION:Tlaxcala
CATEGORIES:Salud
ATTACH;FMTTYPE=image/jpeg:https://escenariotlx.com/wp-content/uploads/2025/03/483614520_122148954302466064_6432582906514583601_n-1.jpg
END:VEVENT
BEGIN:VEVENT
DTSTART;TZID=America/New_York:20250505T150000
DTEND;TZID=America/New_York:20250505T170000
DTSTAMP:20260420T203932
CREATED:20250408T174044Z
LAST-MODIFIED:20250408T174044Z
UID:10001330-1746457200-1746464400@escenariotlx.com
SUMMARY:Curso de Lengua de Señas Mexicanas
DESCRIPTION:
URL:https://escenariotlx.com/evento/curso-de-lengua-de-senas-mexicanas/2025-05-05/
LOCATION:Ayuntamiento de Chiautempan
ATTACH;FMTTYPE=image/webp:https://escenariotlx.com/wp-content/uploads/2025/04/489355503_1065556415452326_2538695766662402223_n.webp
END:VEVENT
BEGIN:VEVENT
DTSTART;TZID=America/New_York:20250505T200000
DTEND;TZID=America/New_York:20250505T210000
DTSTAMP:20260420T203932
CREATED:20250429T145711Z
LAST-MODIFIED:20250429T145711Z
UID:10001819-1746475200-1746478800@escenariotlx.com
SUMMARY:Ballet Folklórico
DESCRIPTION:
URL:https://escenariotlx.com/evento/ballet-folklorico/
LOCATION:Unidad Deportiva Santa Cruz Tlaxcala
CATEGORIES:Danza
ATTACH;FMTTYPE=image/webp:https://escenariotlx.com/wp-content/uploads/2025/04/492342582_122153563454495748_4598732022400852582_n.webp
END:VEVENT
BEGIN:VEVENT
DTSTART;VALUE=DATE:20250506
DTEND;VALUE=DATE:20250507
DTSTAMP:20260420T203932
CREATED:20250421T182621Z
LAST-MODIFIED:20250421T182621Z
UID:10001753-1746489600-1746575999@escenariotlx.com
SUMMARY:Jornada de Esterilización Canina y Felina Panotla
DESCRIPTION:
URL:https://escenariotlx.com/evento/jornada-de-esterilizacion-canina-y-felina-panotla/2025-05-06/
LOCATION:Tlaxcala
CATEGORIES:Activismo
ATTACH;FMTTYPE=image/webp:https://escenariotlx.com/wp-content/uploads/2025/04/489992173_122148893066482070_7354501385750229414_n.webp
END:VEVENT
BEGIN:VEVENT
DTSTART;TZID=America/New_York:20250506T080000
DTEND;TZID=America/New_York:20250506T170000
DTSTAMP:20260420T203932
CREATED:20250320T034001Z
LAST-MODIFIED:20250320T034001Z
UID:10001163-1746518400-1746550800@escenariotlx.com
SUMMARY:Curso de lenguajes de señas
DESCRIPTION:
URL:https://escenariotlx.com/evento/curso-de-lenguajes-de-senas/2025-05-06/
LOCATION:CECAPDIF
CATEGORIES:Talleres
ATTACH;FMTTYPE=image/webp:https://escenariotlx.com/wp-content/uploads/2025/03/485608985_1106028644897717_830295256323258565_n.webp
END:VEVENT
BEGIN:VEVENT
DTSTART;TZID=America/New_York:20250506T080000
DTEND;TZID=America/New_York:20250506T170000
DTSTAMP:20260420T203932
CREATED:20250410T034605Z
LAST-MODIFIED:20250410T034659Z
UID:10001363-1746518400-1746550800@escenariotlx.com
SUMMARY:Concurso de Dibujo Infantil 2025 Tlaxcala
DESCRIPTION:Para niñas y niños de 10 a 15 años.\nEnvía tu dibujo del 1 al 18 de abril.\nPremios increíbles: celular\, smartwatch y bocina Alexa.
URL:https://escenariotlx.com/evento/concurso-de-dibujo-infantil-2025-tlaxcala/2025-05-06/
LOCATION:Tlaxcala
ATTACH;FMTTYPE=image/webp:https://escenariotlx.com/wp-content/uploads/2025/04/489772417_1109149731252804_782758625862982547_n.webp
END:VEVENT
BEGIN:VEVENT
DTSTART;TZID=America/New_York:20250506T100000
DTEND;TZID=America/New_York:20250506T140000
DTSTAMP:20260420T203932
CREATED:20250312T162606Z
LAST-MODIFIED:20250312T162606Z
UID:10000768-1746525600-1746540000@escenariotlx.com
SUMMARY:Lentes Gratuitos en tu DIF Municipal
DESCRIPTION:
URL:https://escenariotlx.com/evento/lentes-gratuitos-en-tu-dif-municipal/2025-05-06/
LOCATION:Tlaxcala
CATEGORIES:Salud
ATTACH;FMTTYPE=image/jpeg:https://escenariotlx.com/wp-content/uploads/2025/03/483614520_122148954302466064_6432582906514583601_n-1.jpg
END:VEVENT
BEGIN:VEVENT
DTSTART;TZID=America/New_York:20250506T160000
DTEND;TZID=America/New_York:20250506T170000
DTSTAMP:20260420T203932
CREATED:20250304T043117Z
LAST-MODIFIED:20250304T043117Z
UID:10000583-1746547200-1746550800@escenariotlx.com
SUMMARY:Taller Entre Arcanos y Pinceles
DESCRIPTION:
URL:https://escenariotlx.com/evento/taller-entre-arcanos-y-pinceles/2025-05-06/
LOCATION:Pinacoteca del Estado\, Av. Guerrero #15\, Tlaxcala\, Tlaxcala\, México
CATEGORIES:Talleres
ATTACH;FMTTYPE=image/png:https://escenariotlx.com/wp-content/uploads/2025/03/89a89b99-7cd9-4987-b009-7a364083d617.png
END:VEVENT
BEGIN:VEVENT
DTSTART;TZID=America/New_York:20250506T160000
DTEND;TZID=America/New_York:20250506T180000
DTSTAMP:20260420T203932
CREATED:20250312T161857Z
LAST-MODIFIED:20250312T161857Z
UID:10000659-1746547200-1746554400@escenariotlx.com
SUMMARY:Taller profesional: Maquillaje Artístico\, hair style y Fashion Show
DESCRIPTION:Información e inscripciones:\n\n\nOficina de Coordinación del Centro de las Artes Tlaxcala\, Fernando Solana 1\, Primera Sección\, San Luis Apizaquito\, Apizaco\, Tlaxcala\, C.P. 90401.\n\n\nTel. 2414188960 Ext. 164
URL:https://escenariotlx.com/evento/taller-profesional-maquillaje-artistico-hair-style-y-fashion-show/2025-05-06/
LOCATION:Centro de las Artes Tlaxcala
CATEGORIES:Talleres
ATTACH;FMTTYPE=image/jpeg:https://escenariotlx.com/wp-content/uploads/2025/03/476865763_1039803058176551_7531445438528313020_n-1.jpg
END:VEVENT
BEGIN:VEVENT
DTSTART;VALUE=DATE:20250507
DTEND;VALUE=DATE:20250508
DTSTAMP:20260420T203933
CREATED:20250421T182621Z
LAST-MODIFIED:20250421T182621Z
UID:10001754-1746576000-1746662399@escenariotlx.com
SUMMARY:Jornada de Esterilización Canina y Felina Panotla
DESCRIPTION:
URL:https://escenariotlx.com/evento/jornada-de-esterilizacion-canina-y-felina-panotla/2025-05-07/
LOCATION:Tlaxcala
CATEGORIES:Activismo
ATTACH;FMTTYPE=image/webp:https://escenariotlx.com/wp-content/uploads/2025/04/489992173_122148893066482070_7354501385750229414_n.webp
END:VEVENT
BEGIN:VEVENT
DTSTART;TZID=America/New_York:20250507T080000
DTEND;TZID=America/New_York:20250507T170000
DTSTAMP:20260420T203933
CREATED:20250410T034605Z
LAST-MODIFIED:20250410T034659Z
UID:10001364-1746604800-1746637200@escenariotlx.com
SUMMARY:Concurso de Dibujo Infantil 2025 Tlaxcala
DESCRIPTION:Para niñas y niños de 10 a 15 años.\nEnvía tu dibujo del 1 al 18 de abril.\nPremios increíbles: celular\, smartwatch y bocina Alexa.
URL:https://escenariotlx.com/evento/concurso-de-dibujo-infantil-2025-tlaxcala/2025-05-07/
LOCATION:Tlaxcala
ATTACH;FMTTYPE=image/webp:https://escenariotlx.com/wp-content/uploads/2025/04/489772417_1109149731252804_782758625862982547_n.webp
END:VEVENT
BEGIN:VEVENT
DTSTART;TZID=America/New_York:20250507T100000
DTEND;TZID=America/New_York:20250507T140000
DTSTAMP:20260420T203933
CREATED:20250312T162606Z
LAST-MODIFIED:20250312T162606Z
UID:10000769-1746612000-1746626400@escenariotlx.com
SUMMARY:Lentes Gratuitos en tu DIF Municipal
DESCRIPTION:
URL:https://escenariotlx.com/evento/lentes-gratuitos-en-tu-dif-municipal/2025-05-07/
LOCATION:Tlaxcala
CATEGORIES:Salud
ATTACH;FMTTYPE=image/jpeg:https://escenariotlx.com/wp-content/uploads/2025/03/483614520_122148954302466064_6432582906514583601_n-1.jpg
END:VEVENT
BEGIN:VEVENT
DTSTART;TZID=America/New_York:20250507T180000
DTEND;TZID=America/New_York:20250507T190000
DTSTAMP:20260420T203933
CREATED:20250423T183838Z
LAST-MODIFIED:20250423T183955Z
UID:10001799-1746640800-1746644400@escenariotlx.com
SUMMARY:Serenata para mamá
DESCRIPTION:
URL:https://escenariotlx.com/evento/serenata-para-mama/
LOCATION:Teatro Xicohténcatl
CATEGORIES:Música
ATTACH;FMTTYPE=image/webp:https://escenariotlx.com/wp-content/uploads/2025/04/491832512_1101623988673348_1838493249572332420_n.webp
END:VEVENT
BEGIN:VEVENT
DTSTART;VALUE=DATE:20250508
DTEND;VALUE=DATE:20250509
DTSTAMP:20260420T203933
CREATED:20250421T182621Z
LAST-MODIFIED:20250421T182621Z
UID:10001755-1746662400-1746748799@escenariotlx.com
SUMMARY:Jornada de Esterilización Canina y Felina Panotla
DESCRIPTION:
URL:https://escenariotlx.com/evento/jornada-de-esterilizacion-canina-y-felina-panotla/2025-05-08/
LOCATION:Tlaxcala
CATEGORIES:Activismo
ATTACH;FMTTYPE=image/webp:https://escenariotlx.com/wp-content/uploads/2025/04/489992173_122148893066482070_7354501385750229414_n.webp
END:VEVENT
BEGIN:VEVENT
DTSTART;TZID=America/New_York:20250508T080000
DTEND;TZID=America/New_York:20250508T170000
DTSTAMP:20260420T203933
CREATED:20250410T034605Z
LAST-MODIFIED:20250410T034659Z
UID:10001365-1746691200-1746723600@escenariotlx.com
SUMMARY:Concurso de Dibujo Infantil 2025 Tlaxcala
DESCRIPTION:Para niñas y niños de 10 a 15 años.\nEnvía tu dibujo del 1 al 18 de abril.\nPremios increíbles: celular\, smartwatch y bocina Alexa.
URL:https://escenariotlx.com/evento/concurso-de-dibujo-infantil-2025-tlaxcala/2025-05-08/
LOCATION:Tlaxcala
ATTACH;FMTTYPE=image/webp:https://escenariotlx.com/wp-content/uploads/2025/04/489772417_1109149731252804_782758625862982547_n.webp
END:VEVENT
BEGIN:VEVENT
DTSTART;TZID=America/New_York:20250508T100000
DTEND;TZID=America/New_York:20250508T140000
DTSTAMP:20260420T203933
CREATED:20250312T162606Z
LAST-MODIFIED:20250312T162606Z
UID:10000770-1746698400-1746712800@escenariotlx.com
SUMMARY:Lentes Gratuitos en tu DIF Municipal
DESCRIPTION:
URL:https://escenariotlx.com/evento/lentes-gratuitos-en-tu-dif-municipal/2025-05-08/
LOCATION:Tlaxcala
CATEGORIES:Salud
ATTACH;FMTTYPE=image/jpeg:https://escenariotlx.com/wp-content/uploads/2025/03/483614520_122148954302466064_6432582906514583601_n-1.jpg
END:VEVENT
BEGIN:VEVENT
DTSTART;VALUE=DATE:20250509
DTEND;VALUE=DATE:20250510
DTSTAMP:20260420T203933
CREATED:20250421T182621Z
LAST-MODIFIED:20250421T182621Z
UID:10001756-1746748800-1746835199@escenariotlx.com
SUMMARY:Jornada de Esterilización Canina y Felina Panotla
DESCRIPTION:
URL:https://escenariotlx.com/evento/jornada-de-esterilizacion-canina-y-felina-panotla/2025-05-09/
LOCATION:Tlaxcala
CATEGORIES:Activismo
ATTACH;FMTTYPE=image/webp:https://escenariotlx.com/wp-content/uploads/2025/04/489992173_122148893066482070_7354501385750229414_n.webp
END:VEVENT
BEGIN:VEVENT
DTSTART;TZID=America/New_York:20250509T080000
DTEND;TZID=America/New_York:20250509T170000
DTSTAMP:20260420T203933
CREATED:20250410T034605Z
LAST-MODIFIED:20250410T034659Z
UID:10001366-1746777600-1746810000@escenariotlx.com
SUMMARY:Concurso de Dibujo Infantil 2025 Tlaxcala
DESCRIPTION:Para niñas y niños de 10 a 15 años.\nEnvía tu dibujo del 1 al 18 de abril.\nPremios increíbles: celular\, smartwatch y bocina Alexa.
URL:https://escenariotlx.com/evento/concurso-de-dibujo-infantil-2025-tlaxcala/2025-05-09/
LOCATION:Tlaxcala
ATTACH;FMTTYPE=image/webp:https://escenariotlx.com/wp-content/uploads/2025/04/489772417_1109149731252804_782758625862982547_n.webp
END:VEVENT
END:VCALENDAR