BEGIN:VCALENDAR
VERSION:2.0
PRODID:-//Escenario Tlaxcala - ECPv6.15.16//NONSGML v1.0//EN
CALSCALE:GREGORIAN
METHOD:PUBLISH
X-ORIGINAL-URL:https://escenariotlx.com
X-WR-CALDESC:Eventos para Escenario Tlaxcala
REFRESH-INTERVAL;VALUE=DURATION:PT1H
X-Robots-Tag:noindex
X-PUBLISHED-TTL:PT1H
BEGIN:VTIMEZONE
TZID:America/New_York
BEGIN:DAYLIGHT
TZOFFSETFROM:-0500
TZOFFSETTO:-0400
TZNAME:EDT
DTSTART:20220313T070000
END:DAYLIGHT
BEGIN:STANDARD
TZOFFSETFROM:-0400
TZOFFSETTO:-0500
TZNAME:EST
DTSTART:20221106T060000
END:STANDARD
BEGIN:DAYLIGHT
TZOFFSETFROM:-0500
TZOFFSETTO:-0400
TZNAME:EDT
DTSTART:20230312T070000
END:DAYLIGHT
BEGIN:STANDARD
TZOFFSETFROM:-0400
TZOFFSETTO:-0500
TZNAME:EST
DTSTART:20231105T060000
END:STANDARD
BEGIN:DAYLIGHT
TZOFFSETFROM:-0500
TZOFFSETTO:-0400
TZNAME:EDT
DTSTART:20240310T070000
END:DAYLIGHT
BEGIN:STANDARD
TZOFFSETFROM:-0400
TZOFFSETTO:-0500
TZNAME:EST
DTSTART:20241103T060000
END:STANDARD
END:VTIMEZONE
BEGIN:VEVENT
DTSTART;TZID=America/New_York:20230816T160000
DTEND;TZID=America/New_York:20231115T190000
DTSTAMP:20260422T081840
CREATED:20230814T191945Z
LAST-MODIFIED:20230814T192019Z
UID:10000431-1692201600-1700074800@escenariotlx.com
SUMMARY:Taller de recuperación de la lengua Yuhmú
DESCRIPTION:Como parte de la promoción y divulgación del patrimonio cultural\, material e inmaterial de Tlaxcala la Secretaría de Cultura de Tlaxcala al taller «Aprendamos Yumhú\, Pepenando palabras» recuperación de la lengua. \nEn el Centro Cultural de Ixtenco\, calle 11 Sur número 3 Barrio San Antonio Segundo\, Ixtenco Tlaxcala. Los días miércoles y jueves del 16 de agosto al 15 de noviembre en un horario de 16:00 hrs a 19:00\, la modalidad es presencial para público a partir de los 9 años en adelante. \nTaller totalmente gratuito. \nMayores informes: 247 138 2134
URL:https://escenariotlx.com/evento/taller-de-recuperacion-de-la-lengua-yuhmu/
LOCATION:Centro Cultural de Ixtenco
ATTACH;FMTTYPE=image/jpeg:https://escenariotlx.com/wp-content/uploads/2023/08/WhatsApp-Image-2023-08-14-at-13.18.00.jpeg
END:VEVENT
BEGIN:VEVENT
DTSTART;TZID=America/New_York:20231110T080000
DTEND;TZID=America/New_York:20231119T170000
DTSTAMP:20260422T081840
CREATED:20230911T173147Z
LAST-MODIFIED:20230911T173155Z
UID:10000453-1699603200-1700413200@escenariotlx.com
SUMMARY:Feria Internacional del libro Infantil y Juvenil Filij41 en Tlaxcala
DESCRIPTION:¡Buenas noticias para los amantes de la literatura en Tlaxcala! \nNuestro estado será sede la 41 Feria Internacional del libro Infantil y Juvenil Filij41\, que será del 10 al 19 de noviembre en Tlaxcala Centro\, Ixtenco y San Pablo del Monte. \nLa entrada es libre… ¡Te esperamos con los libros abiertos! \n\nConoce a la comunidad con membresía Escenario Tlaxcala que nos permite seguir haciendo periodismo independiente dando clic aquí.
URL:https://escenariotlx.com/evento/feria-internacional-del-libro-infantil-y-juvenil-filij41-en-tlaxcala/
LOCATION:Secretaría de Cultura\, Av. Juárez no. 62\, Centro\, Tlaxcala
ATTACH;FMTTYPE=image/jpeg:https://escenariotlx.com/wp-content/uploads/2023/09/23b1ca85-61c0-4b77-a20f-57141ba735bc.jpeg
END:VEVENT
BEGIN:VEVENT
DTSTART;TZID=America/New_York:20231130T193000
DTEND;TZID=America/New_York:20231221T193000
DTSTAMP:20260422T081840
CREATED:20231114T181501Z
LAST-MODIFIED:20231114T181501Z
UID:10000473-1701372600-1703187000@escenariotlx.com
SUMMARY:Se presenta la pastorela cómica “Una orden al pastor” en Zacatelco\, ¡métela en tu agenda!
DESCRIPTION:La pastorela cabaretera “Una orden al pastor” se presentará en la Cervecería Niños Héroes como parte de los jueves de teatro\, con una producción de Imprudentes Teatro y con la dramaturgia y dirección escénica de Juan Munchi los días 30 de noviembre\, 7\, 14 y 21 de diciembre con una cuota de recuperación de $100 pesos por persona. \nImprudentes Teatro y la Cervecería Niños Héroes invitan a cabaretear a toda la comunidad de Zacatelco y sus alrededores con la pastorela cómica “Una orden al pastor”. Ven a conocer a una pareja de pastores millennials bellakosos que en tiempos electorales harán todo lo posible por seguir el camino que indica la estrella de Belén en el cielo gris y nublado de Tlaxcala. \n¿Lograrán ver el nacimiento del niñito dios a pesar de los obstáculos presupuestales? \nVen a descubrirlo los jueves de Teatro a partir de las 7:30 pm\, la cuota de recuperación es de $100 pesos. Las funciones serán los días 30 de noviembre\, 7\, 14 y 21 de diciembre en las instalaciones de la Cervecería Niños Héroes en la Calle Niños Héroes número 19 en Zacatelco\, Tlaxcala. Además la cervecería cuenta con estacionamiento gratuito. \nEl elenco está integrado por Mauricio Reyes\, Yered García\, Karen Arcega\, Eglón Mendoza y Samantha Moreno bajo la dirección del actor cabaretero Juan Munchi quien también es el autor de esta ácida pastorela. \nPara conseguir boletos es necesario hacer reservaciones a través de whatsapp a los números 22 15 83 49 49 y 22 12 66 80 20 o manda DM enlasredessocialesdeFBe Ig de Imprudentes Teatro y Cervecería Niños Héroes.
URL:https://escenariotlx.com/evento/pastorela-una-orden-al-pastor-en-zacatelco/
LOCATION:Cerveceria Niños Héroes Zacatelco\, Calle Niños Héroes #19\, Zacatelco\, Tlaxcala\, Mexico
CATEGORIES:Teatro
ATTACH;FMTTYPE=image/jpeg:https://escenariotlx.com/wp-content/uploads/2023/11/WhatsApp-Image-2023-11-14-at-12.06.19.jpeg
END:VEVENT
END:VCALENDAR